BEGIN:VCALENDAR
VERSION:2.0
PRODID:-//Special Pals - ECPv6.15.20//NONSGML v1.0//EN
CALSCALE:GREGORIAN
METHOD:PUBLISH
X-WR-CALNAME:Special Pals
X-ORIGINAL-URL:https://specialpals.org
X-WR-CALDESC:Events for Special Pals
REFRESH-INTERVAL;VALUE=DURATION:PT1H
X-Robots-Tag:noindex
X-PUBLISHED-TTL:PT1H
BEGIN:VTIMEZONE
TZID:UTC
BEGIN:STANDARD
TZOFFSETFROM:+0000
TZOFFSETTO:+0000
TZNAME:UTC
DTSTART:20230101T000000
END:STANDARD
END:VTIMEZONE
BEGIN:VEVENT
DTSTART;TZID=UTC:20241101T110000
DTEND;TZID=UTC:20241101T130000
DTSTAMP:20260424T185039
CREATED:20241101T104314Z
LAST-MODIFIED:20241101T104314Z
UID:22625-1730458800-1730466000@specialpals.org
SUMMARY:Low-Cost Shot Clinic Nov 1st
DESCRIPTION:Walk-ins only\, no appointment needed! \nOur walk-in low-cost shot clinic offers yearly vaccines\, preventative flea and heartworm medication\, heartworm testing\, and microchipping. \nWe are not a full-service vet and have a limited number of services. Please keep your pal safe by bringing them to our facility on a leash or in a carrier. \nThank you for your support!
URL:https://specialpals.org/event/low-cost-shot-clinic-nov-1st/
LOCATION:Special Pals\, 3830 Greenhouse Rd.\, Houston\, 77084\, United States
ATTACH;FMTTYPE=image/png:https://specialpals.org/wp-content/uploads/7-e1706489058461.png
END:VEVENT
BEGIN:VEVENT
DTSTART;TZID=UTC:20241107T110000
DTEND;TZID=UTC:20241107T130000
DTSTAMP:20260424T185039
CREATED:20241101T104509Z
LAST-MODIFIED:20241101T104509Z
UID:22627-1730977200-1730984400@specialpals.org
SUMMARY:Low-Cost Shot Clinic Nov 7th
DESCRIPTION:Walk-ins only\, no appointment needed! \nOur walk-in low-cost shot clinic offers yearly vaccines\, preventative flea and heartworm medication\, heartworm testing\, and microchipping. \nWe are not a full-service vet and have a limited number of services. Please keep your pal safe by bringing them to our facility on a leash or in a carrier. \nThank you for your support!
URL:https://specialpals.org/event/low-cost-shot-clinic-nov-7th/
LOCATION:Special Pals\, 3830 Greenhouse Rd.\, Houston\, 77084\, United States
ATTACH;FMTTYPE=image/png:https://specialpals.org/wp-content/uploads/7-e1706489058461.png
END:VEVENT
BEGIN:VEVENT
DTSTART;TZID=UTC:20241110T120000
DTEND;TZID=UTC:20241110T133000
DTSTAMP:20260424T185039
CREATED:20241110T232638Z
LAST-MODIFIED:20241110T232638Z
UID:22954-1731240000-1731245400@specialpals.org
SUMMARY:Puppy Yoga at Katy Beer Garden
DESCRIPTION: Join Us for Puppy Yoga at Katy Beer Garden! \nHey\, yoga lovers and dog enthusiasts! We’re so excited to invite you to a special day on Sunday\, November 10th\, where we’ll be combining two of our favorite things: yoga and puppies! \nChoose from two sessions: 12:00 – 12:30 PM 12:45 – 1:15 PM\nIn partnership with YogaSix and Special Pals\, this event is perfect for ages 12+.\n Tickets: Just $15 per person!Don’t forget to grab your ticket in advance—spots are limited!\nCome roll out your mat\, meet some adorable pups\, and enjoy a day filled with puppy love\, laughter\, and relaxation. We can’t wait to see you there! 
URL:https://specialpals.org/event/puppy-yoga-at-katy-beer-garden/
LOCATION:Puppy Yoga\, 5345 E 3rd St\, Katy\, Texas\, 77493
ATTACH;FMTTYPE=image/jpeg:https://specialpals.org/wp-content/uploads/Puppy-yoga.jpg
END:VEVENT
BEGIN:VEVENT
DTSTART;TZID=UTC:20241115T110000
DTEND;TZID=UTC:20241115T130000
DTSTAMP:20260424T185039
CREATED:20241101T104553Z
LAST-MODIFIED:20241101T104553Z
UID:22628-1731668400-1731675600@specialpals.org
SUMMARY:Low-Cost Shot Clinic Nov 15th
DESCRIPTION:Walk-ins only\, no appointment needed! \nOur walk-in low-cost shot clinic offers yearly vaccines\, preventative flea and heartworm medication\, heartworm testing\, and microchipping. \nWe are not a full-service vet and have a limited number of services. Please keep your pal safe by bringing them to our facility on a leash or in a carrier. \nThank you for your support!
URL:https://specialpals.org/event/low-cost-shot-clinic-nov-15th/
LOCATION:Special Pals\, 3830 Greenhouse Rd.\, Houston\, 77084\, United States
ATTACH;FMTTYPE=image/png:https://specialpals.org/wp-content/uploads/7-e1706489058461.png
END:VEVENT
BEGIN:VEVENT
DTSTART;TZID=UTC:20241122T110000
DTEND;TZID=UTC:20241122T130000
DTSTAMP:20260424T185039
CREATED:20241101T104633Z
LAST-MODIFIED:20241101T104633Z
UID:22631-1732273200-1732280400@specialpals.org
SUMMARY:Low-Cost Shot Clinic Nov 22nd
DESCRIPTION:Walk-ins only\, no appointment needed! \nOur walk-in low-cost shot clinic offers yearly vaccines\, preventative flea and heartworm medication\, heartworm testing\, and microchipping. \nWe are not a full-service vet and have a limited number of services. Please keep your pal safe by bringing them to our facility on a leash or in a carrier. \nThank you for your support!
URL:https://specialpals.org/event/low-cost-shot-clinic-nov-22nd/
LOCATION:Special Pals\, 3830 Greenhouse Rd.\, Houston\, 77084\, United States
ATTACH;FMTTYPE=image/png:https://specialpals.org/wp-content/uploads/7-e1706489058461.png
END:VEVENT
BEGIN:VEVENT
DTSTART;TZID=UTC:20241123T120000
DTEND;TZID=UTC:20241123T150000
DTSTAMP:20260424T185039
CREATED:20241101T104754Z
LAST-MODIFIED:20241101T104754Z
UID:22633-1732363200-1732374000@specialpals.org
SUMMARY:Adoption day at Willowbrook Mall
DESCRIPTION:Come meet adoptable dogs and cats at a special mobile adoption event at Willowbrook Mall! Find Special Pals and our adoptable dogs and cats inside the mall\, Center Court next to H&M.\n\nWe will be collecting donations from our wishlist and will have plenty of t-shirts too! Stop by and say hi\, and show your support for Special Pals!
URL:https://specialpals.org/event/adoption-day-at-willowbrook-mall-8/
LOCATION:Willowbrook\, 2000 Willowbrook Mall\, Houston\, TX\, 77070\, United States
ATTACH;FMTTYPE=image/png:https://specialpals.org/wp-content/uploads/Willowbrook-1.png
END:VEVENT
BEGIN:VEVENT
DTSTART;TZID=UTC:20241129T110000
DTEND;TZID=UTC:20241129T130000
DTSTAMP:20260424T185039
CREATED:20241123T042303Z
LAST-MODIFIED:20241123T042303Z
UID:23643-1732878000-1732885200@specialpals.org
SUMMARY:Low-Cost Shot Clinic Nov 29th
DESCRIPTION:Walk-ins only\, no appointment needed! \nOur walk-in low-cost shot clinic offers yearly vaccines\, preventative flea and heartworm medication\, heartworm testing\, and microchipping. \nWe are not a full-service vet and have a limited number of services. Please keep your pal safe by bringing them to our facility on a leash or in a carrier. \nThank you for your support!
URL:https://specialpals.org/event/low-cost-shot-clinic-nov-29th/
LOCATION:Special Pals\, 3830 Greenhouse Rd.\, Houston\, 77084\, United States
ATTACH;FMTTYPE=image/png:https://specialpals.org/wp-content/uploads/7-e1706489058461.png
END:VEVENT
END:VCALENDAR