BEGIN:VCALENDAR
VERSION:2.0
PRODID:-//Special Pals - ECPv6.15.20//NONSGML v1.0//EN
CALSCALE:GREGORIAN
METHOD:PUBLISH
X-WR-CALNAME:Special Pals
X-ORIGINAL-URL:https://specialpals.org
X-WR-CALDESC:Events for Special Pals
REFRESH-INTERVAL;VALUE=DURATION:PT1H
X-Robots-Tag:noindex
X-PUBLISHED-TTL:PT1H
BEGIN:VTIMEZONE
TZID:UTC
BEGIN:STANDARD
TZOFFSETFROM:+0000
TZOFFSETTO:+0000
TZNAME:UTC
DTSTART:20230101T000000
END:STANDARD
END:VTIMEZONE
BEGIN:VEVENT
DTSTART;TZID=UTC:20240302T120000
DTEND;TZID=UTC:20240302T150000
DTSTAMP:20260425T094446
CREATED:20240222T005551Z
LAST-MODIFIED:20240222T005551Z
UID:20183-1709380800-1709391600@specialpals.org
SUMMARY:Adoption day at Willowbrook Mall
DESCRIPTION:Come meet adoptable dogs and cats at a special mobile adoption event at Willowbrook Mall! Find Special Pals and our adoptable dogs and cats inside the mall\, Center Court next to H&M.\n\nWe will be collecting donations from our wishlist and will have plenty of t-shirts too! Stop by and say hi\, and show your support for Special Pals!
URL:https://specialpals.org/event/adoption-day-at-willowbrook-mall/
LOCATION:Willowbrook\, 2000 Willowbrook Mall\, Houston\, TX\, 77070\, United States
ATTACH;FMTTYPE=image/png:https://specialpals.org/wp-content/uploads/Willowbrook-1.png
END:VEVENT
BEGIN:VEVENT
DTSTART;TZID=UTC:20240308T110000
DTEND;TZID=UTC:20240308T130000
DTSTAMP:20260425T094446
CREATED:20240308T004625Z
LAST-MODIFIED:20240308T004625Z
UID:20215-1709895600-1709902800@specialpals.org
SUMMARY:Low-Cost Shot Clinic March 8th
DESCRIPTION:Walk-ins only\, no appointment needed! \nOur walk-in low-cost shot clinic offers yearly vaccines\, preventative flea and heartworm medication\, heartworm testing\, and microchipping. \nWe are not a full-service vet and have a limited number of services. Please keep your pal safe by bringing them to our facility on a leash or in a carrier. \nThank you for your support!
URL:https://specialpals.org/event/low-cost-shot-clinic-march-8th/
LOCATION:Special Pals\, 3830 Greenhouse Rd.\, Houston\, 77084\, United States
ATTACH;FMTTYPE=image/png:https://specialpals.org/wp-content/uploads/7-e1706489058461.png
END:VEVENT
BEGIN:VEVENT
DTSTART;TZID=UTC:20240315T110000
DTEND;TZID=UTC:20240315T130000
DTSTAMP:20260425T094446
CREATED:20240308T004703Z
LAST-MODIFIED:20240308T004703Z
UID:20217-1710500400-1710507600@specialpals.org
SUMMARY:Low-Cost Shot Clinic March 15th
DESCRIPTION:Walk-ins only\, no appointment needed! \nOur walk-in low-cost shot clinic offers yearly vaccines\, preventative flea and heartworm medication\, heartworm testing\, and microchipping. \nWe are not a full-service vet and have a limited number of services. Please keep your pal safe by bringing them to our facility on a leash or in a carrier. \nThank you for your support!
URL:https://specialpals.org/event/low-cost-shot-clinic-march-15th/
LOCATION:Special Pals\, 3830 Greenhouse Rd.\, Houston\, 77084\, United States
ATTACH;FMTTYPE=image/png:https://specialpals.org/wp-content/uploads/7-e1706489058461.png
END:VEVENT
BEGIN:VEVENT
DTSTART;TZID=UTC:20240322T110000
DTEND;TZID=UTC:20240322T130000
DTSTAMP:20260425T094446
CREATED:20240308T004729Z
LAST-MODIFIED:20240308T004729Z
UID:20219-1711105200-1711112400@specialpals.org
SUMMARY:Low-Cost Shot Clinic March 22nd
DESCRIPTION:Walk-ins only\, no appointment needed! \nOur walk-in low-cost shot clinic offers yearly vaccines\, preventative flea and heartworm medication\, heartworm testing\, and microchipping. \nWe are not a full-service vet and have a limited number of services. Please keep your pal safe by bringing them to our facility on a leash or in a carrier. \nThank you for your support!
URL:https://specialpals.org/event/low-cost-shot-clinic-march-22nd/
LOCATION:Special Pals\, 3830 Greenhouse Rd.\, Houston\, 77084\, United States
ATTACH;FMTTYPE=image/png:https://specialpals.org/wp-content/uploads/7-e1706489058461.png
END:VEVENT
BEGIN:VEVENT
DTSTART;TZID=UTC:20240329T110000
DTEND;TZID=UTC:20240329T130000
DTSTAMP:20260425T094446
CREATED:20240308T005747Z
LAST-MODIFIED:20240308T005747Z
UID:20222-1711710000-1711717200@specialpals.org
SUMMARY:Low-Cost Shot Clinic March 29th
DESCRIPTION:Walk-ins only\, no appointment needed! \nOur walk-in low-cost shot clinic offers yearly vaccines\, preventative flea and heartworm medication\, heartworm testing\, and microchipping. \nWe are not a full-service vet and have a limited number of services. Please keep your pal safe by bringing them to our facility on a leash or in a carrier. \nThank you for your support!
URL:https://specialpals.org/event/low-cost-shot-clinic-march-29th/
LOCATION:Special Pals\, 3830 Greenhouse Rd.\, Houston\, 77084\, United States
ATTACH;FMTTYPE=image/png:https://specialpals.org/wp-content/uploads/7-e1706489058461.png
END:VEVENT
END:VCALENDAR