BEGIN:VCALENDAR
VERSION:2.0
PRODID:-//Special Pals - ECPv6.15.20//NONSGML v1.0//EN
CALSCALE:GREGORIAN
METHOD:PUBLISH
X-WR-CALNAME:Special Pals
X-ORIGINAL-URL:https://specialpals.org
X-WR-CALDESC:Events for Special Pals
REFRESH-INTERVAL;VALUE=DURATION:PT1H
X-Robots-Tag:noindex
X-PUBLISHED-TTL:PT1H
BEGIN:VTIMEZONE
TZID:UTC
BEGIN:STANDARD
TZOFFSETFROM:+0000
TZOFFSETTO:+0000
TZNAME:UTC
DTSTART:20230101T000000
END:STANDARD
END:VTIMEZONE
BEGIN:VEVENT
DTSTART;TZID=UTC:20240201T110000
DTEND;TZID=UTC:20240201T130000
DTSTAMP:20260425T112632
CREATED:20240129T064437Z
LAST-MODIFIED:20240129T065206Z
UID:20156-1706785200-1706792400@specialpals.org
SUMMARY:Low-Cost Shot Clinic February 1st
DESCRIPTION:Walk-ins only\, no appointment needed! \nOur walk-in low-cost shot clinic offers yearly vaccines\, preventative flea and heartworm medication\, heartworm testing\, and microchipping. \nWe are not a full-service vet and have a limited number of services. Please keep your pal safe by bringing them to our facility on a leash or in a carrier. \nThank you for your support!
URL:https://specialpals.org/event/low-cost-shot-clinic/
LOCATION:Special Pals\, 3830 Greenhouse Rd.\, Houston\, 77084\, United States
ATTACH;FMTTYPE=image/png:https://specialpals.org/wp-content/uploads/7-e1706489058461.png
END:VEVENT
BEGIN:VEVENT
DTSTART;TZID=UTC:20240209T110000
DTEND;TZID=UTC:20240209T130000
DTSTAMP:20260425T112632
CREATED:20240129T094806Z
LAST-MODIFIED:20240129T094806Z
UID:20159-1707476400-1707483600@specialpals.org
SUMMARY:Low-Cost Shot Clinic February 9th
DESCRIPTION:Walk-ins only\, no appointment needed! \nOur walk-in low-cost shot clinic offers yearly vaccines\, preventative flea and heartworm medication\, heartworm testing\, and microchipping. \nWe are not a full-service vet and have a limited number of services. Please keep your pal safe by bringing them to our facility on a leash or in a carrier. \nThank you for your support!
URL:https://specialpals.org/event/low-cost-shot-clinic-february-9th/
LOCATION:Special Pals\, 3830 Greenhouse Rd.\, Houston\, 77084\, United States
ATTACH;FMTTYPE=image/png:https://specialpals.org/wp-content/uploads/7-e1706489058461.png
END:VEVENT
BEGIN:VEVENT
DTSTART;TZID=UTC:20240216T110000
DTEND;TZID=UTC:20240216T130000
DTSTAMP:20260425T112632
CREATED:20240129T094837Z
LAST-MODIFIED:20240129T094837Z
UID:20161-1708081200-1708088400@specialpals.org
SUMMARY:Low-Cost Shot Clinic February 16th
DESCRIPTION:Walk-ins only\, no appointment needed! \nOur walk-in low-cost shot clinic offers yearly vaccines\, preventative flea and heartworm medication\, heartworm testing\, and microchipping. \nWe are not a full-service vet and have a limited number of services. Please keep your pal safe by bringing them to our facility on a leash or in a carrier. \nThank you for your support!
URL:https://specialpals.org/event/low-cost-shot-clinic-february-16th/
LOCATION:Special Pals\, 3830 Greenhouse Rd.\, Houston\, 77084\, United States
ATTACH;FMTTYPE=image/png:https://specialpals.org/wp-content/uploads/7-e1706489058461.png
END:VEVENT
BEGIN:VEVENT
DTSTART;TZID=UTC:20240223T110000
DTEND;TZID=UTC:20240223T130000
DTSTAMP:20260425T112632
CREATED:20240129T094923Z
LAST-MODIFIED:20240129T094923Z
UID:20163-1708686000-1708693200@specialpals.org
SUMMARY:Low-Cost Shot Clinic February 23rd
DESCRIPTION:Walk-ins only\, no appointment needed! \nOur walk-in low-cost shot clinic offers yearly vaccines\, preventative flea and heartworm medication\, heartworm testing\, and microchipping. \nWe are not a full-service vet and have a limited number of services. Please keep your pal safe by bringing them to our facility on a leash or in a carrier. \nThank you for your support!
URL:https://specialpals.org/event/low-cost-shot-clinic-february-23rd/
LOCATION:Special Pals\, 3830 Greenhouse Rd.\, Houston\, 77084\, United States
ATTACH;FMTTYPE=image/png:https://specialpals.org/wp-content/uploads/7-e1706489058461.png
END:VEVENT
BEGIN:VEVENT
DTSTART;TZID=UTC:20240224T110000
DTEND;TZID=UTC:20240224T140000
DTSTAMP:20260425T112632
CREATED:20240222T001947Z
LAST-MODIFIED:20240222T001947Z
UID:20175-1708772400-1708783200@specialpals.org
SUMMARY:Adoption day at PETCO
DESCRIPTION:Come meet adoptable dogs and cats at a special mobile adoption event at Petco.\n\nWe will be collecting donations from our wishlist and will have plenty of t-shirts too! Stop by and say hi to show your support for Special Pals.
URL:https://specialpals.org/event/adoption-day-at-petco/
LOCATION:PETCO\, 2844 W Grand Pkwy N\, Katy\, TX\, 77449\, United States
ATTACH;FMTTYPE=image/png:https://specialpals.org/wp-content/uploads/Petco.png
END:VEVENT
BEGIN:VEVENT
DTSTART;TZID=UTC:20240224T110000
DTEND;TZID=UTC:20240224T140000
DTSTAMP:20260425T112632
CREATED:20240222T002810Z
LAST-MODIFIED:20240222T002810Z
UID:20179-1708772400-1708783200@specialpals.org
SUMMARY:Adoption day at PetSmart
DESCRIPTION:Come meet adoptable dogs and cats at a special mobile adoption event at PetSmart. This is our first time having an event at this location so we would love your support.\n\nWe will be collecting donations from our wishlist and will have plenty of t-shirts too! Stop by and say hi.
URL:https://specialpals.org/event/adoption-day-at-petsmart/
LOCATION:PetSmart – Richmond\, 5574 W Gran Pkwy S\, Richmond\, TX\, 77406\, United States
ATTACH;FMTTYPE=image/png:https://specialpals.org/wp-content/uploads/Generic-Event-Posts.png
END:VEVENT
BEGIN:VEVENT
DTSTART;TZID=UTC:20240229T110000
DTEND;TZID=UTC:20240229T130000
DTSTAMP:20260425T112632
CREATED:20240129T094959Z
LAST-MODIFIED:20240129T094959Z
UID:20165-1709204400-1709211600@specialpals.org
SUMMARY:Low-Cost Shot Clinic February 29th
DESCRIPTION:Walk-ins only\, no appointment needed! \nOur walk-in low-cost shot clinic offers yearly vaccines\, preventative flea and heartworm medication\, heartworm testing\, and microchipping. \nWe are not a full-service vet and have a limited number of services. Please keep your pal safe by bringing them to our facility on a leash or in a carrier. \nThank you for your support!
URL:https://specialpals.org/event/low-cost-shot-clinic-february-29th/
LOCATION:Special Pals\, 3830 Greenhouse Rd.\, Houston\, 77084\, United States
ATTACH;FMTTYPE=image/png:https://specialpals.org/wp-content/uploads/7-e1706489058461.png
END:VEVENT
END:VCALENDAR