BEGIN:VCALENDAR
VERSION:2.0
PRODID:-//Special Pals - ECPv6.15.20//NONSGML v1.0//EN
CALSCALE:GREGORIAN
METHOD:PUBLISH
X-WR-CALNAME:Special Pals
X-ORIGINAL-URL:https://specialpals.org
X-WR-CALDESC:Events for Special Pals
REFRESH-INTERVAL;VALUE=DURATION:PT1H
X-Robots-Tag:noindex
X-PUBLISHED-TTL:PT1H
BEGIN:VTIMEZONE
TZID:America/Chicago
BEGIN:DAYLIGHT
TZOFFSETFROM:-0600
TZOFFSETTO:-0500
TZNAME:CDT
DTSTART:20240310T080000
END:DAYLIGHT
BEGIN:STANDARD
TZOFFSETFROM:-0500
TZOFFSETTO:-0600
TZNAME:CST
DTSTART:20241103T070000
END:STANDARD
BEGIN:DAYLIGHT
TZOFFSETFROM:-0600
TZOFFSETTO:-0500
TZNAME:CDT
DTSTART:20250309T080000
END:DAYLIGHT
BEGIN:STANDARD
TZOFFSETFROM:-0500
TZOFFSETTO:-0600
TZNAME:CST
DTSTART:20251102T070000
END:STANDARD
BEGIN:DAYLIGHT
TZOFFSETFROM:-0600
TZOFFSETTO:-0500
TZNAME:CDT
DTSTART:20260308T080000
END:DAYLIGHT
BEGIN:STANDARD
TZOFFSETFROM:-0500
TZOFFSETTO:-0600
TZNAME:CST
DTSTART:20261101T070000
END:STANDARD
END:VTIMEZONE
BEGIN:VTIMEZONE
TZID:UTC
BEGIN:STANDARD
TZOFFSETFROM:+0000
TZOFFSETTO:+0000
TZNAME:UTC
DTSTART:20240101T000000
END:STANDARD
END:VTIMEZONE
BEGIN:VEVENT
DTSTART;TZID=America/Chicago:20250524T120000
DTEND;TZID=America/Chicago:20250524T140000
DTSTAMP:20260425T075436
CREATED:20250523T003944Z
LAST-MODIFIED:20250523T003944Z
UID:26839-1748088000-1748095200@specialpals.org
SUMMARY:Adoption Event at Pet Supplies Plus - Jersey Village
DESCRIPTION:Come meet adoptable dogs and cats at a special mobile adoption event at Pet Supplies Plus’ Jersey Village location.\n\n\nWe will be collecting donations from our wishlist and will have plenty of t-shirts too!
URL:https://specialpals.org/event/adoption-event-at-pet-supplies-plus-jersey-village/
LOCATION:PSP Jersey Village\, 9431 Jones Rd\, Houston\, Texas\, 77065\, United States
ATTACH;FMTTYPE=image/jpeg:https://specialpals.org/wp-content/uploads/PSP-JV.jpg
END:VEVENT
BEGIN:VEVENT
DTSTART;TZID=UTC:20250524T120000
DTEND;TZID=UTC:20250524T150000
DTSTAMP:20260425T075436
CREATED:20250424T202255Z
LAST-MODIFIED:20250424T202255Z
UID:26788-1748088000-1748098800@specialpals.org
SUMMARY:Adoption day at Willowbrook Mall
DESCRIPTION:Come meet adoptable dogs and cats at a special mobile adoption event at Willowbrook Mall! Find Special Pals and our adoptable dogs and cats inside the mall\, Center Court next to H&M.\n\nWe will be collecting donations from our wishlist and will have plenty of t-shirts too! Stop by and say hi\, and show your support for Special Pals!
URL:https://specialpals.org/event/adoption-day-at-willowbrook-mall-12/
LOCATION:Willowbrook\, 2000 Willowbrook Mall\, Houston\, TX\, 77070\, United States
ATTACH;FMTTYPE=image/png:https://specialpals.org/wp-content/uploads/Willowbrook-1.png
END:VEVENT
BEGIN:VEVENT
DTSTART;TZID=America/Chicago:20250524T140000
DTEND;TZID=America/Chicago:20250524T180000
DTSTAMP:20260425T075436
CREATED:20250523T004514Z
LAST-MODIFIED:20250523T195753Z
UID:26843-1748095200-1748109600@specialpals.org
SUMMARY:Adoption Event at Eight Row Flint East End
DESCRIPTION:Come meet adoptable dogs at a special mobile adoption event at Eight Row Flint – Houston Heights location.\n\n\nWe will be collecting donations from our wishlist and will have plenty of t-shirts too!
URL:https://specialpals.org/event/adoption-event-at-eight-row-flint/
LOCATION:8 Row\, 3501 Harrisburg Blvd Suite A\, Houston\, TX\, 77003\, United States
ATTACH;FMTTYPE=image/jpeg:https://specialpals.org/wp-content/uploads/8-Row-Flint.jpg
END:VEVENT
BEGIN:VEVENT
DTSTART;TZID=UTC:20250530T110000
DTEND;TZID=UTC:20250530T130000
DTSTAMP:20260425T075436
CREATED:20250502T195530Z
LAST-MODIFIED:20250502T195530Z
UID:26812-1748602800-1748610000@specialpals.org
SUMMARY:Low-Cost Shot Clinic May 30th
DESCRIPTION:Walk-ins only\, no appointment needed! \nOur walk-in low-cost shot clinic offers yearly vaccines\, preventative flea and heartworm medication\, heartworm testing\, and microchipping. \nWe are not a full-service vet and have a limited number of services. Please keep your pal safe by bringing them to our facility on a leash or in a carrier. \nThank you for your support!
URL:https://specialpals.org/event/low-cost-shot-clinic-may-30th/
LOCATION:Special Pals\, 3830 Greenhouse Rd.\, Houston\, 77084\, United States
ATTACH;FMTTYPE=image/png:https://specialpals.org/wp-content/uploads/7-e1706489058461.png
END:VEVENT
BEGIN:VEVENT
DTSTART;TZID=America/Chicago:20250530T160000
DTEND;TZID=America/Chicago:20250530T190000
DTSTAMP:20260425T075436
CREATED:20250523T005122Z
LAST-MODIFIED:20250523T005122Z
UID:26849-1748620800-1748631600@specialpals.org
SUMMARY:Adopt Event Pets Supplies Plus - Memorial
DESCRIPTION:Come meet adoptable dogs and cats at a special mobile adoption event at Pet Supplies Plus’ Memorial location.\nMake a day of it! This is a great spot for family fun with many shops and local restaurants nearby.\n\nWe will be collecting donations from our wishlist and will have plenty of t-shirts too!
URL:https://specialpals.org/event/adopt-event-pets-supplies-plus-memorial/
LOCATION:PSP Memorial\, 14056 Memorial Dr\, Houston\, TX\, 77079
ATTACH;FMTTYPE=image/jpeg:https://specialpals.org/wp-content/uploads/PSP-Mem.jpg
END:VEVENT
BEGIN:VEVENT
DTSTART;TZID=America/Chicago:20250531T110000
DTEND;TZID=America/Chicago:20250531T140000
DTSTAMP:20260425T075436
CREATED:20250424T202926Z
LAST-MODIFIED:20250523T004736Z
UID:26794-1748689200-1748700000@specialpals.org
SUMMARY:Adoption Day at PetSmart - Bunker Hill
DESCRIPTION:Come meet adoptable dogs and cats at a special mobile adoption event at PetSmart.\n\nWe will be collecting donations from our wishlist and will have plenty of t-shirts too! Stop by and say hi.
URL:https://specialpals.org/event/adoption-day-at-petsmart-bunker-hill-5/
LOCATION:PetSmart – Bunker Hill\, 9718 Katy Fwy\, Houston\, Texas\, 77055
ATTACH;FMTTYPE=image/jpeg:https://specialpals.org/wp-content/uploads/FB_IMG_1741416711249.jpg
END:VEVENT
BEGIN:VEVENT
DTSTART;TZID=UTC:20250531T110000
DTEND;TZID=UTC:20250531T140000
DTSTAMP:20260425T075436
CREATED:20250523T004834Z
LAST-MODIFIED:20250523T004929Z
UID:26847-1748689200-1748700000@specialpals.org
SUMMARY:Adoption day at PetSmart - Richmond
DESCRIPTION:Come meet adoptable dogs and cats at a special mobile adoption event at PetSmart.\n\nWe will be collecting donations from our wishlist and will have plenty of t-shirts too! Stop by and say hi.
URL:https://specialpals.org/event/adoption-day-at-petsmart-richmond-3/
LOCATION:PetSmart – Richmond\, 5574 W Gran Pkwy S\, Richmond\, TX\, 77406\, United States
ATTACH;FMTTYPE=image/png:https://specialpals.org/wp-content/uploads/Generic-Event-Posts.png
END:VEVENT
BEGIN:VEVENT
DTSTART;TZID=America/Chicago:20250604T170000
DTEND;TZID=America/Chicago:20250604T210000
DTSTAMP:20260425T075436
CREATED:20250529T194157Z
LAST-MODIFIED:20250604T210539Z
UID:26859-1749056400-1749070800@specialpals.org
SUMMARY:Bubba's 33 Adoption Event & Spirit Night
DESCRIPTION:POSTPONED – \n  \nWe’re teaming up with Bubba’s 33 and want you to join us for a day full of wagging tails\, warm cuddles\, happy smiles\, and of course — scratch-made food for all. Whether you’re looking to adopt or just stop by for the fun\, we can’t wait to see you there!
URL:https://specialpals.org/event/bubbas-33-adoption-event-spirit-night-2/
LOCATION:Bubba’s 33\, 2704 W Grand Parkway N\, Katy\, TX\, 77449\, United States
ATTACH;FMTTYPE=image/jpeg:https://specialpals.org/wp-content/uploads/Bubba.jpg
END:VEVENT
BEGIN:VEVENT
DTSTART;TZID=UTC:20250606T110000
DTEND;TZID=UTC:20250606T130000
DTSTAMP:20260425T075436
CREATED:20250603T182034Z
LAST-MODIFIED:20250603T182034Z
UID:26970-1749207600-1749214800@specialpals.org
SUMMARY:Low-Cost Shot Clinic June 6th
DESCRIPTION:Walk-ins only\, no appointment needed! \nOur walk-in low-cost shot clinic offers yearly vaccines\, preventative flea and heartworm medication\, heartworm testing\, and microchipping. \nWe are not a full-service vet and have a limited number of services. Please keep your pal safe by bringing them to our facility on a leash or in a carrier. \nThank you for your support!
URL:https://specialpals.org/event/low-cost-shot-clinic-june-6th/
LOCATION:Special Pals\, 3830 Greenhouse Rd.\, Houston\, 77084\, United States
ATTACH;FMTTYPE=image/png:https://specialpals.org/wp-content/uploads/7-e1706489058461.png
END:VEVENT
BEGIN:VEVENT
DTSTART;TZID=America/Chicago:20250607T110000
DTEND;TZID=America/Chicago:20250607T140000
DTSTAMP:20260425T075436
CREATED:20250603T180709Z
LAST-MODIFIED:20250603T180709Z
UID:26967-1749294000-1749304800@specialpals.org
SUMMARY:Adoption Day at Petsmart - Fry Rd
DESCRIPTION:Join us for a special mobile adoption event at Petsmart @ Fry & I-10! Meet adoptable dogs and cats from Special Pals.\n\nWe’ll also be collecting donations from our wishlist and offering plenty of t-shirts for sale.\n\nStop by to say hello and show your support for Special Pals!
URL:https://specialpals.org/event/adoption-day-at-petsmart-fry-rd-2/
LOCATION:Petsmart Fry rd\, 19945 Katy Fwy\, Houston\, Texas\, 77094
ATTACH;FMTTYPE=image/jpeg:https://specialpals.org/wp-content/uploads/Fry-Rd.jpg
END:VEVENT
BEGIN:VEVENT
DTSTART;TZID=America/Chicago:20250610T160000
DTEND;TZID=America/Chicago:20250610T190000
DTSTAMP:20260425T075436
CREATED:20250609T185721Z
LAST-MODIFIED:20250609T185721Z
UID:27160-1749571200-1749582000@specialpals.org
SUMMARY:Bubba's 33 1 Year Anniversary & Adoption Event
DESCRIPTION:POSTPONED – \n  \nWe’re teaming up with Bubba’s 33 and want you to join us for a day full of wagging tails\, warm cuddles\, happy smiles\, and of course — scratch-made food for all. Whether you’re looking to adopt or just stop by for the fun\, we can’t wait to see you there!
URL:https://specialpals.org/event/bubbas-33-1-year-anniversary-adoption-event/
LOCATION:Bubba’s 33\, 2704 W Grand Parkway N\, Katy\, TX\, 77449\, United States
ATTACH;FMTTYPE=image/jpeg:https://specialpals.org/wp-content/uploads/Bubb-1.jpg
END:VEVENT
BEGIN:VEVENT
DTSTART;TZID=UTC:20250613T110000
DTEND;TZID=UTC:20250613T130000
DTSTAMP:20260425T075436
CREATED:20250603T182101Z
LAST-MODIFIED:20250603T182101Z
UID:26969-1749812400-1749819600@specialpals.org
SUMMARY:Low-Cost Shot Clinic June 13th
DESCRIPTION:Walk-ins only\, no appointment needed! \nOur walk-in low-cost shot clinic offers yearly vaccines\, preventative flea and heartworm medication\, heartworm testing\, and microchipping. \nWe are not a full-service vet and have a limited number of services. Please keep your pal safe by bringing them to our facility on a leash or in a carrier. \nThank you for your support!
URL:https://specialpals.org/event/low-cost-shot-clinic-june-13th/
LOCATION:Special Pals\, 3830 Greenhouse Rd.\, Houston\, 77084\, United States
ATTACH;FMTTYPE=image/png:https://specialpals.org/wp-content/uploads/7-e1706489058461.png
END:VEVENT
BEGIN:VEVENT
DTSTART;TZID=America/Chicago:20250614T110000
DTEND;TZID=America/Chicago:20250614T140000
DTSTAMP:20260425T075436
CREATED:20250609T185855Z
LAST-MODIFIED:20250609T190130Z
UID:27164-1749898800-1749909600@specialpals.org
SUMMARY:Adoption Day at Petsmart - Fry Rd
DESCRIPTION:Join us for a special mobile adoption event at Petsmart @ Fry & I-10! Meet adoptable dogs and cats from Special Pals.\n\nWe’ll also be collecting donations from our wishlist and offering plenty of t-shirts for sale.\n\nStop by to say hello and show your support for Special Pals!
URL:https://specialpals.org/event/adoption-day-at-petsmart-fry-rd-3/
LOCATION:Petsmart Fry rd\, 19945 Katy Fwy\, Houston\, Texas\, 77094
ATTACH;FMTTYPE=image/jpeg:https://specialpals.org/wp-content/uploads/Fry-Rd.jpg
END:VEVENT
BEGIN:VEVENT
DTSTART;TZID=America/Chicago:20250614T120000
DTEND;TZID=America/Chicago:20250614T150000
DTSTAMP:20260425T075436
CREATED:20250609T190236Z
LAST-MODIFIED:20250609T190236Z
UID:27166-1749902400-1749913200@specialpals.org
SUMMARY:Adoption Day at PetSmart - Bunker Hill
DESCRIPTION:Come meet adoptable dogs and cats at a special mobile adoption event at PetSmart.\n\nWe will be collecting donations from our wishlist and will have plenty of t-shirts too! Stop by and say hi.
URL:https://specialpals.org/event/adoption-day-at-petsmart-bunker-hill-6/
LOCATION:PetSmart – Bunker Hill\, 9718 Katy Fwy\, Houston\, Texas\, 77055
ATTACH;FMTTYPE=image/jpeg:https://specialpals.org/wp-content/uploads/FB_IMG_1741416711249.jpg
END:VEVENT
BEGIN:VEVENT
DTSTART;TZID=UTC:20250615T120000
DTEND;TZID=UTC:20250615T150000
DTSTAMP:20260425T075436
CREATED:20250609T190446Z
LAST-MODIFIED:20250609T190446Z
UID:27169-1749988800-1749999600@specialpals.org
SUMMARY:Adoption day at PETCO - Morton Ranch
DESCRIPTION:Come meet adoptable dogs and cats at a special mobile adoption event at Petco. \n\n\nWe will be collecting donations from our wishlist and will have plenty of t-shirts too! Stop by and say hi to show your support for Special Pals.
URL:https://specialpals.org/event/adoption-day-at-petco-morton-ranch-7/
LOCATION:PETCO\, 2844 W Grand Pkwy N\, Katy\, TX\, 77449\, United States
ATTACH;FMTTYPE=image/png:https://specialpals.org/wp-content/uploads/Petco.png
END:VEVENT
BEGIN:VEVENT
DTSTART;TZID=America/Chicago:20250619T173000
DTEND;TZID=America/Chicago:20250619T193000
DTSTAMP:20260425T075436
CREATED:20250618T213038Z
LAST-MODIFIED:20250618T213038Z
UID:27200-1750354200-1750361400@specialpals.org
SUMMARY:Kendra Scott Adoption Event
DESCRIPTION:Join us for a sparkling evening at Kendra Scott with Special Pals’ Board President!\n\nSip something sweet\, shop for stunning jewelry\, and meet some adorable adoptables—because what’s better than finding your new favorite accessory and your new best friend?\n\nYour purchases help support the pets at Special Pals\, so come out\, treat yourself\, and make a difference!
URL:https://specialpals.org/event/kendra-scott-adoption-event/
LOCATION:Kendra Scott\, Barker Cypress Rd\, Houston\, Texas\, 77433
ATTACH;FMTTYPE=image/jpeg:https://specialpals.org/wp-content/uploads/ks.jpg
END:VEVENT
BEGIN:VEVENT
DTSTART;TZID=UTC:20250620T110000
DTEND;TZID=UTC:20250620T130000
DTSTAMP:20260425T075436
CREATED:20250603T182233Z
LAST-MODIFIED:20250603T182233Z
UID:26975-1750417200-1750424400@specialpals.org
SUMMARY:Low-Cost Shot Clinic June 20th
DESCRIPTION:Walk-ins only\, no appointment needed! \nOur walk-in low-cost shot clinic offers yearly vaccines\, preventative flea and heartworm medication\, heartworm testing\, and microchipping. \nWe are not a full-service vet and have a limited number of services. Please keep your pal safe by bringing them to our facility on a leash or in a carrier. \nThank you for your support!
URL:https://specialpals.org/event/low-cost-shot-clinic-june-20th/
LOCATION:Special Pals\, 3830 Greenhouse Rd.\, Houston\, 77084\, United States
ATTACH;FMTTYPE=image/png:https://specialpals.org/wp-content/uploads/7-e1706489058461.png
END:VEVENT
BEGIN:VEVENT
DTSTART;TZID=America/Chicago:20250620T120000
DTEND;TZID=America/Chicago:20250620T150000
DTSTAMP:20260425T075436
CREATED:20250717T173122Z
LAST-MODIFIED:20250717T173122Z
UID:27374-1750420800-1750431600@specialpals.org
SUMMARY:Adoption Event at Pet Supplies Plus - Jersey Village
DESCRIPTION:Come meet adoptable dogs and cats at a special mobile adoption event at Pet Supplies Plus’ Jersey Village location.\n\n\nWe will be collecting donations from our wishlist and will have plenty of t-shirts too!
URL:https://specialpals.org/event/adoption-event-at-pet-supplies-plus-jersey-village-3/
LOCATION:PSP Jersey Village\, 9431 Jones Rd\, Houston\, Texas\, 77065\, United States
ATTACH;FMTTYPE=image/jpeg:https://specialpals.org/wp-content/uploads/PSP-JV.jpg
END:VEVENT
BEGIN:VEVENT
DTSTART;TZID=America/Chicago:20250621T110000
DTEND;TZID=America/Chicago:20250621T140000
DTSTAMP:20260425T075436
CREATED:20250609T190312Z
LAST-MODIFIED:20250609T190312Z
UID:27163-1750503600-1750514400@specialpals.org
SUMMARY:Adoption Day at Petsmart - Fry Rd
DESCRIPTION:Join us for a special mobile adoption event at Petsmart @ Fry & I-10! Meet adoptable dogs and cats from Special Pals.\n\nWe’ll also be collecting donations from our wishlist and offering plenty of t-shirts for sale.\n\nStop by to say hello and show your support for Special Pals!
URL:https://specialpals.org/event/adoption-day-at-petsmart-fry-rd-4/
LOCATION:Petsmart Fry rd\, 19945 Katy Fwy\, Houston\, Texas\, 77094
ATTACH;FMTTYPE=image/jpeg:https://specialpals.org/wp-content/uploads/Fry-Rd.jpg
END:VEVENT
BEGIN:VEVENT
DTSTART;TZID=America/Chicago:20250621T120000
DTEND;TZID=America/Chicago:20250621T150000
DTSTAMP:20260425T075436
CREATED:20250616T200221Z
LAST-MODIFIED:20250616T200221Z
UID:27194-1750507200-1750518000@specialpals.org
SUMMARY:Adoption Event at Pet Supplies Plus - Cypress
DESCRIPTION:Come meet adoptable dogs and cats at a special mobile adoption event at Pet Supplies Plus’ Cypress location.\nMake a day of it! This is a great spot for family fun with many shops and local restaurants nearby.\n\nWe will be collecting donations from our wishlist and will have plenty of t-shirts too!
URL:https://specialpals.org/event/adoption-event-at-pet-supplies-plus-cypress-2/
LOCATION:PSP Cypress\, 7041 Barker Cypress\, Houston\, Texas\, 77443\, United States
ATTACH;FMTTYPE=image/jpeg:https://specialpals.org/wp-content/uploads/PSP-cypress.jpg
END:VEVENT
BEGIN:VEVENT
DTSTART;TZID=America/Chicago:20250622T120000
DTEND;TZID=America/Chicago:20250622T150000
DTSTAMP:20260425T075436
CREATED:20250618T213305Z
LAST-MODIFIED:20250618T213305Z
UID:27204-1750593600-1750604400@specialpals.org
SUMMARY:Adoption Day at PetSmart - Bunker Hill
DESCRIPTION:Come meet adoptable dogs and cats at a special mobile adoption event at PetSmart.\n\nWe will be collecting donations from our wishlist and will have plenty of t-shirts too! Stop by and say hi.
URL:https://specialpals.org/event/adoption-day-at-petsmart-bunker-hill-7/
LOCATION:PetSmart – Bunker Hill\, 9718 Katy Fwy\, Houston\, Texas\, 77055
ATTACH;FMTTYPE=image/jpeg:https://specialpals.org/wp-content/uploads/FB_IMG_1741416711249.jpg
END:VEVENT
BEGIN:VEVENT
DTSTART;TZID=UTC:20250622T130000
DTEND;TZID=UTC:20250622T150000
DTSTAMP:20260425T075436
CREATED:20250616T195940Z
LAST-MODIFIED:20250616T195940Z
UID:27190-1750597200-1750604400@specialpals.org
SUMMARY:Adoption day at PetSmart - Richmond
DESCRIPTION:Come meet adoptable dogs and cats at a special mobile adoption event at PetSmart.\n\nWe will be collecting donations from our wishlist and will have plenty of t-shirts too! Stop by and say hi.
URL:https://specialpals.org/event/adoption-day-at-petsmart-richmond-4/
LOCATION:PetSmart – Richmond\, 5574 W Gran Pkwy S\, Richmond\, TX\, 77406\, United States
ATTACH;FMTTYPE=image/png:https://specialpals.org/wp-content/uploads/Generic-Event-Posts.png
END:VEVENT
BEGIN:VEVENT
DTSTART;TZID=UTC:20250627T110000
DTEND;TZID=UTC:20250627T130000
DTSTAMP:20260425T075436
CREATED:20250603T182337Z
LAST-MODIFIED:20250603T182337Z
UID:26977-1751022000-1751029200@specialpals.org
SUMMARY:Low-Cost Shot Clinic June 27th
DESCRIPTION:Walk-ins only\, no appointment needed! \nOur walk-in low-cost shot clinic offers yearly vaccines\, preventative flea and heartworm medication\, heartworm testing\, and microchipping. \nWe are not a full-service vet and have a limited number of services. Please keep your pal safe by bringing them to our facility on a leash or in a carrier. \nThank you for your support!
URL:https://specialpals.org/event/low-cost-shot-clinic-june-27th/
LOCATION:Special Pals\, 3830 Greenhouse Rd.\, Houston\, 77084\, United States
ATTACH;FMTTYPE=image/png:https://specialpals.org/wp-content/uploads/7-e1706489058461.png
END:VEVENT
BEGIN:VEVENT
DTSTART;TZID=America/Chicago:20250627T160000
DTEND;TZID=America/Chicago:20250627T190000
DTSTAMP:20260425T075436
CREATED:20250618T211339Z
LAST-MODIFIED:20250618T211339Z
UID:27198-1751040000-1751050800@specialpals.org
SUMMARY:Adopt Event Pets Supplies Plus - Memorial
DESCRIPTION:Come meet adoptable dogs and cats at a special mobile adoption event at Pet Supplies Plus’ Memorial location.\nMake a day of it! This is a great spot for family fun with many shops and local restaurants nearby.\n\nWe will be collecting donations from our wishlist and will have plenty of t-shirts too!
URL:https://specialpals.org/event/adopt-event-pets-supplies-plus-memorial-2/
LOCATION:PSP Memorial\, 14056 Memorial Dr\, Houston\, TX\, 77079
ATTACH;FMTTYPE=image/jpeg:https://specialpals.org/wp-content/uploads/PSP-Mem.jpg
END:VEVENT
BEGIN:VEVENT
DTSTART;TZID=America/Chicago:20250628T110000
DTEND;TZID=America/Chicago:20250628T140000
DTSTAMP:20260425T075436
CREATED:20250624T171300Z
LAST-MODIFIED:20250624T171300Z
UID:27206-1751108400-1751119200@specialpals.org
SUMMARY:Adoption Day at Petsmart - Fry Rd
DESCRIPTION:Join us for a special mobile adoption event at Petsmart @ Fry & I-10! Meet adoptable dogs and cats from Special Pals.\n\nWe’ll also be collecting donations from our wishlist and offering plenty of t-shirts for sale.\n\nStop by to say hello and show your support for Special Pals!
URL:https://specialpals.org/event/adoption-day-at-petsmart-fry-rd-5/
LOCATION:Petsmart Fry rd\, 19945 Katy Fwy\, Houston\, Texas\, 77094
ATTACH;FMTTYPE=image/jpeg:https://specialpals.org/wp-content/uploads/Fry-Rd.jpg
END:VEVENT
BEGIN:VEVENT
DTSTART;TZID=UTC:20250628T120000
DTEND;TZID=UTC:20250628T150000
DTSTAMP:20260425T075436
CREATED:20250624T171736Z
LAST-MODIFIED:20250624T171736Z
UID:26787-1751112000-1751122800@specialpals.org
SUMMARY:Adoption day at Willowbrook Mall
DESCRIPTION:Come meet adoptable dogs and cats at a special mobile adoption event at Willowbrook Mall! Find Special Pals and our adoptable dogs and cats inside the mall\, Center Court next to H&M.\n\nWe will be collecting donations from our wishlist and will have plenty of t-shirts too! Stop by and say hi\, and show your support for Special Pals!
URL:https://specialpals.org/event/adoption-day-at-willowbrook-mall-13/
LOCATION:Willowbrook\, 2000 Willowbrook Mall\, Houston\, TX\, 77070\, United States
ATTACH;FMTTYPE=image/png:https://specialpals.org/wp-content/uploads/Willowbrook-1.png
END:VEVENT
BEGIN:VEVENT
DTSTART;TZID=America/Chicago:20250629T120000
DTEND;TZID=America/Chicago:20250629T150000
DTSTAMP:20260425T075436
CREATED:20250616T200025Z
LAST-MODIFIED:20250616T200025Z
UID:27192-1751198400-1751209200@specialpals.org
SUMMARY:Adoption Event at Pet Supplies Plus - Jersey Village
DESCRIPTION:Come meet adoptable dogs and cats at a special mobile adoption event at Pet Supplies Plus’ Jersey Village location.\n\n\nWe will be collecting donations from our wishlist and will have plenty of t-shirts too!
URL:https://specialpals.org/event/adoption-event-at-pet-supplies-plus-jersey-village-2/
LOCATION:PSP Jersey Village\, 9431 Jones Rd\, Houston\, Texas\, 77065\, United States
ATTACH;FMTTYPE=image/jpeg:https://specialpals.org/wp-content/uploads/PSP-JV.jpg
END:VEVENT
BEGIN:VEVENT
DTSTART;TZID=UTC:20250629T120000
DTEND;TZID=UTC:20250629T150000
DTSTAMP:20260425T075436
CREATED:20250624T171533Z
LAST-MODIFIED:20250624T171533Z
UID:27208-1751198400-1751209200@specialpals.org
SUMMARY:Adoption day at PETCO - Mason Rd
DESCRIPTION:Come meet adoptable dogs and cats at a special mobile adoption event at Petco. \n\n\nWe will be collecting donations from our wishlist and will have plenty of t-shirts too! Stop by and say hi to show your support for Special Pals.
URL:https://specialpals.org/event/adoption-day-at-petco-mason-rd-6/
LOCATION:PETCO Mason\, 513 S Mason Rd\, Katy\, 77450\, United States
ATTACH;FMTTYPE=image/png:https://specialpals.org/wp-content/uploads/Petco.png
END:VEVENT
BEGIN:VEVENT
DTSTART;TZID=UTC:20250705T120000
DTEND;TZID=UTC:20250705T150000
DTSTAMP:20260425T075436
CREATED:20250624T172122Z
LAST-MODIFIED:20250701T191513Z
UID:27217-1751716800-1751727600@specialpals.org
SUMMARY:Adoption day at PETCO - Mason Rd
DESCRIPTION:Come meet adoptable dogs and cats at a special mobile adoption event at Petco. \n\n\nWe will be collecting donations from our wishlist and will have plenty of t-shirts too! Stop by and say hi to show your support for Special Pals.
URL:https://specialpals.org/event/adoption-day-at-petco-mason-rd-7/
LOCATION:PETCO Mason\, 513 S Mason Rd\, Katy\, 77450\, United States
ATTACH;FMTTYPE=image/jpeg:https://specialpals.org/wp-content/uploads/Petco-mason.jpg
END:VEVENT
BEGIN:VEVENT
DTSTART;TZID=America/Chicago:20250706T120000
DTEND;TZID=America/Chicago:20250706T150000
DTSTAMP:20260425T075436
CREATED:20250701T180742Z
LAST-MODIFIED:20250701T180816Z
UID:27311-1751803200-1751814000@specialpals.org
SUMMARY:Adoption Day at PetSmart - Katy
DESCRIPTION:Join us for a special mobile adoption event at Petsmart! Meet adoptable dogs and cats from Special Pals.\n\n\nWe’ll also be collecting donations from our wishlist and offering plenty of t-shirts for sale. Stop by to say hello and show your support for Special Pals!
URL:https://specialpals.org/event/adoption-day-petsmart-katy/
LOCATION:PetSmart Katy\, 24600 Katy Fwy\, Katy\, TX\, 77494\, United States
ATTACH;FMTTYPE=image/jpeg:https://specialpals.org/wp-content/uploads/Petsmart-Katy.jpg
END:VEVENT
END:VCALENDAR