BEGIN:VCALENDAR
VERSION:2.0
PRODID:-//Special Pals - ECPv6.15.20//NONSGML v1.0//EN
CALSCALE:GREGORIAN
METHOD:PUBLISH
X-WR-CALNAME:Special Pals
X-ORIGINAL-URL:https://specialpals.org
X-WR-CALDESC:Events for Special Pals
REFRESH-INTERVAL;VALUE=DURATION:PT1H
X-Robots-Tag:noindex
X-PUBLISHED-TTL:PT1H
BEGIN:VTIMEZONE
TZID:America/Chicago
BEGIN:DAYLIGHT
TZOFFSETFROM:-0600
TZOFFSETTO:-0500
TZNAME:CDT
DTSTART:20240310T080000
END:DAYLIGHT
BEGIN:STANDARD
TZOFFSETFROM:-0500
TZOFFSETTO:-0600
TZNAME:CST
DTSTART:20241103T070000
END:STANDARD
BEGIN:DAYLIGHT
TZOFFSETFROM:-0600
TZOFFSETTO:-0500
TZNAME:CDT
DTSTART:20250309T080000
END:DAYLIGHT
BEGIN:STANDARD
TZOFFSETFROM:-0500
TZOFFSETTO:-0600
TZNAME:CST
DTSTART:20251102T070000
END:STANDARD
BEGIN:DAYLIGHT
TZOFFSETFROM:-0600
TZOFFSETTO:-0500
TZNAME:CDT
DTSTART:20260308T080000
END:DAYLIGHT
BEGIN:STANDARD
TZOFFSETFROM:-0500
TZOFFSETTO:-0600
TZNAME:CST
DTSTART:20261101T070000
END:STANDARD
END:VTIMEZONE
BEGIN:VTIMEZONE
TZID:UTC
BEGIN:STANDARD
TZOFFSETFROM:+0000
TZOFFSETTO:+0000
TZNAME:UTC
DTSTART:20240101T000000
END:STANDARD
END:VTIMEZONE
BEGIN:VEVENT
DTSTART;TZID=America/Chicago:20250803T120000
DTEND;TZID=America/Chicago:20250803T150000
DTSTAMP:20260424T113553
CREATED:20250801T201705Z
LAST-MODIFIED:20250801T201705Z
UID:27410-1754222400-1754233200@specialpals.org
SUMMARY:Adoption Day at PetSmart - Katy
DESCRIPTION:Join us for a special mobile adoption event at Petsmart! Meet adoptable dogs and cats from Special Pals.\n\n\nWe’ll also be collecting donations from our wishlist and offering plenty of t-shirts for sale. Stop by to say hello and show your support for Special Pals!
URL:https://specialpals.org/event/adoption-day-at-petsmart-katy-3/
LOCATION:PetSmart Katy\, 24600 Katy Fwy\, Katy\, TX\, 77494\, United States
ATTACH;FMTTYPE=image/jpeg:https://specialpals.org/wp-content/uploads/Petsmart-Katy.jpg
END:VEVENT
BEGIN:VEVENT
DTSTART;TZID=America/Chicago:20250803T120000
DTEND;TZID=America/Chicago:20250803T150000
DTSTAMP:20260424T113553
CREATED:20250801T202137Z
LAST-MODIFIED:20250801T202137Z
UID:27416-1754222400-1754233200@specialpals.org
SUMMARY:Adoption Day at PetSmart - Bunker Hill
DESCRIPTION:Come meet adoptable dogs and cats at a special mobile adoption event at PetSmart.\n\nWe will be collecting donations from our wishlist and will have plenty of t-shirts too! Stop by and say hi.
URL:https://specialpals.org/event/adoption-day-at-petsmart-bunker-hill-10/
LOCATION:PetSmart – Bunker Hill\, 9718 Katy Fwy\, Houston\, Texas\, 77055
ATTACH;FMTTYPE=image/jpeg:https://specialpals.org/wp-content/uploads/FB_IMG_1741416711249.jpg
END:VEVENT
BEGIN:VEVENT
DTSTART;TZID=UTC:20250808T110000
DTEND;TZID=UTC:20250808T130000
DTSTAMP:20260424T113553
CREATED:20250801T202318Z
LAST-MODIFIED:20250801T202318Z
UID:27420-1754650800-1754658000@specialpals.org
SUMMARY:Low-Cost Shot Clinic Aug 8th
DESCRIPTION:Walk-ins only\, no appointment needed! \nOur walk-in low-cost shot clinic offers yearly vaccines\, preventative flea and heartworm medication\, heartworm testing\, and microchipping. \nWe are not a full-service vet and have a limited number of services. Please keep your pal safe by bringing them to our facility on a leash or in a carrier. \nThank you for your support!
URL:https://specialpals.org/event/low-cost-shot-clinic-aug-8th/
LOCATION:Special Pals\, 3830 Greenhouse Rd.\, Houston\, 77084\, United States
ATTACH;FMTTYPE=image/png:https://specialpals.org/wp-content/uploads/7-e1706489058461.png
END:VEVENT
BEGIN:VEVENT
DTSTART;TZID=America/Chicago:20250808T160000
DTEND;TZID=America/Chicago:20250808T190000
DTSTAMP:20260424T113553
CREATED:20250801T203529Z
LAST-MODIFIED:20250801T203529Z
UID:27426-1754668800-1754679600@specialpals.org
SUMMARY:Adopt Event Pets Supplies Plus - Memorial
DESCRIPTION:Come meet adoptable dogs and cats at a special mobile adoption event at Pet Supplies Plus’ Memorial location.\nMake a day of it! This is a great spot for family fun with many shops and local restaurants nearby.\n\nWe will be collecting donations from our wishlist and will have plenty of t-shirts too!
URL:https://specialpals.org/event/adopt-event-pets-supplies-plus-memorial-4/
LOCATION:PSP Memorial\, 14056 Memorial Dr\, Houston\, TX\, 77079
ATTACH;FMTTYPE=image/jpeg:https://specialpals.org/wp-content/uploads/PSP-Mem.jpg
END:VEVENT
BEGIN:VEVENT
DTSTART;TZID=America/Chicago:20250809T110000
DTEND;TZID=America/Chicago:20250809T140000
DTSTAMP:20260424T113553
CREATED:20250801T203645Z
LAST-MODIFIED:20250801T203645Z
UID:27428-1754737200-1754748000@specialpals.org
SUMMARY:Adoption Day at Petsmart - Fry Rd
DESCRIPTION:Join us for a special mobile adoption event at Petsmart @ Fry & I-10! Meet adoptable dogs and cats from Special Pals.\n\nWe’ll also be collecting donations from our wishlist and offering plenty of t-shirts for sale.\n\nStop by to say hello and show your support for Special Pals!
URL:https://specialpals.org/event/adoption-day-at-petsmart-fry-rd-11/
LOCATION:Petsmart Fry rd\, 19945 Katy Fwy\, Houston\, Texas\, 77094
ATTACH;FMTTYPE=image/jpeg:https://specialpals.org/wp-content/uploads/Fry-Rd.jpg
END:VEVENT
BEGIN:VEVENT
DTSTART;TZID=America/Chicago:20250809T110000
DTEND;TZID=America/Chicago:20250809T140000
DTSTAMP:20260424T113553
CREATED:20250801T204852Z
LAST-MODIFIED:20250801T204852Z
UID:27430-1754737200-1754748000@specialpals.org
SUMMARY:Adoption Day at PetSmart - Bunker Hill
DESCRIPTION:Come meet adoptable dogs and cats at a special mobile adoption event at PetSmart.\n\nWe will be collecting donations from our wishlist and will have plenty of t-shirts too! Stop by and say hi.
URL:https://specialpals.org/event/adoption-day-at-petsmart-bunker-hill-11/
LOCATION:PetSmart – Bunker Hill\, 9718 Katy Fwy\, Houston\, Texas\, 77055
ATTACH;FMTTYPE=image/jpeg:https://specialpals.org/wp-content/uploads/FB_IMG_1741416711249.jpg
END:VEVENT
BEGIN:VEVENT
DTSTART;TZID=UTC:20250815T110000
DTEND;TZID=UTC:20250815T130000
DTSTAMP:20260424T113553
CREATED:20250801T202418Z
LAST-MODIFIED:20250812T172356Z
UID:27422-1755255600-1755262800@specialpals.org
SUMMARY:Low-Cost Vaccine Clinic Aug 15th
DESCRIPTION:Walk-ins only\, no appointment needed! \nOur walk-in low-cost shot clinic offers yearly vaccines\, preventative flea and heartworm medication\, heartworm testing\, and microchipping. \nWe are not a full-service vet and have a limited number of services. Please keep your pal safe by bringing them to our facility on a leash or in a carrier. \nThank you for your support!
URL:https://specialpals.org/event/low-cost-shot-clinic-aug-15th/
LOCATION:Special Pals\, 3830 Greenhouse Rd.\, Houston\, 77084\, United States
ATTACH;FMTTYPE=image/png:https://specialpals.org/wp-content/uploads/WELLNESS-Clinic-Poster-1.png
END:VEVENT
BEGIN:VEVENT
DTSTART;TZID=America/Chicago:20250816T110000
DTEND;TZID=America/Chicago:20250816T140000
DTSTAMP:20260424T113553
CREATED:20250812T191320Z
LAST-MODIFIED:20250812T191320Z
UID:27440-1755342000-1755352800@specialpals.org
SUMMARY:Adoption Day at Petsmart - Fry Rd
DESCRIPTION:Join us for a special mobile adoption event at Petsmart @ Fry & I-10! Meet adoptable dogs and cats from Special Pals.\n\nWe’ll also be collecting donations from our wishlist and offering plenty of t-shirts for sale.\n\nStop by to say hello and show your support for Special Pals!
URL:https://specialpals.org/event/adoption-day-at-petsmart-fry-rd-12/
LOCATION:Petsmart Fry rd\, 19945 Katy Fwy\, Houston\, Texas\, 77094
ATTACH;FMTTYPE=image/jpeg:https://specialpals.org/wp-content/uploads/Fry-Rd.jpg
END:VEVENT
BEGIN:VEVENT
DTSTART;TZID=America/Chicago:20250816T120000
DTEND;TZID=America/Chicago:20250816T150000
DTSTAMP:20260424T113553
CREATED:20250812T191437Z
LAST-MODIFIED:20250812T191437Z
UID:27442-1755345600-1755356400@specialpals.org
SUMMARY:Adoption Day at PETCO - Dacoma
DESCRIPTION:Come meet adoptable dogs and cats at a special mobile adoption event at Petco.\n\nWe will be collecting donations from our wishlist and will have plenty of t-shirts too! Stop by and say hi to show your support for Special Pals
URL:https://specialpals.org/event/adoption-day-at-petco-dacoma-2/
LOCATION:PETCO Dacoma\, Dacoma St\, Houston\, TX\, 77092\, United States
ATTACH;FMTTYPE=image/jpeg:https://specialpals.org/wp-content/uploads/PETCO-dacoma.jpg
END:VEVENT
BEGIN:VEVENT
DTSTART;TZID=America/Chicago:20250817T120000
DTEND;TZID=America/Chicago:20250817T150000
DTSTAMP:20260424T113553
CREATED:20250812T191534Z
LAST-MODIFIED:20250812T191534Z
UID:27444-1755432000-1755442800@specialpals.org
SUMMARY:Adoption Day at PetSmart - Katy
DESCRIPTION:Join us for a special mobile adoption event at Petsmart! Meet adoptable dogs and cats from Special Pals.\n\n\nWe’ll also be collecting donations from our wishlist and offering plenty of t-shirts for sale. Stop by to say hello and show your support for Special Pals!
URL:https://specialpals.org/event/adoption-day-at-petsmart-katy-4/
LOCATION:PetSmart Katy\, 24600 Katy Fwy\, Katy\, TX\, 77494\, United States
ATTACH;FMTTYPE=image/jpeg:https://specialpals.org/wp-content/uploads/Petsmart-Katy.jpg
END:VEVENT
BEGIN:VEVENT
DTSTART;TZID=UTC:20250817T120000
DTEND;TZID=UTC:20250817T150000
DTSTAMP:20260424T113553
CREATED:20250812T191740Z
LAST-MODIFIED:20250812T191740Z
UID:27447-1755432000-1755442800@specialpals.org
SUMMARY:Adoption day at PetSmart - Richmond
DESCRIPTION:Come meet adoptable dogs and cats at a special mobile adoption event at PetSmart.\n\nWe will be collecting donations from our wishlist and will have plenty of t-shirts too! Stop by and say hi.
URL:https://specialpals.org/event/adoption-day-at-petsmart-richmond-6/
LOCATION:PetSmart – Richmond\, 5574 W Gran Pkwy S\, Richmond\, TX\, 77406\, United States
ATTACH;FMTTYPE=image/png:https://specialpals.org/wp-content/uploads/Generic-Event-Posts.png
END:VEVENT
BEGIN:VEVENT
DTSTART;TZID=America/Chicago:20250819T080000
DTEND;TZID=America/Chicago:20250819T170000
DTSTAMP:20260424T113553
CREATED:20250819T165210Z
LAST-MODIFIED:20250819T165210Z
UID:27457-1755590400-1755622800@specialpals.org
SUMMARY:Pickleball Tournament for Pups
DESCRIPTION:Join us for a fun-filled day of Pickleball—whether you’re playing or cheering from the sidelines!\nElite 8 is a fully air-conditioned indoor facility\, so spectators can stay cool and classy—think “Wimbledon vibes\,” smart casual attire encouraged. \nChoose your level and sign up for either the Beginner/Recreational or Competitive Doubles Tournament\, proudly sponsored by Lankford’s! Whether you’re hitting the court or just here for the fun\, enjoy the excitement alongside a Champagne Brunch featuring a Mimosa and Bloody Mary bar ($30 per person). \nCompetitive Division ($50 per team entry)\n🥇 1st Place: $200 cash + swag bag\n🥈 2nd Place: $100 Phoenix GC + swag bag\nRecreational Division ($50 per team entry)\n🥇 1st Place: $100 Cash + swag\n🥈 2nd Place: $50 Phoenix GC + swag \nPlus\, don’t miss the Puppy Parlor with adorable adoptable dogs! Come for the pups\, the pickleball\, or both—just don’t miss out!\nBenefitting Special Pals and The Empty Shelter Project
URL:https://specialpals.org/event/pickleball-tournament-for-pups/
LOCATION:Pickleball Tourney\, 610 W 6th St\, Hosuton\, TX\, 77007\, United States
ATTACH;FMTTYPE=image/jpeg:https://specialpals.org/wp-content/uploads/Pickleball.jpg
END:VEVENT
BEGIN:VEVENT
DTSTART;TZID=UTC:20250822T110000
DTEND;TZID=UTC:20250822T130000
DTSTAMP:20260424T113553
CREATED:20250801T202456Z
LAST-MODIFIED:20250812T172321Z
UID:27424-1755860400-1755867600@specialpals.org
SUMMARY:Low-Cost Vaccine Clinic Aug 22nd
DESCRIPTION:Walk-ins only\, no appointment needed! \nOur walk-in low-cost shot clinic offers yearly vaccines\, preventative flea and heartworm medication\, heartworm testing\, and microchipping. \nWe are not a full-service vet and have a limited number of services. Please keep your pal safe by bringing them to our facility on a leash or in a carrier. \nThank you for your support!
URL:https://specialpals.org/event/low-cost-shot-clinic-aug-22nd/
LOCATION:Special Pals\, 3830 Greenhouse Rd.\, Houston\, 77084\, United States
ATTACH;FMTTYPE=image/png:https://specialpals.org/wp-content/uploads/WELLNESS-Clinic-Poster-1.png
END:VEVENT
BEGIN:VEVENT
DTSTART;TZID=America/Chicago:20250823T110000
DTEND;TZID=America/Chicago:20250823T140000
DTSTAMP:20260424T113553
CREATED:20250812T210728Z
LAST-MODIFIED:20250812T210728Z
UID:27453-1755946800-1755957600@specialpals.org
SUMMARY:Adoption Day at Petsmart - Fry Rd
DESCRIPTION:Join us for a special mobile adoption event at Petsmart @ Fry & I-10! Meet adoptable dogs and cats from Special Pals.\n\nWe’ll also be collecting donations from our wishlist and offering plenty of t-shirts for sale.\n\nStop by to say hello and show your support for Special Pals!
URL:https://specialpals.org/event/adoption-day-at-petsmart-fry-rd-13/
LOCATION:Petsmart Fry rd\, 19945 Katy Fwy\, Houston\, Texas\, 77094
ATTACH;FMTTYPE=image/jpeg:https://specialpals.org/wp-content/uploads/Fry-Rd.jpg
END:VEVENT
BEGIN:VEVENT
DTSTART;TZID=America/Chicago:20250823T130000
DTEND;TZID=America/Chicago:20250823T160000
DTSTAMP:20260424T113553
CREATED:20250812T210521Z
LAST-MODIFIED:20250812T210521Z
UID:27449-1755954000-1755964800@specialpals.org
SUMMARY:Adoption Day at Katy Mills Mall
DESCRIPTION:Join Us for a Special Mobile Adoption Event at Katy Mills Mall!\n\nCome meet our adorable adoptable dogs and cats at a special mobile adoption event inside Katy Mills Mall! You’ll find Special Pals and our furry friends next to the AMC Theater.\n\nWe’ll be collecting donations from our wishlist\, and we’ll have plenty of t-shirts available for purchase\, too!\nStop by\, say hello\, and show your support for the amazing work we do at Special Pals.
URL:https://specialpals.org/event/adoption-day-at-katy-mills-mall-3/
LOCATION:Katy Mills Mall\, 5000 Katy Mills Circle\, Katy\, TX\, 77494\, United States
ATTACH;FMTTYPE=image/jpeg:https://specialpals.org/wp-content/uploads/Katy-Mills-1.jpg
END:VEVENT
BEGIN:VEVENT
DTSTART;TZID=America/Chicago:20250824T120000
DTEND;TZID=America/Chicago:20250824T150000
DTSTAMP:20260424T113553
CREATED:20250812T210628Z
LAST-MODIFIED:20250812T210628Z
UID:27451-1756036800-1756047600@specialpals.org
SUMMARY:Adoption Day at PetSmart - Bunker Hill
DESCRIPTION:Come meet adoptable dogs and cats at a special mobile adoption event at PetSmart.\n\nWe will be collecting donations from our wishlist and will have plenty of t-shirts too! Stop by and say hi.
URL:https://specialpals.org/event/adoption-day-at-petsmart-bunker-hill-12/
LOCATION:PetSmart – Bunker Hill\, 9718 Katy Fwy\, Houston\, Texas\, 77055
ATTACH;FMTTYPE=image/jpeg:https://specialpals.org/wp-content/uploads/FB_IMG_1741416711249.jpg
END:VEVENT
BEGIN:VEVENT
DTSTART;TZID=America/Chicago:20250824T120000
DTEND;TZID=America/Chicago:20250824T150000
DTSTAMP:20260424T113553
CREATED:20250819T164318Z
LAST-MODIFIED:20250819T164318Z
UID:27455-1756036800-1756047600@specialpals.org
SUMMARY:Adoption Day at PetSmart - Katy
DESCRIPTION:Join us for a special mobile adoption event at Petsmart! Meet adoptable dogs and cats from Special Pals.\n\n\nWe’ll also be collecting donations from our wishlist and offering plenty of t-shirts for sale. Stop by to say hello and show your support for Special Pals!
URL:https://specialpals.org/event/adoption-day-at-petsmart-katy-5/
LOCATION:PetSmart Katy\, 24600 Katy Fwy\, Katy\, TX\, 77494\, United States
ATTACH;FMTTYPE=image/jpeg:https://specialpals.org/wp-content/uploads/Petsmart-Katy.jpg
END:VEVENT
BEGIN:VEVENT
DTSTART;TZID=UTC:20250829T110000
DTEND;TZID=UTC:20250829T130000
DTSTAMP:20260424T113553
CREATED:20250827T024708Z
LAST-MODIFIED:20250827T024708Z
UID:27472-1756465200-1756472400@specialpals.org
SUMMARY:Low-Cost Vaccine Clinic Aug 29th
DESCRIPTION:Walk-ins only\, no appointment needed! \nOur walk-in low-cost shot clinic offers yearly vaccines\, preventative flea and heartworm medication\, heartworm testing\, and microchipping. \nWe are not a full-service vet and have a limited number of services. Please keep your pal safe by bringing them to our facility on a leash or in a carrier. \nThank you for your support!
URL:https://specialpals.org/event/low-cost-vaccine-clinic-aug-29th/
LOCATION:Special Pals\, 3830 Greenhouse Rd.\, Houston\, 77084\, United States
ATTACH;FMTTYPE=image/png:https://specialpals.org/wp-content/uploads/WELLNESS-Clinic-Poster-1.png
END:VEVENT
BEGIN:VEVENT
DTSTART;TZID=America/Chicago:20250830T110000
DTEND;TZID=America/Chicago:20250830T140000
DTSTAMP:20260424T113553
CREATED:20250827T024535Z
LAST-MODIFIED:20250827T024535Z
UID:27446-1756551600-1756562400@specialpals.org
SUMMARY:Adoption Day at Petsmart - Fry Rd
DESCRIPTION:Join us for a special mobile adoption event at Petsmart @ Fry & I-10! Meet adoptable dogs and cats from Special Pals.\n\nWe’ll also be collecting donations from our wishlist and offering plenty of t-shirts for sale.\n\nStop by to say hello and show your support for Special Pals!
URL:https://specialpals.org/event/adoption-day-at-petsmart-fry-rd-14/
LOCATION:Petsmart Fry rd\, 19945 Katy Fwy\, Houston\, Texas\, 77094
ATTACH;FMTTYPE=image/jpeg:https://specialpals.org/wp-content/uploads/Fry-Rd.jpg
END:VEVENT
BEGIN:VEVENT
DTSTART;TZID=UTC:20250830T120000
DTEND;TZID=UTC:20250830T150000
DTSTAMP:20260424T113553
CREATED:20250827T024419Z
LAST-MODIFIED:20250827T024419Z
UID:27467-1756555200-1756566000@specialpals.org
SUMMARY:Adoption day at Willowbrook Mall
DESCRIPTION:Come meet adoptable dogs and cats at a special mobile adoption event at Willowbrook Mall! Find Special Pals and our adoptable dogs and cats inside the mall\, Center Court next to H&M.\n\nWe will be collecting donations from our wishlist and will have plenty of t-shirts too! Stop by and say hi\, and show your support for Special Pals!
URL:https://specialpals.org/event/adoption-day-at-willowbrook-mall-15/
LOCATION:Willowbrook\, 2000 Willowbrook Mall\, Houston\, TX\, 77070\, United States
ATTACH;FMTTYPE=image/png:https://specialpals.org/wp-content/uploads/Willowbrook-1.png
END:VEVENT
BEGIN:VEVENT
DTSTART;TZID=America/Chicago:20250831T120000
DTEND;TZID=America/Chicago:20250831T150000
DTSTAMP:20260424T113553
CREATED:20250827T024626Z
LAST-MODIFIED:20250827T024626Z
UID:27470-1756641600-1756652400@specialpals.org
SUMMARY:Adoption Day at PetSmart - Katy
DESCRIPTION:Join us for a special mobile adoption event at Petsmart! Meet adoptable dogs and cats from Special Pals.\n\n\nWe’ll also be collecting donations from our wishlist and offering plenty of t-shirts for sale. Stop by to say hello and show your support for Special Pals!
URL:https://specialpals.org/event/adoption-day-at-petsmart-katy-6/
LOCATION:PetSmart Katy\, 24600 Katy Fwy\, Katy\, TX\, 77494\, United States
ATTACH;FMTTYPE=image/jpeg:https://specialpals.org/wp-content/uploads/Petsmart-Katy.jpg
END:VEVENT
BEGIN:VEVENT
DTSTART;TZID=America/Chicago:20250904T170000
DTEND;TZID=America/Chicago:20250904T200000
DTSTAMP:20260424T113553
CREATED:20250827T024321Z
LAST-MODIFIED:20250827T024321Z
UID:27465-1757005200-1757016000@specialpals.org
SUMMARY:Adoption Event at Stars Sports Bar & Grill
DESCRIPTION:Come meet adoptable dogs as we cheer on the Astros at a special mobile adoption event from 5-8pm at Stars Sports Bar & Grill.
URL:https://specialpals.org/event/adoption-event-at-stars-sports-bar-grill-2/
LOCATION:Stars\, 414 W Grand Pkwy S\, Katy\, Texas\, 77494
ATTACH;FMTTYPE=image/jpeg:https://specialpals.org/wp-content/uploads/Stars.jpg
END:VEVENT
BEGIN:VEVENT
DTSTART;TZID=UTC:20250905T110000
DTEND;TZID=UTC:20250905T130000
DTSTAMP:20260424T113553
CREATED:20250827T024800Z
LAST-MODIFIED:20250827T024800Z
UID:27474-1757070000-1757077200@specialpals.org
SUMMARY:Low-Cost Vaccine Clinic Sept 5th
DESCRIPTION:Walk-ins only\, no appointment needed! \nOur walk-in low-cost shot clinic offers yearly vaccines\, preventative flea and heartworm medication\, heartworm testing\, and microchipping. \nWe are not a full-service vet and have a limited number of services. Please keep your pal safe by bringing them to our facility on a leash or in a carrier. \nThank you for your support!
URL:https://specialpals.org/event/low-cost-vaccine-clinic-sept-5th/
LOCATION:Special Pals\, 3830 Greenhouse Rd.\, Houston\, 77084\, United States
ATTACH;FMTTYPE=image/png:https://specialpals.org/wp-content/uploads/WELLNESS-Clinic-Poster-1.png
END:VEVENT
BEGIN:VEVENT
DTSTART;TZID=America/Chicago:20250906T110000
DTEND;TZID=America/Chicago:20250906T140000
DTSTAMP:20260424T113553
CREATED:20250903T034404Z
LAST-MODIFIED:20250903T034404Z
UID:27479-1757156400-1757167200@specialpals.org
SUMMARY:Adoption Day at Petsmart - Fry Rd
DESCRIPTION:Join us for a special mobile adoption event at Petsmart @ Fry & I-10! Meet adoptable dogs and cats from Special Pals.\n\nWe’ll also be collecting donations from our wishlist and offering plenty of t-shirts for sale.\n\nStop by to say hello and show your support for Special Pals!
URL:https://specialpals.org/event/adoption-day-at-petsmart-fry-rd-15/
LOCATION:Petsmart Fry rd\, 19945 Katy Fwy\, Houston\, Texas\, 77094
ATTACH;FMTTYPE=image/jpeg:https://specialpals.org/wp-content/uploads/Fry-Rd.jpg
END:VEVENT
BEGIN:VEVENT
DTSTART;TZID=America/Chicago:20250906T120000
DTEND;TZID=America/Chicago:20250906T150000
DTSTAMP:20260424T113553
CREATED:20250903T034444Z
LAST-MODIFIED:20250903T034444Z
UID:27481-1757160000-1757170800@specialpals.org
SUMMARY:Adoption Day at PETCO - Dacoma
DESCRIPTION:Come meet adoptable dogs and cats at a special mobile adoption event at Petco.\n\nWe will be collecting donations from our wishlist and will have plenty of t-shirts too! Stop by and say hi to show your support for Special Pals
URL:https://specialpals.org/event/adoption-day-at-petco-dacoma-3/
LOCATION:PETCO Dacoma\, Dacoma St\, Houston\, TX\, 77092\, United States
ATTACH;FMTTYPE=image/jpeg:https://specialpals.org/wp-content/uploads/PETCO-dacoma.jpg
END:VEVENT
BEGIN:VEVENT
DTSTART;TZID=UTC:20250907T120000
DTEND;TZID=UTC:20250907T150000
DTSTAMP:20260424T113553
CREATED:20250903T034548Z
LAST-MODIFIED:20250903T034548Z
UID:27483-1757246400-1757257200@specialpals.org
SUMMARY:Adoption day at PETCO - Morton Ranch
DESCRIPTION:Come meet adoptable dogs and cats at a special mobile adoption event at Petco. \n\n\nWe will be collecting donations from our wishlist and will have plenty of t-shirts too! Stop by and say hi to show your support for Special Pals.
URL:https://specialpals.org/event/adoption-day-at-petco-morton-ranch-10/
LOCATION:PETCO\, 2844 W Grand Pkwy N\, Katy\, TX\, 77449\, United States
ATTACH;FMTTYPE=image/png:https://specialpals.org/wp-content/uploads/Petco.png
END:VEVENT
BEGIN:VEVENT
DTSTART;TZID=America/Chicago:20250907T120000
DTEND;TZID=America/Chicago:20250907T150000
DTSTAMP:20260424T113553
CREATED:20250903T034726Z
LAST-MODIFIED:20250903T034726Z
UID:27485-1757246400-1757257200@specialpals.org
SUMMARY:Adoption Event at Pet Supplies Plus - Jersey Village
DESCRIPTION:Come meet adoptable dogs and cats at a special mobile adoption event at Pet Supplies Plus’ Jersey Village location.\n\n\nWe will be collecting donations from our wishlist and will have plenty of t-shirts too!
URL:https://specialpals.org/event/adoption-event-at-pet-supplies-plus-jersey-village-4/
LOCATION:PSP Jersey Village\, 9431 Jones Rd\, Houston\, Texas\, 77065\, United States
ATTACH;FMTTYPE=image/jpeg:https://specialpals.org/wp-content/uploads/PSP-JV.jpg
END:VEVENT
BEGIN:VEVENT
DTSTART;TZID=UTC:20250912T110000
DTEND;TZID=UTC:20250912T130000
DTSTAMP:20260424T113553
CREATED:20250903T034256Z
LAST-MODIFIED:20250903T034256Z
UID:27477-1757674800-1757682000@specialpals.org
SUMMARY:Low-Cost Vaccine Clinic Sept 12th
DESCRIPTION:Walk-ins only\, no appointment needed! \nOur walk-in low-cost shot clinic offers yearly vaccines\, preventative flea and heartworm medication\, heartworm testing\, and microchipping. \nWe are not a full-service vet and have a limited number of services. Please keep your pal safe by bringing them to our facility on a leash or in a carrier. \nThank you for your support!
URL:https://specialpals.org/event/low-cost-vaccine-clinic-sept-12th/
LOCATION:Special Pals\, 3830 Greenhouse Rd.\, Houston\, 77084\, United States
ATTACH;FMTTYPE=image/png:https://specialpals.org/wp-content/uploads/WELLNESS-Clinic-Poster-1.png
END:VEVENT
BEGIN:VEVENT
DTSTART;TZID=America/Chicago:20250913T110000
DTEND;TZID=America/Chicago:20250913T140000
DTSTAMP:20260424T113553
CREATED:20250907T235419Z
LAST-MODIFIED:20250907T235419Z
UID:27493-1757761200-1757772000@specialpals.org
SUMMARY:Adoption Day at Petsmart - Fry Rd
DESCRIPTION:Join us for a special mobile adoption event at Petsmart @ Fry & I-10! Meet adoptable dogs and cats from Special Pals.\n\nWe’ll also be collecting donations from our wishlist and offering plenty of t-shirts for sale.\n\nStop by to say hello and show your support for Special Pals!
URL:https://specialpals.org/event/adoption-day-at-petsmart-fry-rd-16/
LOCATION:Petsmart Fry rd\, 19945 Katy Fwy\, Houston\, Texas\, 77094
ATTACH;FMTTYPE=image/jpeg:https://specialpals.org/wp-content/uploads/Fry-Rd.jpg
END:VEVENT
BEGIN:VEVENT
DTSTART;TZID=America/Chicago:20250913T120000
DTEND;TZID=America/Chicago:20250913T150000
DTSTAMP:20260424T113553
CREATED:20250907T235559Z
LAST-MODIFIED:20250907T235559Z
UID:27497-1757764800-1757775600@specialpals.org
SUMMARY:Adoption Day at PetSmart - Bunker Hill
DESCRIPTION:Come meet adoptable dogs and cats at a special mobile adoption event at PetSmart.\n\nWe will be collecting donations from our wishlist and will have plenty of t-shirts too! Stop by and say hi.
URL:https://specialpals.org/event/adoption-day-at-petsmart-bunker-hill-13/
LOCATION:PetSmart – Bunker Hill\, 9718 Katy Fwy\, Houston\, Texas\, 77055
ATTACH;FMTTYPE=image/jpeg:https://specialpals.org/wp-content/uploads/FB_IMG_1741416711249.jpg
END:VEVENT
END:VCALENDAR