BEGIN:VCALENDAR
VERSION:2.0
PRODID:-//Special Pals - ECPv6.15.20//NONSGML v1.0//EN
CALSCALE:GREGORIAN
METHOD:PUBLISH
X-WR-CALNAME:Special Pals
X-ORIGINAL-URL:https://specialpals.org
X-WR-CALDESC:Events for Special Pals
REFRESH-INTERVAL;VALUE=DURATION:PT1H
X-Robots-Tag:noindex
X-PUBLISHED-TTL:PT1H
BEGIN:VTIMEZONE
TZID:UTC
BEGIN:STANDARD
TZOFFSETFROM:+0000
TZOFFSETTO:+0000
TZNAME:UTC
DTSTART:20230101T000000
END:STANDARD
END:VTIMEZONE
BEGIN:VTIMEZONE
TZID:America/Chicago
BEGIN:DAYLIGHT
TZOFFSETFROM:-0600
TZOFFSETTO:-0500
TZNAME:CDT
DTSTART:20230312T080000
END:DAYLIGHT
BEGIN:STANDARD
TZOFFSETFROM:-0500
TZOFFSETTO:-0600
TZNAME:CST
DTSTART:20231105T070000
END:STANDARD
BEGIN:DAYLIGHT
TZOFFSETFROM:-0600
TZOFFSETTO:-0500
TZNAME:CDT
DTSTART:20240310T080000
END:DAYLIGHT
BEGIN:STANDARD
TZOFFSETFROM:-0500
TZOFFSETTO:-0600
TZNAME:CST
DTSTART:20241103T070000
END:STANDARD
BEGIN:DAYLIGHT
TZOFFSETFROM:-0600
TZOFFSETTO:-0500
TZNAME:CDT
DTSTART:20250309T080000
END:DAYLIGHT
BEGIN:STANDARD
TZOFFSETFROM:-0500
TZOFFSETTO:-0600
TZNAME:CST
DTSTART:20251102T070000
END:STANDARD
BEGIN:DAYLIGHT
TZOFFSETFROM:-0600
TZOFFSETTO:-0500
TZNAME:CDT
DTSTART:20260308T080000
END:DAYLIGHT
BEGIN:STANDARD
TZOFFSETFROM:-0500
TZOFFSETTO:-0600
TZNAME:CST
DTSTART:20261101T070000
END:STANDARD
END:VTIMEZONE
BEGIN:VEVENT
DTSTART;TZID=UTC:20241205T110000
DTEND;TZID=UTC:20241205T130000
DTSTAMP:20260425T055911
CREATED:20241123T042349Z
LAST-MODIFIED:20241123T042349Z
UID:23646-1733396400-1733403600@specialpals.org
SUMMARY:Low-Cost Shot Clinic Dec 5th
DESCRIPTION:Walk-ins only\, no appointment needed! \nOur walk-in low-cost shot clinic offers yearly vaccines\, preventative flea and heartworm medication\, heartworm testing\, and microchipping. \nWe are not a full-service vet and have a limited number of services. Please keep your pal safe by bringing them to our facility on a leash or in a carrier. \nThank you for your support!
URL:https://specialpals.org/event/low-cost-shot-clinic-dec-5th/
LOCATION:Special Pals\, 3830 Greenhouse Rd.\, Houston\, 77084\, United States
ATTACH;FMTTYPE=image/png:https://specialpals.org/wp-content/uploads/7-e1706489058461.png
END:VEVENT
BEGIN:VEVENT
DTSTART;TZID=America/Chicago:20241207T130000
DTEND;TZID=America/Chicago:20241207T150000
DTSTAMP:20260425T055911
CREATED:20241202T063522Z
LAST-MODIFIED:20241202T063522Z
UID:23825-1733576400-1733583600@specialpals.org
SUMMARY:Home For The Holidays
DESCRIPTION:Come join us for the fun on December 7th from 1pm – 3pm!We will have:\nPhotos with Santa (Suggested Donation of $20)InflatablesAdoptionsSilent AuctionFood TrucksVendorsMusic & More
URL:https://specialpals.org/event/home-for-the-holidays/
LOCATION:Special Pals\, 3830 Greenhouse Rd.\, Houston\, 77084\, United States
ATTACH;FMTTYPE=image/png:https://specialpals.org/wp-content/uploads/Red-And-White-Modern-Chistmas-Fundraising-Instagram-Post-1.png
END:VEVENT
BEGIN:VEVENT
DTSTART;TZID=UTC:20241208T110000
DTEND;TZID=UTC:20241208T130000
DTSTAMP:20260425T055911
CREATED:20241202T064357Z
LAST-MODIFIED:20241202T064357Z
UID:23828-1733655600-1733662800@specialpals.org
SUMMARY:Adoption day at PETCO - Mason Rd
DESCRIPTION:Come meet adoptable dogs and cats at a special mobile adoption event at Petco. \n\n\nWe will be collecting donations from our wishlist and will have plenty of t-shirts too! Stop by and say hi to show your support for Special Pals.
URL:https://specialpals.org/event/adoption-day-at-petco-mason-rd-2/
LOCATION:PETCO Mason\, 513 S Mason Rd\, Katy\, 77450\, United States
ATTACH;FMTTYPE=image/png:https://specialpals.org/wp-content/uploads/Petco.png
END:VEVENT
BEGIN:VEVENT
DTSTART;TZID=UTC:20241208T110000
DTEND;TZID=UTC:20241208T130000
DTSTAMP:20260425T055911
CREATED:20241202T064432Z
LAST-MODIFIED:20241202T064432Z
UID:23830-1733655600-1733662800@specialpals.org
SUMMARY:Adoption day at PETCO - Morton Ranch
DESCRIPTION:Come meet adoptable dogs and cats at a special mobile adoption event at Petco. \n\n\nWe will be collecting donations from our wishlist and will have plenty of t-shirts too! Stop by and say hi to show your support for Special Pals.
URL:https://specialpals.org/event/adoption-day-at-petco-morton-ranch-3/
LOCATION:PETCO\, 2844 W Grand Pkwy N\, Katy\, TX\, 77449\, United States
ATTACH;FMTTYPE=image/png:https://specialpals.org/wp-content/uploads/Petco.png
END:VEVENT
BEGIN:VEVENT
DTSTART;TZID=UTC:20241213T110000
DTEND;TZID=UTC:20241213T130000
DTSTAMP:20260425T055911
CREATED:20241123T042421Z
LAST-MODIFIED:20241123T042421Z
UID:23645-1734087600-1734094800@specialpals.org
SUMMARY:Low-Cost Shot Clinic Dec 13th
DESCRIPTION:Walk-ins only\, no appointment needed! \nOur walk-in low-cost shot clinic offers yearly vaccines\, preventative flea and heartworm medication\, heartworm testing\, and microchipping. \nWe are not a full-service vet and have a limited number of services. Please keep your pal safe by bringing them to our facility on a leash or in a carrier. \nThank you for your support!
URL:https://specialpals.org/event/low-cost-shot-clinic-dec-13th/
LOCATION:Special Pals\, 3830 Greenhouse Rd.\, Houston\, 77084\, United States
ATTACH;FMTTYPE=image/png:https://specialpals.org/wp-content/uploads/7-e1706489058461.png
END:VEVENT
BEGIN:VEVENT
DTSTART;TZID=UTC:20241214T120000
DTEND;TZID=UTC:20241214T150000
DTSTAMP:20260425T055911
CREATED:20241212T211514Z
LAST-MODIFIED:20241212T211514Z
UID:24459-1734177600-1734188400@specialpals.org
SUMMARY:Adoption day at Willowbrook Mall
DESCRIPTION:Come meet adoptable dogs and cats at a special mobile adoption event at Willowbrook Mall! Find Special Pals and our adoptable dogs and cats inside the mall\, Center Court next to H&M.\n\nWe will be collecting donations from our wishlist and will have plenty of t-shirts too! Stop by and say hi\, and show your support for Special Pals!
URL:https://specialpals.org/event/adoption-day-at-willowbrook-mall-9/
LOCATION:Willowbrook\, 2000 Willowbrook Mall\, Houston\, TX\, 77070\, United States
ATTACH;FMTTYPE=image/png:https://specialpals.org/wp-content/uploads/Willowbrook-1.png
END:VEVENT
BEGIN:VEVENT
DTSTART;TZID=UTC:20241220T110000
DTEND;TZID=UTC:20241220T130000
DTSTAMP:20260425T055911
CREATED:20241212T183452Z
LAST-MODIFIED:20241212T183452Z
UID:24455-1734692400-1734699600@specialpals.org
SUMMARY:Low-Cost Shot Clinic Dec 20th
DESCRIPTION:Walk-ins only\, no appointment needed! \nOur walk-in low-cost shot clinic offers yearly vaccines\, preventative flea and heartworm medication\, heartworm testing\, and microchipping. \nWe are not a full-service vet and have a limited number of services. Please keep your pal safe by bringing them to our facility on a leash or in a carrier. \nThank you for your support!
URL:https://specialpals.org/event/low-cost-shot-clinic-dec-20th/
LOCATION:Special Pals\, 3830 Greenhouse Rd.\, Houston\, 77084\, United States
ATTACH;FMTTYPE=image/png:https://specialpals.org/wp-content/uploads/7-e1706489058461.png
END:VEVENT
BEGIN:VEVENT
DTSTART;TZID=UTC:20241227T110000
DTEND;TZID=UTC:20241227T130000
DTSTAMP:20260425T055911
CREATED:20241212T211417Z
LAST-MODIFIED:20241212T211417Z
UID:24457-1735297200-1735304400@specialpals.org
SUMMARY:Low-Cost Shot Clinic Dec 27th
DESCRIPTION:Walk-ins only\, no appointment needed! \nOur walk-in low-cost shot clinic offers yearly vaccines\, preventative flea and heartworm medication\, heartworm testing\, and microchipping. \nWe are not a full-service vet and have a limited number of services. Please keep your pal safe by bringing them to our facility on a leash or in a carrier. \nThank you for your support!
URL:https://specialpals.org/event/low-cost-shot-clinic-dec-27th/
LOCATION:Special Pals\, 3830 Greenhouse Rd.\, Houston\, 77084\, United States
ATTACH;FMTTYPE=image/png:https://specialpals.org/wp-content/uploads/7-e1706489058461.png
END:VEVENT
BEGIN:VEVENT
DTSTART;TZID=UTC:20250103T110000
DTEND;TZID=UTC:20250103T130000
DTSTAMP:20260425T055911
CREATED:20241225T182223Z
LAST-MODIFIED:20241225T182244Z
UID:25856-1735902000-1735909200@specialpals.org
SUMMARY:Low-Cost Shot Clinic Jan 3rd
DESCRIPTION:Walk-ins only\, no appointment needed! \nOur walk-in low-cost shot clinic offers yearly vaccines\, preventative flea and heartworm medication\, heartworm testing\, and microchipping. \nWe are not a full-service vet and have a limited number of services. Please keep your pal safe by bringing them to our facility on a leash or in a carrier. \nThank you for your support!
URL:https://specialpals.org/event/low-cost-shot-clinic-jan3rd/
LOCATION:Special Pals\, 3830 Greenhouse Rd.\, Houston\, 77084\, United States
ATTACH;FMTTYPE=image/png:https://specialpals.org/wp-content/uploads/7-e1706489058461.png
END:VEVENT
BEGIN:VEVENT
DTSTART;TZID=UTC:20250110T110000
DTEND;TZID=UTC:20250110T130000
DTSTAMP:20260425T055911
CREATED:20241225T182313Z
LAST-MODIFIED:20241225T182313Z
UID:25859-1736506800-1736514000@specialpals.org
SUMMARY:Low-Cost Shot Clinic Jan 10th
DESCRIPTION:Walk-ins only\, no appointment needed! \nOur walk-in low-cost shot clinic offers yearly vaccines\, preventative flea and heartworm medication\, heartworm testing\, and microchipping. \nWe are not a full-service vet and have a limited number of services. Please keep your pal safe by bringing them to our facility on a leash or in a carrier. \nThank you for your support!
URL:https://specialpals.org/event/low-cost-shot-clinic-jan-10th/
LOCATION:Special Pals\, 3830 Greenhouse Rd.\, Houston\, 77084\, United States
ATTACH;FMTTYPE=image/png:https://specialpals.org/wp-content/uploads/7-e1706489058461.png
END:VEVENT
BEGIN:VEVENT
DTSTART;TZID=UTC:20250117T110000
DTEND;TZID=UTC:20250117T130000
DTSTAMP:20260425T055911
CREATED:20241225T182339Z
LAST-MODIFIED:20241225T182350Z
UID:25862-1737111600-1737118800@specialpals.org
SUMMARY:Low-Cost Shot Clinic Jan 17th
DESCRIPTION:Walk-ins only\, no appointment needed! \nOur walk-in low-cost shot clinic offers yearly vaccines\, preventative flea and heartworm medication\, heartworm testing\, and microchipping. \nWe are not a full-service vet and have a limited number of services. Please keep your pal safe by bringing them to our facility on a leash or in a carrier. \nThank you for your support!
URL:https://specialpals.org/event/low-cost-shot-clinic-jan-17th/
LOCATION:Special Pals\, 3830 Greenhouse Rd.\, Houston\, 77084\, United States
ATTACH;FMTTYPE=image/png:https://specialpals.org/wp-content/uploads/7-e1706489058461.png
END:VEVENT
BEGIN:VEVENT
DTSTART;TZID=UTC:20250124T110000
DTEND;TZID=UTC:20250124T130000
DTSTAMP:20260425T055911
CREATED:20241225T182411Z
LAST-MODIFIED:20241225T182411Z
UID:25861-1737716400-1737723600@specialpals.org
SUMMARY:Low-Cost Shot Clinic Jan 24th
DESCRIPTION:Walk-ins only\, no appointment needed! \nOur walk-in low-cost shot clinic offers yearly vaccines\, preventative flea and heartworm medication\, heartworm testing\, and microchipping. \nWe are not a full-service vet and have a limited number of services. Please keep your pal safe by bringing them to our facility on a leash or in a carrier. \nThank you for your support!
URL:https://specialpals.org/event/low-cost-shot-clinic-jan-24th/
LOCATION:Special Pals\, 3830 Greenhouse Rd.\, Houston\, 77084\, United States
ATTACH;FMTTYPE=image/png:https://specialpals.org/wp-content/uploads/7-e1706489058461.png
END:VEVENT
BEGIN:VEVENT
DTSTART;TZID=UTC:20250125T120000
DTEND;TZID=UTC:20250125T150000
DTSTAMP:20260425T055911
CREATED:20250117T043701Z
LAST-MODIFIED:20250117T043718Z
UID:25949-1737806400-1737817200@specialpals.org
SUMMARY:Adoption day at Willowbrook Mall
DESCRIPTION:Come meet adoptable dogs and cats at a special mobile adoption event at Willowbrook Mall! Find Special Pals and our adoptable dogs and cats inside the mall\, Center Court next to H&M.\n\nWe will be collecting donations from our wishlist and will have plenty of t-shirts too! Stop by and say hi\, and show your support for Special Pals!
URL:https://specialpals.org/event/adoption-day-at-willowbrook-mall-copy/
LOCATION:Willowbrook\, 2000 Willowbrook Mall\, Houston\, TX\, 77070\, United States
ATTACH;FMTTYPE=image/png:https://specialpals.org/wp-content/uploads/Willowbrook-1.png
END:VEVENT
BEGIN:VEVENT
DTSTART;TZID=UTC:20250131T110000
DTEND;TZID=UTC:20250131T130000
DTSTAMP:20260425T055911
CREATED:20241225T182441Z
LAST-MODIFIED:20241225T182456Z
UID:25865-1738321200-1738328400@specialpals.org
SUMMARY:Low-Cost Shot Clinic Jan 31st
DESCRIPTION:Walk-ins only\, no appointment needed! \nOur walk-in low-cost shot clinic offers yearly vaccines\, preventative flea and heartworm medication\, heartworm testing\, and microchipping. \nWe are not a full-service vet and have a limited number of services. Please keep your pal safe by bringing them to our facility on a leash or in a carrier. \nThank you for your support!
URL:https://specialpals.org/event/low-cost-shot-clinic-jan-31st/
LOCATION:Special Pals\, 3830 Greenhouse Rd.\, Houston\, 77084\, United States
ATTACH;FMTTYPE=image/png:https://specialpals.org/wp-content/uploads/7-e1706489058461.png
END:VEVENT
BEGIN:VEVENT
DTSTART;TZID=UTC:20250207T110000
DTEND;TZID=UTC:20250207T130000
DTSTAMP:20260425T055911
CREATED:20250206T195035Z
LAST-MODIFIED:20250206T195035Z
UID:26079-1738926000-1738933200@specialpals.org
SUMMARY:Low-Cost Shot Clinic Feb 7th
DESCRIPTION:Walk-ins only\, no appointment needed! \nOur walk-in low-cost shot clinic offers yearly vaccines\, preventative flea and heartworm medication\, heartworm testing\, and microchipping. \nWe are not a full-service vet and have a limited number of services. Please keep your pal safe by bringing them to our facility on a leash or in a carrier. \nThank you for your support!
URL:https://specialpals.org/event/low-cost-shot-clinic-feb-7th/
LOCATION:Special Pals\, 3830 Greenhouse Rd.\, Houston\, 77084\, United States
ATTACH;FMTTYPE=image/png:https://specialpals.org/wp-content/uploads/7-e1706489058461.png
END:VEVENT
BEGIN:VEVENT
DTSTART;TZID=America/Chicago:20250208T130000
DTEND;TZID=America/Chicago:20250208T160000
DTSTAMP:20260425T055911
CREATED:20250206T201334Z
LAST-MODIFIED:20250206T201625Z
UID:26088-1739019600-1739030400@specialpals.org
SUMMARY:Adoption Day at Katy Mills Mall
DESCRIPTION:Join Us for a Special Mobile Adoption Event at Katy Mills Mall!\n\nCome meet our adorable adoptable dogs and cats at a special mobile adoption event inside Katy Mills Mall! You’ll find Special Pals and our furry friends next to the AMC Theater.\n\nWe’ll be collecting donations from our wishlist\, and we’ll have plenty of t-shirts available for purchase\, too!\nStop by\, say hello\, and show your support for the amazing work we do at Special Pals.
URL:https://specialpals.org/event/adoption-day-at-katy-mills-mall/
LOCATION:Katy Mills Mall\, 5000 Katy Mills Circle\, Katy\, TX\, 77494\, United States
ATTACH;FMTTYPE=image/jpeg:https://specialpals.org/wp-content/uploads/Katy-Mills.jpg
END:VEVENT
BEGIN:VEVENT
DTSTART;TZID=UTC:20250214T110000
DTEND;TZID=UTC:20250214T130000
DTSTAMP:20260425T055911
CREATED:20250206T195106Z
LAST-MODIFIED:20250206T195106Z
UID:26081-1739530800-1739538000@specialpals.org
SUMMARY:Low-Cost Shot Clinic Feb 14th
DESCRIPTION:Walk-ins only\, no appointment needed! \nOur walk-in low-cost shot clinic offers yearly vaccines\, preventative flea and heartworm medication\, heartworm testing\, and microchipping. \nWe are not a full-service vet and have a limited number of services. Please keep your pal safe by bringing them to our facility on a leash or in a carrier. \nThank you for your support!
URL:https://specialpals.org/event/low-cost-shot-clinic-feb-14th/
LOCATION:Special Pals\, 3830 Greenhouse Rd.\, Houston\, 77084\, United States
ATTACH;FMTTYPE=image/png:https://specialpals.org/wp-content/uploads/7-e1706489058461.png
END:VEVENT
BEGIN:VEVENT
DTSTART;TZID=UTC:20250215T120000
DTEND;TZID=UTC:20250215T150000
DTSTAMP:20260425T055911
CREATED:20250206T195337Z
LAST-MODIFIED:20250206T195337Z
UID:26085-1739620800-1739631600@specialpals.org
SUMMARY:Adoption day at Willowbrook Mall
DESCRIPTION:Come meet adoptable dogs and cats at a special mobile adoption event at Willowbrook Mall! Find Special Pals and our adoptable dogs and cats inside the mall\, Center Court next to H&M.\n\nWe will be collecting donations from our wishlist and will have plenty of t-shirts too! Stop by and say hi\, and show your support for Special Pals!
URL:https://specialpals.org/event/adoption-day-at-willowbrook-mall-10/
LOCATION:Willowbrook\, 2000 Willowbrook Mall\, Houston\, TX\, 77070\, United States
ATTACH;FMTTYPE=image/png:https://specialpals.org/wp-content/uploads/Willowbrook-1.png
END:VEVENT
BEGIN:VEVENT
DTSTART;TZID=UTC:20250228T110000
DTEND;TZID=UTC:20250228T130000
DTSTAMP:20260425T055911
CREATED:20250206T195144Z
LAST-MODIFIED:20250206T195144Z
UID:26083-1740740400-1740747600@specialpals.org
SUMMARY:Low-Cost Shot Clinic Feb 28th
DESCRIPTION:Walk-ins only\, no appointment needed! \nOur walk-in low-cost shot clinic offers yearly vaccines\, preventative flea and heartworm medication\, heartworm testing\, and microchipping. \nWe are not a full-service vet and have a limited number of services. Please keep your pal safe by bringing them to our facility on a leash or in a carrier. \nThank you for your support!
URL:https://specialpals.org/event/low-cost-shot-clinic-feb-28th/
LOCATION:Special Pals\, 3830 Greenhouse Rd.\, Houston\, 77084\, United States
ATTACH;FMTTYPE=image/png:https://specialpals.org/wp-content/uploads/7-e1706489058461.png
END:VEVENT
BEGIN:VEVENT
DTSTART;TZID=UTC:20250301T110000
DTEND;TZID=UTC:20250301T130000
DTSTAMP:20260425T055911
CREATED:20250301T153909Z
LAST-MODIFIED:20250301T153909Z
UID:26419-1740826800-1740834000@specialpals.org
SUMMARY:Adoption day at PETCO - Morton Ranch
DESCRIPTION:Come meet adoptable dogs and cats at a special mobile adoption event at Petco. \n\n\nWe will be collecting donations from our wishlist and will have plenty of t-shirts too! Stop by and say hi to show your support for Special Pals.
URL:https://specialpals.org/event/adoption-day-at-petco-morton-ranch-4/
LOCATION:PETCO\, 2844 W Grand Pkwy N\, Katy\, TX\, 77449\, United States
ATTACH;FMTTYPE=image/png:https://specialpals.org/wp-content/uploads/Petco.png
END:VEVENT
BEGIN:VEVENT
DTSTART;TZID=UTC:20250301T110000
DTEND;TZID=UTC:20250301T130000
DTSTAMP:20260425T055911
CREATED:20250301T153955Z
LAST-MODIFIED:20250301T153955Z
UID:26421-1740826800-1740834000@specialpals.org
SUMMARY:Adoption day at PETCO - Mason Rd
DESCRIPTION:Come meet adoptable dogs and cats at a special mobile adoption event at Petco. \n\n\nWe will be collecting donations from our wishlist and will have plenty of t-shirts too! Stop by and say hi to show your support for Special Pals.
URL:https://specialpals.org/event/adoption-day-at-petco-mason-rd-3/
LOCATION:PETCO Mason\, 513 S Mason Rd\, Katy\, 77450\, United States
ATTACH;FMTTYPE=image/png:https://specialpals.org/wp-content/uploads/Petco.png
END:VEVENT
BEGIN:VEVENT
DTSTART;TZID=UTC:20250307T110000
DTEND;TZID=UTC:20250307T130000
DTSTAMP:20260425T055911
CREATED:20250301T154041Z
LAST-MODIFIED:20250301T154041Z
UID:26423-1741345200-1741352400@specialpals.org
SUMMARY:Low-Cost Shot Clinic March 7th
DESCRIPTION:Walk-ins only\, no appointment needed! \nOur walk-in low-cost shot clinic offers yearly vaccines\, preventative flea and heartworm medication\, heartworm testing\, and microchipping. \nWe are not a full-service vet and have a limited number of services. Please keep your pal safe by bringing them to our facility on a leash or in a carrier. \nThank you for your support!
URL:https://specialpals.org/event/low-cost-shot-clinic-march-7th/
LOCATION:Special Pals\, 3830 Greenhouse Rd.\, Houston\, 77084\, United States
ATTACH;FMTTYPE=image/png:https://specialpals.org/wp-content/uploads/7-e1706489058461.png
END:VEVENT
BEGIN:VEVENT
DTSTART;TZID=America/Chicago:20250308T110000
DTEND;TZID=America/Chicago:20250308T140000
DTSTAMP:20260425T055911
CREATED:20250308T180054Z
LAST-MODIFIED:20250308T180340Z
UID:26667-1741431600-1741442400@specialpals.org
SUMMARY:Adoption Day at PetSmart - Bunker Hill
DESCRIPTION:Come meet adoptable dogs and cats at a special mobile adoption event at PetSmart.\n\nWe will be collecting donations from our wishlist and will have plenty of t-shirts too! Stop by and say hi.
URL:https://specialpals.org/event/adoption-day-at-petsmart-4/
LOCATION:PetSmart – Bunker Hill\, 9718 Katy Fwy\, Houston\, Texas\, 77055
ATTACH;FMTTYPE=image/jpeg:https://specialpals.org/wp-content/uploads/FB_IMG_1741416711249.jpg
END:VEVENT
BEGIN:VEVENT
DTSTART;TZID=UTC:20250314T110000
DTEND;TZID=UTC:20250314T130000
DTSTAMP:20260425T055911
CREATED:20250301T154142Z
LAST-MODIFIED:20250301T154142Z
UID:26425-1741950000-1741957200@specialpals.org
SUMMARY:Low-Cost Shot Clinic March 14th
DESCRIPTION:Walk-ins only\, no appointment needed! \nOur walk-in low-cost shot clinic offers yearly vaccines\, preventative flea and heartworm medication\, heartworm testing\, and microchipping. \nWe are not a full-service vet and have a limited number of services. Please keep your pal safe by bringing them to our facility on a leash or in a carrier. \nThank you for your support!
URL:https://specialpals.org/event/low-cost-shot-clinic-march-14th/
LOCATION:Special Pals\, 3830 Greenhouse Rd.\, Houston\, 77084\, United States
ATTACH;FMTTYPE=image/png:https://specialpals.org/wp-content/uploads/7-e1706489058461.png
END:VEVENT
BEGIN:VEVENT
DTSTART;TZID=UTC:20250321T110000
DTEND;TZID=UTC:20250321T130000
DTSTAMP:20260425T055911
CREATED:20250301T154235Z
LAST-MODIFIED:20250301T154235Z
UID:26429-1742554800-1742562000@specialpals.org
SUMMARY:Low-Cost Shot Clinic March 21st
DESCRIPTION:Walk-ins only\, no appointment needed! \nOur walk-in low-cost shot clinic offers yearly vaccines\, preventative flea and heartworm medication\, heartworm testing\, and microchipping. \nWe are not a full-service vet and have a limited number of services. Please keep your pal safe by bringing them to our facility on a leash or in a carrier. \nThank you for your support!
URL:https://specialpals.org/event/low-cost-shot-clinic-march-21st/
LOCATION:Special Pals\, 3830 Greenhouse Rd.\, Houston\, 77084\, United States
ATTACH;FMTTYPE=image/png:https://specialpals.org/wp-content/uploads/7-e1706489058461.png
END:VEVENT
BEGIN:VEVENT
DTSTART;TZID=UTC:20250322T120000
DTEND;TZID=UTC:20250322T150000
DTSTAMP:20260425T055911
CREATED:20250322T154346Z
LAST-MODIFIED:20250322T154346Z
UID:26690-1742644800-1742655600@specialpals.org
SUMMARY:Adoption day at Willowbrook Mall
DESCRIPTION:Come meet adoptable dogs and cats at a special mobile adoption event at Willowbrook Mall! Find Special Pals and our adoptable dogs and cats inside the mall\, Center Court next to H&M.\n\nWe will be collecting donations from our wishlist and will have plenty of t-shirts too! Stop by and say hi\, and show your support for Special Pals!
URL:https://specialpals.org/event/adoption-day-at-willowbrook-mall-11/
LOCATION:Willowbrook\, 2000 Willowbrook Mall\, Houston\, TX\, 77070\, United States
ATTACH;FMTTYPE=image/png:https://specialpals.org/wp-content/uploads/Willowbrook-1.png
END:VEVENT
BEGIN:VEVENT
DTSTART;TZID=UTC:20250328T110000
DTEND;TZID=UTC:20250328T130000
DTSTAMP:20260425T055911
CREATED:20250301T154304Z
LAST-MODIFIED:20250301T154304Z
UID:26427-1743159600-1743166800@specialpals.org
SUMMARY:Low-Cost Shot Clinic March 28th
DESCRIPTION:Walk-ins only\, no appointment needed! \nOur walk-in low-cost shot clinic offers yearly vaccines\, preventative flea and heartworm medication\, heartworm testing\, and microchipping. \nWe are not a full-service vet and have a limited number of services. Please keep your pal safe by bringing them to our facility on a leash or in a carrier. \nThank you for your support!
URL:https://specialpals.org/event/low-cost-shot-clinic-march-28th/
LOCATION:Special Pals\, 3830 Greenhouse Rd.\, Houston\, 77084\, United States
ATTACH;FMTTYPE=image/png:https://specialpals.org/wp-content/uploads/7-e1706489058461.png
END:VEVENT
BEGIN:VEVENT
DTSTART;TZID=UTC:20250329T110000
DTEND;TZID=UTC:20250329T140000
DTSTAMP:20260425T055911
CREATED:20250308T180321Z
LAST-MODIFIED:20250308T180321Z
UID:26672-1743246000-1743256800@specialpals.org
SUMMARY:Adoption day at PetSmart - Richmond
DESCRIPTION:Come meet adoptable dogs and cats at a special mobile adoption event at PetSmart.\n\nWe will be collecting donations from our wishlist and will have plenty of t-shirts too! Stop by and say hi.
URL:https://specialpals.org/event/adoption-day-at-petsmart-richmond/
LOCATION:PetSmart – Richmond\, 5574 W Gran Pkwy S\, Richmond\, TX\, 77406\, United States
ATTACH;FMTTYPE=image/png:https://specialpals.org/wp-content/uploads/Generic-Event-Posts.png
END:VEVENT
BEGIN:VEVENT
DTSTART;TZID=America/Chicago:20250329T120000
DTEND;TZID=America/Chicago:20250329T150000
DTSTAMP:20260425T055911
CREATED:20250325T024902Z
LAST-MODIFIED:20250325T024902Z
UID:26696-1743249600-1743260400@specialpals.org
SUMMARY:New Homes Hoopla with Elyson
DESCRIPTION:Come meet adoptable dogs and cats at a special mobile adoption event! \nSpecial Pals is joining Elyson by Newland for this event. There will be music\, facepainting\, pony rides\, food trucks\, and pet adoptions. \nThis event is sure to be a good time and we hope to see you there!
URL:https://specialpals.org/event/new-homes-hoopla-with-elyson/
LOCATION:Hoopla\, 7340 Longspur Hollow Lane\, Katy\, TX\, 77493\, United States
ATTACH;FMTTYPE=image/jpeg:https://specialpals.org/wp-content/uploads/Hoopla.jpg
END:VEVENT
BEGIN:VEVENT
DTSTART;TZID=America/Chicago:20250330T110000
DTEND;TZID=America/Chicago:20250330T140000
DTSTAMP:20260425T055911
CREATED:20250328T211528Z
LAST-MODIFIED:20250328T211528Z
UID:26701-1743332400-1743343200@specialpals.org
SUMMARY:Adoption Day at PetSmart - Bunker Hill
DESCRIPTION:Come meet adoptable dogs and cats at a special mobile adoption event at PetSmart.\n\nWe will be collecting donations from our wishlist and will have plenty of t-shirts too! Stop by and say hi.
URL:https://specialpals.org/event/adoption-day-at-petsmart-bunker-hill/
LOCATION:PetSmart – Bunker Hill\, 9718 Katy Fwy\, Houston\, Texas\, 77055
ATTACH;FMTTYPE=image/jpeg:https://specialpals.org/wp-content/uploads/FB_IMG_1741416711249.jpg
END:VEVENT
END:VCALENDAR