BEGIN:VCALENDAR
VERSION:2.0
PRODID:-//Special Pals - ECPv6.15.20//NONSGML v1.0//EN
CALSCALE:GREGORIAN
METHOD:PUBLISH
X-ORIGINAL-URL:https://specialpals.org
X-WR-CALDESC:Events for Special Pals
REFRESH-INTERVAL;VALUE=DURATION:PT1H
X-Robots-Tag:noindex
X-PUBLISHED-TTL:PT1H
BEGIN:VTIMEZONE
TZID:America/Chicago
BEGIN:DAYLIGHT
TZOFFSETFROM:-0600
TZOFFSETTO:-0500
TZNAME:CDT
DTSTART:20250309T080000
END:DAYLIGHT
BEGIN:STANDARD
TZOFFSETFROM:-0500
TZOFFSETTO:-0600
TZNAME:CST
DTSTART:20251102T070000
END:STANDARD
BEGIN:DAYLIGHT
TZOFFSETFROM:-0600
TZOFFSETTO:-0500
TZNAME:CDT
DTSTART:20260308T080000
END:DAYLIGHT
BEGIN:STANDARD
TZOFFSETFROM:-0500
TZOFFSETTO:-0600
TZNAME:CST
DTSTART:20261101T070000
END:STANDARD
BEGIN:DAYLIGHT
TZOFFSETFROM:-0600
TZOFFSETTO:-0500
TZNAME:CDT
DTSTART:20270314T080000
END:DAYLIGHT
BEGIN:STANDARD
TZOFFSETFROM:-0500
TZOFFSETTO:-0600
TZNAME:CST
DTSTART:20271107T070000
END:STANDARD
END:VTIMEZONE
BEGIN:VTIMEZONE
TZID:UTC
BEGIN:STANDARD
TZOFFSETFROM:+0000
TZOFFSETTO:+0000
TZNAME:UTC
DTSTART:20250101T000000
END:STANDARD
END:VTIMEZONE
BEGIN:VEVENT
DTSTART;TZID=America/Chicago:20260312T170000
DTEND;TZID=America/Chicago:20260312T210000
DTSTAMP:20260423T181401
CREATED:20260310T072510Z
LAST-MODIFIED:20260310T072510Z
UID:29383-1773334800-1773349200@specialpals.org
SUMMARY:Adoption Day at Kirby Icehouse - Gessner
DESCRIPTION:Come meet adoptable dogs and cats at a special mobile adoption event at Kirby Ice House. \n  \nMake a day of it! This is a great spot for family fun with many shops and local restaurants nearby. We will be collecting donations from our wishlist and will have plenty of t-shirts too!
URL:https://specialpals.org/event/adoption-day-at-kirby-icehouse-gessner/
LOCATION:Kirby Icehouse\, 1015 Gessner\, Houston\, TX\, 77055
ATTACH;FMTTYPE=image/jpeg:https://specialpals.org/wp-content/uploads/Kirby.jpg
END:VEVENT
BEGIN:VEVENT
DTSTART;TZID=UTC:20260313T110000
DTEND;TZID=UTC:20260313T130000
DTSTAMP:20260423T181401
CREATED:20260310T071629Z
LAST-MODIFIED:20260310T071629Z
UID:29367-1773399600-1773406800@specialpals.org
SUMMARY:Low-Cost Vaccine Clinic March 13th
DESCRIPTION:Walk-ins only\, no appointment needed! \nOur walk-in low-cost shot clinic offers yearly vaccines\, preventative flea and heartworm medication\, heartworm testing\, and microchipping. \nWe are not a full-service vet and have a limited number of services. Please keep your pal safe by bringing them to our facility on a leash or in a carrier. \nThank you for your support!
URL:https://specialpals.org/event/low-cost-vaccine-clinic-march-13th/
LOCATION:Special Pals\, 3830 Greenhouse Rd.\, Houston\, 77084\, United States
ATTACH;FMTTYPE=image/png:https://specialpals.org/wp-content/uploads/WELLNESS-Clinic-Poster-1.png
END:VEVENT
BEGIN:VEVENT
DTSTART;TZID=America/Chicago:20260314T110000
DTEND;TZID=America/Chicago:20260314T140000
DTSTAMP:20260423T181401
CREATED:20260310T071854Z
LAST-MODIFIED:20260310T071854Z
UID:29373-1773486000-1773496800@specialpals.org
SUMMARY:Adoption Day at Petsmart - Fry Rd
DESCRIPTION:Join us for a special mobile adoption event at Petsmart @ Fry & I-10! Meet adoptable dogs and cats from Special Pals.\n\nWe’ll also be collecting donations from our wishlist and offering plenty of t-shirts for sale.\n\nStop by to say hello and show your support for Special Pals!
URL:https://specialpals.org/event/adoption-day-at-petsmart-fry-rd-35/
LOCATION:Petsmart Fry rd\, 19945 Katy Fwy\, Houston\, Texas\, 77094
ATTACH;FMTTYPE=image/jpeg:https://specialpals.org/wp-content/uploads/Fry-Rd.jpg
END:VEVENT
BEGIN:VEVENT
DTSTART;TZID=America/Chicago:20260314T110000
DTEND;TZID=America/Chicago:20260314T140000
DTSTAMP:20260423T181401
CREATED:20260310T071941Z
LAST-MODIFIED:20260310T071941Z
UID:29375-1773486000-1773496800@specialpals.org
SUMMARY:Adoption Day at PetSmart - Eldridge
DESCRIPTION:Join us for a special mobile adoption event at Petsmart @ 2610 Eldridge Pkwy Houston\, TX 77082. Meet adoptable dogs and cats from Special Pals.\n\nWe’ll also be collecting donations from our wishlist and offering plenty of t-shirts for sale. Stop by to say hello and show your support for Special Pals!
URL:https://specialpals.org/event/adoption-day-at-petsmart-eldridge-4/
LOCATION:Petsmart Eldrridge\, 2610 Eldridge Parkway\, Houston\, TX\, 77082
ATTACH;FMTTYPE=image/jpeg:https://specialpals.org/wp-content/uploads/eldridge.jpg
END:VEVENT
BEGIN:VEVENT
DTSTART;TZID=UTC:20260314T110000
DTEND;TZID=UTC:20260314T140000
DTSTAMP:20260423T181401
CREATED:20260310T072122Z
LAST-MODIFIED:20260310T072122Z
UID:29377-1773486000-1773496800@specialpals.org
SUMMARY:Adoption day at PETCO - Morton Ranch
DESCRIPTION:Come meet adoptable dogs and cats at a special mobile adoption event at Petco. \n\n\nWe will be collecting donations from our wishlist and will have plenty of t-shirts too! Stop by and say hi to show your support for Special Pals.
URL:https://specialpals.org/event/adoption-day-at-petco-morton-ranch-12/
LOCATION:PETCO\, 2844 W Grand Pkwy N\, Katy\, TX\, 77449\, United States
ATTACH;FMTTYPE=image/png:https://specialpals.org/wp-content/uploads/Petco.png
END:VEVENT
BEGIN:VEVENT
DTSTART;TZID=America/Chicago:20260315T120000
DTEND;TZID=America/Chicago:20260315T150000
DTSTAMP:20260423T181401
CREATED:20260310T072213Z
LAST-MODIFIED:20260310T072213Z
UID:29379-1773576000-1773586800@specialpals.org
SUMMARY:Adoption Day at PetSmart - Eldridge
DESCRIPTION:Join us for a special mobile adoption event at Petsmart @ 2610 Eldridge Pkwy Houston\, TX 77082. Meet adoptable dogs and cats from Special Pals.\n\nWe’ll also be collecting donations from our wishlist and offering plenty of t-shirts for sale. Stop by to say hello and show your support for Special Pals!
URL:https://specialpals.org/event/adoption-day-at-petsmart-eldridge-5/
LOCATION:Petsmart Eldrridge\, 2610 Eldridge Parkway\, Houston\, TX\, 77082
ATTACH;FMTTYPE=image/jpeg:https://specialpals.org/wp-content/uploads/eldridge.jpg
END:VEVENT
BEGIN:VEVENT
DTSTART;TZID=America/Chicago:20260315T120000
DTEND;TZID=America/Chicago:20260315T150000
DTSTAMP:20260423T181401
CREATED:20260310T072327Z
LAST-MODIFIED:20260310T072327Z
UID:29381-1773576000-1773586800@specialpals.org
SUMMARY:Adoption Day at PetSmart - Katy
DESCRIPTION:Join us for a special mobile adoption event at Petsmart! Meet adoptable dogs and cats from Special Pals.\n\n\nWe’ll also be collecting donations from our wishlist and offering plenty of t-shirts for sale. Stop by to say hello and show your support for Special Pals!
URL:https://specialpals.org/event/adoption-day-at-petsmart-katy-15/
LOCATION:PetSmart Katy\, 24600 Katy Fwy\, Katy\, TX\, 77494\, United States
ATTACH;FMTTYPE=image/jpeg:https://specialpals.org/wp-content/uploads/Petsmart-Katy.jpg
END:VEVENT
BEGIN:VEVENT
DTSTART;TZID=UTC:20260320T110000
DTEND;TZID=UTC:20260320T130000
DTSTAMP:20260423T181401
CREATED:20260310T071717Z
LAST-MODIFIED:20260310T071717Z
UID:29369-1774004400-1774011600@specialpals.org
SUMMARY:Low-Cost Vaccine Clinic March 20th
DESCRIPTION:Walk-ins only\, no appointment needed! \nOur walk-in low-cost shot clinic offers yearly vaccines\, preventative flea and heartworm medication\, heartworm testing\, and microchipping. \nWe are not a full-service vet and have a limited number of services. Please keep your pal safe by bringing them to our facility on a leash or in a carrier. \nThank you for your support!
URL:https://specialpals.org/event/low-cost-vaccine-clinic-march-20th/
LOCATION:Special Pals\, 3830 Greenhouse Rd.\, Houston\, 77084\, United States
ATTACH;FMTTYPE=image/png:https://specialpals.org/wp-content/uploads/WELLNESS-Clinic-Poster-1.png
END:VEVENT
BEGIN:VEVENT
DTSTART;TZID=America/Chicago:20260320T170000
DTEND;TZID=America/Chicago:20260320T210000
DTSTAMP:20260423T181401
CREATED:20260310T072728Z
LAST-MODIFIED:20260310T072728Z
UID:29385-1774026000-1774040400@specialpals.org
SUMMARY:Adoption Day at Kirby Icehouse - Heights
DESCRIPTION:Come meet adoptable dogs at a special mobile adoption event at Kirby Ice House!\n\nMake an evening of it! This is a great spot for fun after work. We will be collecting donations from our wishlist and will have plenty of t-shirts too!
URL:https://specialpals.org/event/adoption-day-at-kirby-icehouse-heights-2/
LOCATION:Kirby Icehouse – Heights\, 1421 North Loop W\, Houston\, Texas\, 77008
ATTACH;FMTTYPE=image/jpeg:https://specialpals.org/wp-content/uploads/Kirby-Heights.jpg
END:VEVENT
BEGIN:VEVENT
DTSTART;TZID=America/Chicago:20260321T110000
DTEND;TZID=America/Chicago:20260321T140000
DTSTAMP:20260423T181401
CREATED:20260310T072925Z
LAST-MODIFIED:20260310T072925Z
UID:29387-1774090800-1774101600@specialpals.org
SUMMARY:Adoption Day at Petsmart - Fry Rd
DESCRIPTION:Join us for a special mobile adoption event at Petsmart @ Fry & I-10! Meet adoptable dogs and cats from Special Pals.\n\nWe’ll also be collecting donations from our wishlist and offering plenty of t-shirts for sale.\n\nStop by to say hello and show your support for Special Pals!
URL:https://specialpals.org/event/adoption-day-at-petsmart-fry-rd-36/
LOCATION:Petsmart Fry rd\, 19945 Katy Fwy\, Houston\, Texas\, 77094
ATTACH;FMTTYPE=image/jpeg:https://specialpals.org/wp-content/uploads/Fry-Rd.jpg
END:VEVENT
BEGIN:VEVENT
DTSTART;TZID=UTC:20260321T120000
DTEND;TZID=UTC:20260321T150000
DTSTAMP:20260423T181401
CREATED:20260310T073036Z
LAST-MODIFIED:20260310T073036Z
UID:29389-1774094400-1774105200@specialpals.org
SUMMARY:Adoption day at Willowbrook Mall
DESCRIPTION:Come meet adoptable dogs and cats at a special mobile adoption event at Willowbrook Mall! Find Special Pals and our adoptable dogs and cats inside the mall\, Center Court next to H&M.\n\nWe will be collecting donations from our wishlist and will have plenty of t-shirts too! Stop by and say hi\, and show your support for Special Pals!
URL:https://specialpals.org/event/adoption-day-at-willowbrook-mall-21/
LOCATION:Willowbrook\, 2000 Willowbrook Mall\, Houston\, TX\, 77070\, United States
ATTACH;FMTTYPE=image/png:https://specialpals.org/wp-content/uploads/Willowbrook-1.png
END:VEVENT
BEGIN:VEVENT
DTSTART;TZID=America/Chicago:20260322T120000
DTEND;TZID=America/Chicago:20260322T150000
DTSTAMP:20260423T181401
CREATED:20260310T073122Z
LAST-MODIFIED:20260310T073122Z
UID:29391-1774180800-1774191600@specialpals.org
SUMMARY:Adoption Day at PetSmart - Eldridge
DESCRIPTION:Join us for a special mobile adoption event at Petsmart @ 2610 Eldridge Pkwy Houston\, TX 77082. Meet adoptable dogs and cats from Special Pals.\n\nWe’ll also be collecting donations from our wishlist and offering plenty of t-shirts for sale. Stop by to say hello and show your support for Special Pals!
URL:https://specialpals.org/event/adoption-day-at-petsmart-eldridge-6/
LOCATION:Petsmart Eldrridge\, 2610 Eldridge Parkway\, Houston\, TX\, 77082
ATTACH;FMTTYPE=image/jpeg:https://specialpals.org/wp-content/uploads/eldridge.jpg
END:VEVENT
BEGIN:VEVENT
DTSTART;TZID=America/Chicago:20260326T170000
DTEND;TZID=America/Chicago:20260326T210000
DTSTAMP:20260423T181401
CREATED:20260324T030440Z
LAST-MODIFIED:20260324T030440Z
UID:29405-1774544400-1774558800@specialpals.org
SUMMARY:Adoption Day at Kirby Icehouse - Gessner
DESCRIPTION:Come meet adoptable dogs and cats at a special mobile adoption event at Kirby Ice House.
URL:https://specialpals.org/event/adoption-day-at-kirby-icehouse-gessner-2/
LOCATION:Kirby Icehouse\, 1015 Gessner\, Houston\, TX\, 77055
ATTACH;FMTTYPE=image/jpeg:https://specialpals.org/wp-content/uploads/Kirby.jpg
END:VEVENT
BEGIN:VEVENT
DTSTART;TZID=UTC:20260327T110000
DTEND;TZID=UTC:20260327T130000
DTSTAMP:20260423T181401
CREATED:20260310T071754Z
LAST-MODIFIED:20260310T071754Z
UID:29371-1774609200-1774616400@specialpals.org
SUMMARY:Low-Cost Vaccine Clinic March 27th
DESCRIPTION:Walk-ins only\, no appointment needed! \nOur walk-in low-cost shot clinic offers yearly vaccines\, preventative flea and heartworm medication\, heartworm testing\, and microchipping. \nWe are not a full-service vet and have a limited number of services. Please keep your pal safe by bringing them to our facility on a leash or in a carrier. \nThank you for your support!
URL:https://specialpals.org/event/low-cost-vaccine-clinic-march-27th/
LOCATION:Special Pals\, 3830 Greenhouse Rd.\, Houston\, 77084\, United States
ATTACH;FMTTYPE=image/png:https://specialpals.org/wp-content/uploads/WELLNESS-Clinic-Poster-1.png
END:VEVENT
BEGIN:VEVENT
DTSTART;TZID=America/Chicago:20260327T160000
DTEND;TZID=America/Chicago:20260327T190000
DTSTAMP:20260423T181401
CREATED:20260324T030542Z
LAST-MODIFIED:20260324T030542Z
UID:29407-1774627200-1774638000@specialpals.org
SUMMARY:Adoption Day at PetSmart - Eldridge
DESCRIPTION:Join us for a special mobile adoption event at Petsmart @ 2610 Eldridge Pkwy Houston\, TX 77082. Meet adoptable dogs and cats from Special Pals.\n\nWe’ll also be collecting donations from our wishlist and offering plenty of t-shirts for sale. Stop by to say hello and show your support for Special Pals!
URL:https://specialpals.org/event/adoption-day-at-petsmart-eldridge-7/
LOCATION:Petsmart Eldrridge\, 2610 Eldridge Parkway\, Houston\, TX\, 77082
ATTACH;FMTTYPE=image/jpeg:https://specialpals.org/wp-content/uploads/eldridge.jpg
END:VEVENT
BEGIN:VEVENT
DTSTART;TZID=America/Chicago:20260328T110000
DTEND;TZID=America/Chicago:20260328T140000
DTSTAMP:20260423T181401
CREATED:20260324T030810Z
LAST-MODIFIED:20260324T030810Z
UID:29411-1774695600-1774706400@specialpals.org
SUMMARY:Adoption Day at Petsmart - Fry Rd
DESCRIPTION:Join us for a special mobile adoption event at Petsmart @ Fry & I-10! Meet adoptable dogs and cats from Special Pals.\n\nWe’ll also be collecting donations from our wishlist and offering plenty of t-shirts for sale.\n\nStop by to say hello and show your support for Special Pals!
URL:https://specialpals.org/event/adoption-day-at-petsmart-fry-rd-37/
LOCATION:Petsmart Fry rd\, 19945 Katy Fwy\, Houston\, Texas\, 77094
ATTACH;FMTTYPE=image/jpeg:https://specialpals.org/wp-content/uploads/Fry-Rd.jpg
END:VEVENT
BEGIN:VEVENT
DTSTART;TZID=America/Chicago:20260328T110000
DTEND;TZID=America/Chicago:20260328T140000
DTSTAMP:20260423T181401
CREATED:20260324T030904Z
LAST-MODIFIED:20260324T030904Z
UID:29413-1774695600-1774706400@specialpals.org
SUMMARY:Adoption Day at PetSmart - Katy
DESCRIPTION:Join us for a special mobile adoption event at Petsmart! Meet adoptable dogs and cats from Special Pals.\n\n\nWe’ll also be collecting donations from our wishlist and offering plenty of t-shirts for sale. Stop by to say hello and show your support for Special Pals!
URL:https://specialpals.org/event/adoption-day-at-petsmart-katy-16/
LOCATION:PetSmart Katy\, 24600 Katy Fwy\, Katy\, TX\, 77494\, United States
ATTACH;FMTTYPE=image/jpeg:https://specialpals.org/wp-content/uploads/Petsmart-Katy.jpg
END:VEVENT
BEGIN:VEVENT
DTSTART;TZID=America/Chicago:20260328T110000
DTEND;TZID=America/Chicago:20260328T140000
DTSTAMP:20260423T181401
CREATED:20260324T031010Z
LAST-MODIFIED:20260324T031010Z
UID:29415-1774695600-1774706400@specialpals.org
SUMMARY:Adoption Dat at PetSmart - Fulshear
DESCRIPTION:Come meet adoptable dogs at a special mobile adoption event at PetSmart.\n\nWe will be collecting donations from our wishlist and will have plenty of t-shirts too! Stop by and say hi.
URL:https://specialpals.org/event/adoption-dat-at-petsmart-fulshear-2/
LOCATION:PetSmart Fulshear\, 26960 FM 1093\, Richmond\, Texas\, 774906
ATTACH;FMTTYPE=image/jpeg:https://specialpals.org/wp-content/uploads/Petsmart.jpg
END:VEVENT
BEGIN:VEVENT
DTSTART;TZID=America/Chicago:20260328T130000
DTEND;TZID=America/Chicago:20260328T160000
DTSTAMP:20260423T181401
CREATED:20260324T030713Z
LAST-MODIFIED:20260324T030713Z
UID:29409-1774702800-1774713600@specialpals.org
SUMMARY:Adoption Day at Katy Mills Mall
DESCRIPTION:Join Us for a Special Mobile Adoption Event at Katy Mills Mall!\n\nCome meet our adorable adoptable dogs and cats at a special mobile adoption event inside Katy Mills Mall! You’ll find Special Pals and our furry friends next to the AMC Theater.\n\nWe’ll be collecting donations from our wishlist\, and we’ll have plenty of t-shirts available for purchase\, too!\nStop by\, say hello\, and show your support for the amazing work we do at Special Pals.
URL:https://specialpals.org/event/adoption-day-at-katy-mills-mall-5/
LOCATION:Katy Mills Mall\, 5000 Katy Mills Circle\, Katy\, TX\, 77494\, United States
ATTACH;FMTTYPE=image/jpeg:https://specialpals.org/wp-content/uploads/Katy-Mills-1.jpg
END:VEVENT
BEGIN:VEVENT
DTSTART;TZID=UTC:20260329T110000
DTEND;TZID=UTC:20260329T140000
DTSTAMP:20260423T181401
CREATED:20260324T031333Z
LAST-MODIFIED:20260324T031333Z
UID:29419-1774782000-1774792800@specialpals.org
SUMMARY:Adoption day at PetSmart - Richmond
DESCRIPTION:Come meet adoptable dogs and cats at a special mobile adoption event at PetSmart.\n\nWe will be collecting donations from our wishlist and will have plenty of t-shirts too! Stop by and say hi.
URL:https://specialpals.org/event/adoption-day-at-petsmart-richmond-12/
LOCATION:PetSmart – Richmond\, 5574 W Gran Pkwy S\, Richmond\, TX\, 77406\, United States
ATTACH;FMTTYPE=image/png:https://specialpals.org/wp-content/uploads/Generic-Event-Posts.png
END:VEVENT
BEGIN:VEVENT
DTSTART;TZID=America/Chicago:20260329T110000
DTEND;TZID=America/Chicago:20260329T150000
DTSTAMP:20260423T181401
CREATED:20260324T031109Z
LAST-MODIFIED:20260324T031109Z
UID:29417-1774782000-1774796400@specialpals.org
SUMMARY:Adoption Day at PetSmart - Katy
DESCRIPTION:Join us for a special mobile adoption event at Petsmart! Meet adoptable dogs and cats from Special Pals.\n\n\nWe’ll also be collecting donations from our wishlist and offering plenty of t-shirts for sale. Stop by to say hello and show your support for Special Pals!
URL:https://specialpals.org/event/adoption-day-at-petsmart-katy-17/
LOCATION:PetSmart Katy\, 24600 Katy Fwy\, Katy\, TX\, 77494\, United States
ATTACH;FMTTYPE=image/jpeg:https://specialpals.org/wp-content/uploads/Petsmart-Katy.jpg
END:VEVENT
BEGIN:VEVENT
DTSTART;TZID=America/Chicago:20260329T120000
DTEND;TZID=America/Chicago:20260329T150000
DTSTAMP:20260423T181401
CREATED:20260324T031448Z
LAST-MODIFIED:20260324T031448Z
UID:29421-1774785600-1774796400@specialpals.org
SUMMARY:Adoption Day at PetSmart - Bunker Hill
DESCRIPTION:Come meet adoptable dogs and cats at a special mobile adoption event at PetSmart.\n\nWe will be collecting donations from our wishlist and will have plenty of t-shirts too! Stop by and say hi.
URL:https://specialpals.org/event/adoption-day-at-petsmart-bunker-hill-22/
LOCATION:PetSmart – Bunker Hill\, 9718 Katy Fwy\, Houston\, Texas\, 77055
ATTACH;FMTTYPE=image/jpeg:https://specialpals.org/wp-content/uploads/FB_IMG_1741416711249.jpg
END:VEVENT
BEGIN:VEVENT
DTSTART;TZID=America/Chicago:20260402T170000
DTEND;TZID=America/Chicago:20260402T200000
DTSTAMP:20260423T181401
CREATED:20260329T172601Z
LAST-MODIFIED:20260329T172601Z
UID:29425-1775149200-1775160000@specialpals.org
SUMMARY:Adoption Day at Kirby Icehouse - Gessner
DESCRIPTION:Come meet adoptable dogs and cats at a special mobile adoption event at Kirby Ice House.
URL:https://specialpals.org/event/adoption-day-at-kirby-icehouse-gessner-3/
LOCATION:Kirby Icehouse\, 1015 Gessner\, Houston\, TX\, 77055
ATTACH;FMTTYPE=image/jpeg:https://specialpals.org/wp-content/uploads/Kirby.jpg
END:VEVENT
BEGIN:VEVENT
DTSTART;TZID=America/Chicago:20260404T110000
DTEND;TZID=America/Chicago:20260404T140000
DTSTAMP:20260423T181401
CREATED:20260329T172648Z
LAST-MODIFIED:20260329T172648Z
UID:29427-1775300400-1775311200@specialpals.org
SUMMARY:Adoption Day at Petsmart - Fry Rd
DESCRIPTION:Join us for a special mobile adoption event at Petsmart @ Fry & I-10! Meet adoptable dogs and cats from Special Pals.\n\nWe’ll also be collecting donations from our wishlist and offering plenty of t-shirts for sale.\n\nStop by to say hello and show your support for Special Pals!
URL:https://specialpals.org/event/adoption-day-at-petsmart-fry-rd-38/
LOCATION:Petsmart Fry rd\, 19945 Katy Fwy\, Houston\, Texas\, 77094
ATTACH;FMTTYPE=image/jpeg:https://specialpals.org/wp-content/uploads/Fry-Rd.jpg
END:VEVENT
BEGIN:VEVENT
DTSTART;TZID=UTC:20260404T110000
DTEND;TZID=UTC:20260404T140000
DTSTAMP:20260423T181401
CREATED:20260329T172726Z
LAST-MODIFIED:20260329T172726Z
UID:29429-1775300400-1775311200@specialpals.org
SUMMARY:Adoption day at PETCO - Morton Ranch
DESCRIPTION:Come meet adoptable dogs and cats at a special mobile adoption event at Petco. \n\n\nWe will be collecting donations from our wishlist and will have plenty of t-shirts too! Stop by and say hi to show your support for Special Pals.
URL:https://specialpals.org/event/adoption-day-at-petco-morton-ranch-13/
LOCATION:PETCO\, 2844 W Grand Pkwy N\, Katy\, TX\, 77449\, United States
ATTACH;FMTTYPE=image/png:https://specialpals.org/wp-content/uploads/Petco.png
END:VEVENT
BEGIN:VEVENT
DTSTART;TZID=America/Chicago:20260411T110000
DTEND;TZID=America/Chicago:20260411T140000
DTSTAMP:20260423T181401
CREATED:20260329T172820Z
LAST-MODIFIED:20260329T172820Z
UID:29431-1775905200-1775916000@specialpals.org
SUMMARY:Adoption Day at PetSmart - Eldridge
DESCRIPTION:Join us for a special mobile adoption event at Petsmart @ 2610 Eldridge Pkwy Houston\, TX 77082. Meet adoptable dogs and cats from Special Pals.\n\nWe’ll also be collecting donations from our wishlist and offering plenty of t-shirts for sale. Stop by to say hello and show your support for Special Pals!
URL:https://specialpals.org/event/adoption-day-at-petsmart-eldridge-8/
LOCATION:Petsmart Eldrridge\, 2610 Eldridge Parkway\, Houston\, TX\, 77082
ATTACH;FMTTYPE=image/jpeg:https://specialpals.org/wp-content/uploads/eldridge.jpg
END:VEVENT
BEGIN:VEVENT
DTSTART;TZID=UTC:20260411T110000
DTEND;TZID=UTC:20260411T140000
DTSTAMP:20260423T181401
CREATED:20260329T172938Z
LAST-MODIFIED:20260329T172938Z
UID:29433-1775905200-1775916000@specialpals.org
SUMMARY:Adoption day at PETCO - Mason Rd
DESCRIPTION:Come meet adoptable dogs and cats at a special mobile adoption event at Petco. \n\n\nWe will be collecting donations from our wishlist and will have plenty of t-shirts too! Stop by and say hi to show your support for Special Pals.
URL:https://specialpals.org/event/adoption-day-at-petco-mason-rd-11/
LOCATION:PETCO Mason\, 513 S Mason Rd\, Katy\, 77450\, United States
ATTACH;FMTTYPE=image/jpeg:https://specialpals.org/wp-content/uploads/Petco-mason.jpg
END:VEVENT
BEGIN:VEVENT
DTSTART;TZID=America/Chicago:20260412T120000
DTEND;TZID=America/Chicago:20260412T150000
DTSTAMP:20260423T181401
CREATED:20260329T173020Z
LAST-MODIFIED:20260329T173020Z
UID:29435-1775995200-1776006000@specialpals.org
SUMMARY:Adoption Day at PetSmart - Eldridge
DESCRIPTION:Join us for a special mobile adoption event at Petsmart @ 2610 Eldridge Pkwy Houston\, TX 77082. Meet adoptable dogs and cats from Special Pals.\n\nWe’ll also be collecting donations from our wishlist and offering plenty of t-shirts for sale. Stop by to say hello and show your support for Special Pals!
URL:https://specialpals.org/event/adoption-day-at-petsmart-eldridge-9/
LOCATION:Petsmart Eldrridge\, 2610 Eldridge Parkway\, Houston\, TX\, 77082
ATTACH;FMTTYPE=image/jpeg:https://specialpals.org/wp-content/uploads/eldridge.jpg
END:VEVENT
BEGIN:VEVENT
DTSTART;TZID=America/Chicago:20260412T120000
DTEND;TZID=America/Chicago:20260412T150000
DTSTAMP:20260423T181401
CREATED:20260329T173106Z
LAST-MODIFIED:20260329T173106Z
UID:29437-1775995200-1776006000@specialpals.org
SUMMARY:Adoption Event at Pet Supplies Plus - Jersey Village
DESCRIPTION:Come meet adoptable dogs and cats at a special mobile adoption event at Pet Supplies Plus’ Jersey Village location.\n\n\nWe will be collecting donations from our wishlist and will have plenty of t-shirts too!
URL:https://specialpals.org/event/adoption-event-at-pet-supplies-plus-jersey-village-8/
LOCATION:PSP Jersey Village\, 9431 Jones Rd\, Houston\, Texas\, 77065\, United States
ATTACH;FMTTYPE=image/jpeg:https://specialpals.org/wp-content/uploads/PSP-JV.jpg
END:VEVENT
BEGIN:VEVENT
DTSTART;TZID=America/Chicago:20260412T120000
DTEND;TZID=America/Chicago:20260412T150000
DTSTAMP:20260423T181401
CREATED:20260329T173205Z
LAST-MODIFIED:20260329T173205Z
UID:29439-1775995200-1776006000@specialpals.org
SUMMARY:Adoption Dat at PetSmart - Fulshear
DESCRIPTION:Come meet adoptable dogs at a special mobile adoption event at PetSmart.\n\nWe will be collecting donations from our wishlist and will have plenty of t-shirts too! Stop by and say hi.
URL:https://specialpals.org/event/adoption-dat-at-petsmart-fulshear-3/
LOCATION:PetSmart Fulshear\, 26960 FM 1093\, Richmond\, Texas\, 774906
ATTACH;FMTTYPE=image/jpeg:https://specialpals.org/wp-content/uploads/Petsmart.jpg
END:VEVENT
END:VCALENDAR