BEGIN:VCALENDAR
VERSION:2.0
PRODID:-//Special Pals - ECPv6.15.20//NONSGML v1.0//EN
CALSCALE:GREGORIAN
METHOD:PUBLISH
X-WR-CALNAME:Special Pals
X-ORIGINAL-URL:https://specialpals.org
X-WR-CALDESC:Events for Special Pals
REFRESH-INTERVAL;VALUE=DURATION:PT1H
X-Robots-Tag:noindex
X-PUBLISHED-TTL:PT1H
BEGIN:VTIMEZONE
TZID:UTC
BEGIN:STANDARD
TZOFFSETFROM:+0000
TZOFFSETTO:+0000
TZNAME:UTC
DTSTART:20230101T000000
END:STANDARD
END:VTIMEZONE
BEGIN:VEVENT
DTSTART;TZID=UTC:20240726T110000
DTEND;TZID=UTC:20240726T130000
DTSTAMP:20260425T092659
CREATED:20240722T054822Z
LAST-MODIFIED:20240722T054822Z
UID:20528-1721991600-1721998800@specialpals.org
SUMMARY:Low-Cost Shot Clinic July 26th
DESCRIPTION:Walk-ins only\, no appointment needed! \nOur walk-in low-cost shot clinic offers yearly vaccines\, preventative flea and heartworm medication\, heartworm testing\, and microchipping. \nWe are not a full-service vet and have a limited number of services. Please keep your pal safe by bringing them to our facility on a leash or in a carrier. \nThank you for your support!
URL:https://specialpals.org/event/low-cost-shot-clinic-july-26th/
LOCATION:Special Pals\, 3830 Greenhouse Rd.\, Houston\, 77084\, United States
ATTACH;FMTTYPE=image/png:https://specialpals.org/wp-content/uploads/7-e1706489058461.png
END:VEVENT
BEGIN:VEVENT
DTSTART;TZID=UTC:20240727T120000
DTEND;TZID=UTC:20240727T150000
DTSTAMP:20260425T092659
CREATED:20240722T055512Z
LAST-MODIFIED:20240722T055512Z
UID:20538-1722081600-1722092400@specialpals.org
SUMMARY:Adoption day at Willowbrook Mall
DESCRIPTION:Come meet adoptable dogs and cats at a special mobile adoption event at Willowbrook Mall! Find Special Pals and our adoptable dogs and cats inside the mall\, Center Court next to H&M.\n\nWe will be collecting donations from our wishlist and will have plenty of t-shirts too! Stop by and say hi\, and show your support for Special Pals!
URL:https://specialpals.org/event/adoption-day-at-willowbrook-mall-4/
LOCATION:Willowbrook\, 2000 Willowbrook Mall\, Houston\, TX\, 77070\, United States
ATTACH;FMTTYPE=image/png:https://specialpals.org/wp-content/uploads/Willowbrook-1.png
END:VEVENT
BEGIN:VEVENT
DTSTART;TZID=UTC:20240802T110000
DTEND;TZID=UTC:20240802T130000
DTSTAMP:20260425T092659
CREATED:20240722T054926Z
LAST-MODIFIED:20240722T054926Z
UID:20530-1722596400-1722603600@specialpals.org
SUMMARY:Low-Cost Shot Clinic Aug 2nd
DESCRIPTION:Walk-ins only\, no appointment needed! \nOur walk-in low-cost shot clinic offers yearly vaccines\, preventative flea and heartworm medication\, heartworm testing\, and microchipping. \nWe are not a full-service vet and have a limited number of services. Please keep your pal safe by bringing them to our facility on a leash or in a carrier. \nThank you for your support!
URL:https://specialpals.org/event/low-cost-shot-clinic-aug-2nd/
LOCATION:Special Pals\, 3830 Greenhouse Rd.\, Houston\, 77084\, United States
ATTACH;FMTTYPE=image/png:https://specialpals.org/wp-content/uploads/7-e1706489058461.png
END:VEVENT
BEGIN:VEVENT
DTSTART;TZID=UTC:20240816T110000
DTEND;TZID=UTC:20240816T130000
DTSTAMP:20260425T092659
CREATED:20240722T055037Z
LAST-MODIFIED:20240722T055037Z
UID:20532-1723806000-1723813200@specialpals.org
SUMMARY:Low-Cost Shot Clinic Aug 16th
DESCRIPTION:Walk-ins only\, no appointment needed! \nOur walk-in low-cost shot clinic offers yearly vaccines\, preventative flea and heartworm medication\, heartworm testing\, and microchipping. \nWe are not a full-service vet and have a limited number of services. Please keep your pal safe by bringing them to our facility on a leash or in a carrier. \nThank you for your support!
URL:https://specialpals.org/event/low-cost-shot-clinic-aug-16th/
LOCATION:Special Pals\, 3830 Greenhouse Rd.\, Houston\, 77084\, United States
ATTACH;FMTTYPE=image/png:https://specialpals.org/wp-content/uploads/7-e1706489058461.png
END:VEVENT
BEGIN:VEVENT
DTSTART;TZID=UTC:20240816T170000
DTEND;TZID=UTC:20240816T190000
DTSTAMP:20260425T092659
CREATED:20240815T095537Z
LAST-MODIFIED:20240815T095537Z
UID:21877-1723827600-1723834800@specialpals.org
SUMMARY:Special Pals 45th Birthday Party
DESCRIPTION:Come join us to celebrate 45 years of saving lives!We are so proud and want to celebrate with the community.**Bonus** We will be open for adoptions too!\nWe will have:Dog WalkingFoster ClassDJDunk TankVendorsFood Trucks
URL:https://specialpals.org/event/special-pals-45th-birthday-party/
LOCATION:Special Pals\, 3830 Greenhouse Rd.\, Houston\, 77084\, United States
ATTACH;FMTTYPE=image/png:https://specialpals.org/wp-content/uploads/SP_Posts6-1.png
END:VEVENT
BEGIN:VEVENT
DTSTART;TZID=UTC:20240817T120000
DTEND;TZID=UTC:20240817T150000
DTSTAMP:20260425T092659
CREATED:20240812T111027Z
LAST-MODIFIED:20240812T111027Z
UID:21314-1723896000-1723906800@specialpals.org
SUMMARY:Adoption day at Willowbrook Mall
DESCRIPTION:Come meet adoptable dogs and cats at a special mobile adoption event at Willowbrook Mall! Find Special Pals and our adoptable dogs and cats inside the mall\, Center Court next to H&M.\n\nWe will be collecting donations from our wishlist and will have plenty of t-shirts too! Stop by and say hi\, and show your support for Special Pals!
URL:https://specialpals.org/event/adoption-day-at-willowbrook-mall-5/
LOCATION:Willowbrook\, 2000 Willowbrook Mall\, Houston\, TX\, 77070\, United States
ATTACH;FMTTYPE=image/png:https://specialpals.org/wp-content/uploads/Willowbrook-1.png
END:VEVENT
BEGIN:VEVENT
DTSTART;TZID=UTC:20240823T110000
DTEND;TZID=UTC:20240823T130000
DTSTAMP:20260425T092659
CREATED:20240722T055150Z
LAST-MODIFIED:20240722T055150Z
UID:20534-1724410800-1724418000@specialpals.org
SUMMARY:Low-Cost Shot Clinic Aug 23rd
DESCRIPTION:Walk-ins only\, no appointment needed! \nOur walk-in low-cost shot clinic offers yearly vaccines\, preventative flea and heartworm medication\, heartworm testing\, and microchipping. \nWe are not a full-service vet and have a limited number of services. Please keep your pal safe by bringing them to our facility on a leash or in a carrier. \nThank you for your support!
URL:https://specialpals.org/event/low-cost-shot-clinic-aug-23rd/
LOCATION:Special Pals\, 3830 Greenhouse Rd.\, Houston\, 77084\, United States
ATTACH;FMTTYPE=image/png:https://specialpals.org/wp-content/uploads/7-e1706489058461.png
END:VEVENT
BEGIN:VEVENT
DTSTART;TZID=UTC:20240824T110000
DTEND;TZID=UTC:20240824T140000
DTSTAMP:20260425T092659
CREATED:20240812T111201Z
LAST-MODIFIED:20240812T111224Z
UID:21316-1724497200-1724508000@specialpals.org
SUMMARY:Adoption day at PETCO
DESCRIPTION:Come meet adoptable dogs and cats at a special mobile adoption event at Petco. \n\n\nWe will be collecting donations from our wishlist and will have plenty of t-shirts too! Stop by and say hi to show your support for Special Pals.
URL:https://specialpals.org/event/adoption-day-at-petco-copy/
LOCATION:PETCO\, 2844 W Grand Pkwy N\, Katy\, TX\, 77449\, United States
ATTACH;FMTTYPE=image/png:https://specialpals.org/wp-content/uploads/Petco.png
END:VEVENT
BEGIN:VEVENT
DTSTART;TZID=UTC:20240830T110000
DTEND;TZID=UTC:20240830T130000
DTSTAMP:20260425T092659
CREATED:20240722T055238Z
LAST-MODIFIED:20240722T055238Z
UID:20536-1725015600-1725022800@specialpals.org
SUMMARY:Low-Cost Shot Clinic Aug 30th
DESCRIPTION:Walk-ins only\, no appointment needed! \nOur walk-in low-cost shot clinic offers yearly vaccines\, preventative flea and heartworm medication\, heartworm testing\, and microchipping. \nWe are not a full-service vet and have a limited number of services. Please keep your pal safe by bringing them to our facility on a leash or in a carrier. \nThank you for your support!
URL:https://specialpals.org/event/low-cost-shot-clinic-aug-30th/
LOCATION:Special Pals\, 3830 Greenhouse Rd.\, Houston\, 77084\, United States
ATTACH;FMTTYPE=image/png:https://specialpals.org/wp-content/uploads/7-e1706489058461.png
END:VEVENT
BEGIN:VEVENT
DTSTART;TZID=UTC:20240906T110000
DTEND;TZID=UTC:20240906T130000
DTSTAMP:20260425T092659
CREATED:20240903T093123Z
LAST-MODIFIED:20240903T093123Z
UID:22523-1725620400-1725627600@specialpals.org
SUMMARY:Low-Cost Shot Clinic Sept 6th
DESCRIPTION:Walk-ins only\, no appointment needed! \nOur walk-in low-cost shot clinic offers yearly vaccines\, preventative flea and heartworm medication\, heartworm testing\, and microchipping. \nWe are not a full-service vet and have a limited number of services. Please keep your pal safe by bringing them to our facility on a leash or in a carrier. \nThank you for your support!
URL:https://specialpals.org/event/low-cost-shot-clinic-sept-6th/
LOCATION:Special Pals\, 3830 Greenhouse Rd.\, Houston\, 77084\, United States
ATTACH;FMTTYPE=image/png:https://specialpals.org/wp-content/uploads/7-e1706489058461.png
END:VEVENT
BEGIN:VEVENT
DTSTART;TZID=UTC:20240913T110000
DTEND;TZID=UTC:20240913T130000
DTSTAMP:20260425T092659
CREATED:20240903T093208Z
LAST-MODIFIED:20240903T093208Z
UID:22525-1726225200-1726232400@specialpals.org
SUMMARY:Low-Cost Shot Clinic Sept 13th
DESCRIPTION:Walk-ins only\, no appointment needed! \nOur walk-in low-cost shot clinic offers yearly vaccines\, preventative flea and heartworm medication\, heartworm testing\, and microchipping. \nWe are not a full-service vet and have a limited number of services. Please keep your pal safe by bringing them to our facility on a leash or in a carrier. \nThank you for your support!
URL:https://specialpals.org/event/low-cost-shot-clinic-sept-13th/
LOCATION:Special Pals\, 3830 Greenhouse Rd.\, Houston\, 77084\, United States
ATTACH;FMTTYPE=image/png:https://specialpals.org/wp-content/uploads/7-e1706489058461.png
END:VEVENT
BEGIN:VEVENT
DTSTART;TZID=UTC:20240914T110000
DTEND;TZID=UTC:20240914T140000
DTSTAMP:20260425T092659
CREATED:20240912T093531Z
LAST-MODIFIED:20240912T093531Z
UID:22554-1726311600-1726322400@specialpals.org
SUMMARY:Adoption Day at Dogtopia
DESCRIPTION:Come meet adoptable dogs and cats at a special mobile adoption event at Dogtopia.\n\n\nWe will be collecting donations from our wishlist and will have plenty of t-shirts too! Stop by and say hi to show your support for Special Pals.
URL:https://specialpals.org/event/adoption-day-at-dogtopia/
LOCATION:Dogtopia\, 10130 Louetta Rd Suite G\, Houston\, TX\, 77070\, United States
ATTACH;FMTTYPE=image/jpeg:https://specialpals.org/wp-content/uploads/dogtopia.jpg
END:VEVENT
BEGIN:VEVENT
DTSTART;TZID=UTC:20240920T110000
DTEND;TZID=UTC:20240920T130000
DTSTAMP:20260425T092659
CREATED:20240903T093254Z
LAST-MODIFIED:20240903T093254Z
UID:22527-1726830000-1726837200@specialpals.org
SUMMARY:Low-Cost Shot Clinic Sept 20th
DESCRIPTION:Walk-ins only\, no appointment needed! \nOur walk-in low-cost shot clinic offers yearly vaccines\, preventative flea and heartworm medication\, heartworm testing\, and microchipping. \nWe are not a full-service vet and have a limited number of services. Please keep your pal safe by bringing them to our facility on a leash or in a carrier. \nThank you for your support!
URL:https://specialpals.org/event/low-cost-shot-clinic-sept-20th/
LOCATION:Special Pals\, 3830 Greenhouse Rd.\, Houston\, 77084\, United States
ATTACH;FMTTYPE=image/png:https://specialpals.org/wp-content/uploads/7-e1706489058461.png
END:VEVENT
BEGIN:VEVENT
DTSTART;TZID=UTC:20240921T120000
DTEND;TZID=UTC:20240921T150000
DTSTAMP:20260425T092659
CREATED:20240903T093706Z
LAST-MODIFIED:20240903T093706Z
UID:22531-1726920000-1726930800@specialpals.org
SUMMARY:Adoption day at Willowbrook Mall
DESCRIPTION:Come meet adoptable dogs and cats at a special mobile adoption event at Willowbrook Mall! Find Special Pals and our adoptable dogs and cats inside the mall\, Center Court next to H&M.\n\nWe will be collecting donations from our wishlist and will have plenty of t-shirts too! Stop by and say hi\, and show your support for Special Pals!
URL:https://specialpals.org/event/adoption-day-at-willowbrook-mall-6/
LOCATION:Willowbrook\, 2000 Willowbrook Mall\, Houston\, TX\, 77070\, United States
ATTACH;FMTTYPE=image/png:https://specialpals.org/wp-content/uploads/Willowbrook-1.png
END:VEVENT
BEGIN:VEVENT
DTSTART;TZID=UTC:20240927T110000
DTEND;TZID=UTC:20240927T130000
DTSTAMP:20260425T092659
CREATED:20240903T093345Z
LAST-MODIFIED:20240903T093345Z
UID:22529-1727434800-1727442000@specialpals.org
SUMMARY:Low-Cost Shot Clinic Sept 27th
DESCRIPTION:Walk-ins only\, no appointment needed! \nOur walk-in low-cost shot clinic offers yearly vaccines\, preventative flea and heartworm medication\, heartworm testing\, and microchipping. \nWe are not a full-service vet and have a limited number of services. Please keep your pal safe by bringing them to our facility on a leash or in a carrier. \nThank you for your support!
URL:https://specialpals.org/event/low-cost-shot-clinic-sept-27th/
LOCATION:Special Pals\, 3830 Greenhouse Rd.\, Houston\, 77084\, United States
ATTACH;FMTTYPE=image/png:https://specialpals.org/wp-content/uploads/7-e1706489058461.png
END:VEVENT
BEGIN:VEVENT
DTSTART;TZID=UTC:20240928T110000
DTEND;TZID=UTC:20240928T140000
DTSTAMP:20260425T092659
CREATED:20240903T093806Z
LAST-MODIFIED:20240903T093806Z
UID:22533-1727521200-1727532000@specialpals.org
SUMMARY:Adoption day at PETCO - Morton Ranch
DESCRIPTION:Come meet adoptable dogs and cats at a special mobile adoption event at Petco. \n\n\nWe will be collecting donations from our wishlist and will have plenty of t-shirts too! Stop by and say hi to show your support for Special Pals.
URL:https://specialpals.org/event/adoption-day-at-petco-morton-ranch/
LOCATION:PETCO\, 2844 W Grand Pkwy N\, Katy\, TX\, 77449\, United States
ATTACH;FMTTYPE=image/png:https://specialpals.org/wp-content/uploads/Petco.png
END:VEVENT
BEGIN:VEVENT
DTSTART;TZID=UTC:20241004T110000
DTEND;TZID=UTC:20241004T130000
DTSTAMP:20260425T092659
CREATED:20241003T092137Z
LAST-MODIFIED:20241003T092137Z
UID:22585-1728039600-1728046800@specialpals.org
SUMMARY:Low-Cost Shot Clinic Oct 4th
DESCRIPTION:Walk-ins only\, no appointment needed! \nOur walk-in low-cost shot clinic offers yearly vaccines\, preventative flea and heartworm medication\, heartworm testing\, and microchipping. \nWe are not a full-service vet and have a limited number of services. Please keep your pal safe by bringing them to our facility on a leash or in a carrier. \nThank you for your support!
URL:https://specialpals.org/event/low-cost-shot-clinic-oct-4th/
LOCATION:Special Pals\, 3830 Greenhouse Rd.\, Houston\, 77084\, United States
ATTACH;FMTTYPE=image/png:https://specialpals.org/wp-content/uploads/7-e1706489058461.png
END:VEVENT
BEGIN:VEVENT
DTSTART;TZID=UTC:20241011T110000
DTEND;TZID=UTC:20241011T130000
DTSTAMP:20260425T092659
CREATED:20241003T092352Z
LAST-MODIFIED:20241003T092352Z
UID:22587-1728644400-1728651600@specialpals.org
SUMMARY:Low-Cost Shot Clinic Oct 11th
DESCRIPTION:Walk-ins only\, no appointment needed! \nOur walk-in low-cost shot clinic offers yearly vaccines\, preventative flea and heartworm medication\, heartworm testing\, and microchipping. \nWe are not a full-service vet and have a limited number of services. Please keep your pal safe by bringing them to our facility on a leash or in a carrier. \nThank you for your support!
URL:https://specialpals.org/event/low-cost-shot-clinic-oct-11th/
LOCATION:Special Pals\, 3830 Greenhouse Rd.\, Houston\, 77084\, United States
ATTACH;FMTTYPE=image/png:https://specialpals.org/wp-content/uploads/7-e1706489058461.png
END:VEVENT
BEGIN:VEVENT
DTSTART;TZID=UTC:20241012T110000
DTEND;TZID=UTC:20241012T140000
DTSTAMP:20260425T092659
CREATED:20241003T091828Z
LAST-MODIFIED:20241003T091828Z
UID:22581-1728730800-1728741600@specialpals.org
SUMMARY:Adoption day at PETCO - Morton Ranch
DESCRIPTION:Come meet adoptable dogs and cats at a special mobile adoption event at Petco. \n\n\nWe will be collecting donations from our wishlist and will have plenty of t-shirts too! Stop by and say hi to show your support for Special Pals.
URL:https://specialpals.org/event/adoption-day-at-petco-morton-ranch-2/
LOCATION:PETCO\, 2844 W Grand Pkwy N\, Katy\, TX\, 77449\, United States
ATTACH;FMTTYPE=image/png:https://specialpals.org/wp-content/uploads/Petco.png
END:VEVENT
BEGIN:VEVENT
DTSTART;TZID=UTC:20241013T110000
DTEND;TZID=UTC:20241013T140000
DTSTAMP:20260425T092659
CREATED:20241003T092803Z
LAST-MODIFIED:20241003T092803Z
UID:22591-1728817200-1728828000@specialpals.org
SUMMARY:Adoption day at PETCO - Mason Rd
DESCRIPTION:Come meet adoptable dogs and cats at a special mobile adoption event at Petco. \n\n\nWe will be collecting donations from our wishlist and will have plenty of t-shirts too! Stop by and say hi to show your support for Special Pals.
URL:https://specialpals.org/event/adoption-day-at-petco-mason-rd/
LOCATION:PETCO Mason\, 513 S Mason Rd\, Katy\, 77450\, United States
ATTACH;FMTTYPE=image/png:https://specialpals.org/wp-content/uploads/Petco.png
END:VEVENT
BEGIN:VEVENT
DTSTART;TZID=UTC:20241018T110000
DTEND;TZID=UTC:20241018T130000
DTSTAMP:20260425T092659
CREATED:20241003T092535Z
LAST-MODIFIED:20241003T092535Z
UID:22589-1729249200-1729256400@specialpals.org
SUMMARY:Low-Cost Shot Clinic Oct 18th
DESCRIPTION:Walk-ins only\, no appointment needed! \nOur walk-in low-cost shot clinic offers yearly vaccines\, preventative flea and heartworm medication\, heartworm testing\, and microchipping. \nWe are not a full-service vet and have a limited number of services. Please keep your pal safe by bringing them to our facility on a leash or in a carrier. \nThank you for your support!
URL:https://specialpals.org/event/low-cost-shot-clinic-oct-18th/
LOCATION:Special Pals\, 3830 Greenhouse Rd.\, Houston\, 77084\, United States
ATTACH;FMTTYPE=image/png:https://specialpals.org/wp-content/uploads/7-e1706489058461.png
END:VEVENT
BEGIN:VEVENT
DTSTART;TZID=UTC:20241019T120000
DTEND;TZID=UTC:20241019T150000
DTSTAMP:20260425T092659
CREATED:20241003T091331Z
LAST-MODIFIED:20241003T091331Z
UID:22579-1729339200-1729350000@specialpals.org
SUMMARY:Adoption day at Willowbrook Mall
DESCRIPTION:Come meet adoptable dogs and cats at a special mobile adoption event at Willowbrook Mall! Find Special Pals and our adoptable dogs and cats inside the mall\, Center Court next to H&M.\n\nWe will be collecting donations from our wishlist and will have plenty of t-shirts too! Stop by and say hi\, and show your support for Special Pals!
URL:https://specialpals.org/event/adoption-day-at-willowbrook-mall-7/
LOCATION:Willowbrook\, 2000 Willowbrook Mall\, Houston\, TX\, 77070\, United States
ATTACH;FMTTYPE=image/png:https://specialpals.org/wp-content/uploads/Willowbrook-1.png
END:VEVENT
BEGIN:VEVENT
DTSTART;TZID=UTC:20241026T110000
DTEND;TZID=UTC:20241026T160000
DTSTAMP:20260425T092659
CREATED:20241015T094004Z
LAST-MODIFIED:20241015T094004Z
UID:22597-1729940400-1729958400@specialpals.org
SUMMARY:Barktoberfest with Friends of the Phoenix
DESCRIPTION:Special Pals has partnered with Friends of the Phoenix for their first ever Barktoberfest! This is a family and fur baby friendly fall festival. Special Pals will be there with adoptable animals.\n\nExpect vendors\, food\, drinks and fun for all! The Montrose Veterinary clinic will be offering nail trimmings and possibly microchipping.\nSee you there! Bring your pet in a costume to add some fun to the party!
URL:https://specialpals.org/event/barktoberfest-with-friends-of-the-phoenix/
LOCATION:Barktoberfest\, 4820 Navigation Blvd\, Houston\, 77011\, United States
ATTACH;FMTTYPE=image/jpeg:https://specialpals.org/wp-content/uploads/FB_IMG_1728939293745.jpg
END:VEVENT
BEGIN:VEVENT
DTSTART;TZID=UTC:20241026T160000
DTEND;TZID=UTC:20241026T180000
DTSTAMP:20260425T092659
CREATED:20240830T000657Z
LAST-MODIFIED:20240830T000657Z
UID:22514-1729958400-1729965600@specialpals.org
SUMMARY:Wild Tunes’ Second Annual Concert
DESCRIPTION:On Saturday\, October 26\, join us for a FREE musical evening – Melodies of Gratitude\, Wild Tunes’ Second Annual Concert to benefit 15\,000 homeless pets helped annually by Houston Humane Society\, BARC Animal Shelter & Adoptions\, and Special Pals. Wild Tunes is a nonprofit organization founded by 11-year-old Yuvi Agarwal\, dedicated to soothing shelter animals through music. Come enjoy performances by some of Houston’s finest musicians and dancers and help support our animals. https://youtu.be/4AjhAYkc8Bs \n\n\n\nTo register for this free event\, visit https://bit.ly/MoG2.
URL:https://specialpals.org/event/wild-tunes-second-annual-concert/
LOCATION:Resurrection Metropolitan Community Church\, 2025 W 11th St\, Houston\, TX\, 77008\, United States
ATTACH;FMTTYPE=image/png:https://specialpals.org/wp-content/uploads/Website-event-tile-400-x-286.png
END:VEVENT
BEGIN:VEVENT
DTSTART;TZID=UTC:20241027T100000
DTEND;TZID=UTC:20241027T143000
DTSTAMP:20260425T092659
CREATED:20241018T034255Z
LAST-MODIFIED:20241018T034255Z
UID:22601-1730023200-1730039400@specialpals.org
SUMMARY:Puppy Yoga at Home Run Dugout
DESCRIPTION:Do you like Yoga?! Home Run Dugout is bringing Yoga and puppies together for thie event. You do not want to miss out! This is a free event for anyone to come and enjoy puppy yoga. Special Pals is supplying the puppies and Home Run Dougout is supplying the field. See you there!
URL:https://specialpals.org/event/puppy-yoga-at-home-run-dugout/
LOCATION:Home Run Dugout\, 1220 Grand W Blvd\, Katy\, 77449\, United States
ATTACH;FMTTYPE=image/jpeg:https://specialpals.org/wp-content/uploads/459225113_1042860694514770_4730699105171240259_n.jpg
END:VEVENT
BEGIN:VEVENT
DTSTART;TZID=UTC:20241101T110000
DTEND;TZID=UTC:20241101T130000
DTSTAMP:20260425T092659
CREATED:20241101T104314Z
LAST-MODIFIED:20241101T104314Z
UID:22625-1730458800-1730466000@specialpals.org
SUMMARY:Low-Cost Shot Clinic Nov 1st
DESCRIPTION:Walk-ins only\, no appointment needed! \nOur walk-in low-cost shot clinic offers yearly vaccines\, preventative flea and heartworm medication\, heartworm testing\, and microchipping. \nWe are not a full-service vet and have a limited number of services. Please keep your pal safe by bringing them to our facility on a leash or in a carrier. \nThank you for your support!
URL:https://specialpals.org/event/low-cost-shot-clinic-nov-1st/
LOCATION:Special Pals\, 3830 Greenhouse Rd.\, Houston\, 77084\, United States
ATTACH;FMTTYPE=image/png:https://specialpals.org/wp-content/uploads/7-e1706489058461.png
END:VEVENT
BEGIN:VEVENT
DTSTART;TZID=UTC:20241107T110000
DTEND;TZID=UTC:20241107T130000
DTSTAMP:20260425T092659
CREATED:20241101T104509Z
LAST-MODIFIED:20241101T104509Z
UID:22627-1730977200-1730984400@specialpals.org
SUMMARY:Low-Cost Shot Clinic Nov 7th
DESCRIPTION:Walk-ins only\, no appointment needed! \nOur walk-in low-cost shot clinic offers yearly vaccines\, preventative flea and heartworm medication\, heartworm testing\, and microchipping. \nWe are not a full-service vet and have a limited number of services. Please keep your pal safe by bringing them to our facility on a leash or in a carrier. \nThank you for your support!
URL:https://specialpals.org/event/low-cost-shot-clinic-nov-7th/
LOCATION:Special Pals\, 3830 Greenhouse Rd.\, Houston\, 77084\, United States
ATTACH;FMTTYPE=image/png:https://specialpals.org/wp-content/uploads/7-e1706489058461.png
END:VEVENT
BEGIN:VEVENT
DTSTART;TZID=UTC:20241110T120000
DTEND;TZID=UTC:20241110T133000
DTSTAMP:20260425T092659
CREATED:20241110T232638Z
LAST-MODIFIED:20241110T232638Z
UID:22954-1731240000-1731245400@specialpals.org
SUMMARY:Puppy Yoga at Katy Beer Garden
DESCRIPTION: Join Us for Puppy Yoga at Katy Beer Garden! \nHey\, yoga lovers and dog enthusiasts! We’re so excited to invite you to a special day on Sunday\, November 10th\, where we’ll be combining two of our favorite things: yoga and puppies! \nChoose from two sessions: 12:00 – 12:30 PM 12:45 – 1:15 PM\nIn partnership with YogaSix and Special Pals\, this event is perfect for ages 12+.\n Tickets: Just $15 per person!Don’t forget to grab your ticket in advance—spots are limited!\nCome roll out your mat\, meet some adorable pups\, and enjoy a day filled with puppy love\, laughter\, and relaxation. We can’t wait to see you there! 
URL:https://specialpals.org/event/puppy-yoga-at-katy-beer-garden/
LOCATION:Puppy Yoga\, 5345 E 3rd St\, Katy\, Texas\, 77493
ATTACH;FMTTYPE=image/jpeg:https://specialpals.org/wp-content/uploads/Puppy-yoga.jpg
END:VEVENT
BEGIN:VEVENT
DTSTART;TZID=UTC:20241115T110000
DTEND;TZID=UTC:20241115T130000
DTSTAMP:20260425T092659
CREATED:20241101T104553Z
LAST-MODIFIED:20241101T104553Z
UID:22628-1731668400-1731675600@specialpals.org
SUMMARY:Low-Cost Shot Clinic Nov 15th
DESCRIPTION:Walk-ins only\, no appointment needed! \nOur walk-in low-cost shot clinic offers yearly vaccines\, preventative flea and heartworm medication\, heartworm testing\, and microchipping. \nWe are not a full-service vet and have a limited number of services. Please keep your pal safe by bringing them to our facility on a leash or in a carrier. \nThank you for your support!
URL:https://specialpals.org/event/low-cost-shot-clinic-nov-15th/
LOCATION:Special Pals\, 3830 Greenhouse Rd.\, Houston\, 77084\, United States
ATTACH;FMTTYPE=image/png:https://specialpals.org/wp-content/uploads/7-e1706489058461.png
END:VEVENT
BEGIN:VEVENT
DTSTART;TZID=UTC:20241122T110000
DTEND;TZID=UTC:20241122T130000
DTSTAMP:20260425T092659
CREATED:20241101T104633Z
LAST-MODIFIED:20241101T104633Z
UID:22631-1732273200-1732280400@specialpals.org
SUMMARY:Low-Cost Shot Clinic Nov 22nd
DESCRIPTION:Walk-ins only\, no appointment needed! \nOur walk-in low-cost shot clinic offers yearly vaccines\, preventative flea and heartworm medication\, heartworm testing\, and microchipping. \nWe are not a full-service vet and have a limited number of services. Please keep your pal safe by bringing them to our facility on a leash or in a carrier. \nThank you for your support!
URL:https://specialpals.org/event/low-cost-shot-clinic-nov-22nd/
LOCATION:Special Pals\, 3830 Greenhouse Rd.\, Houston\, 77084\, United States
ATTACH;FMTTYPE=image/png:https://specialpals.org/wp-content/uploads/7-e1706489058461.png
END:VEVENT
END:VCALENDAR