BEGIN:VCALENDAR
VERSION:2.0
PRODID:-//Special Pals - ECPv6.15.20//NONSGML v1.0//EN
CALSCALE:GREGORIAN
METHOD:PUBLISH
X-WR-CALNAME:Special Pals
X-ORIGINAL-URL:https://specialpals.org
X-WR-CALDESC:Events for Special Pals
REFRESH-INTERVAL;VALUE=DURATION:PT1H
X-Robots-Tag:noindex
X-PUBLISHED-TTL:PT1H
BEGIN:VTIMEZONE
TZID:America/Chicago
BEGIN:DAYLIGHT
TZOFFSETFROM:-0600
TZOFFSETTO:-0500
TZNAME:CDT
DTSTART:20240310T080000
END:DAYLIGHT
BEGIN:STANDARD
TZOFFSETFROM:-0500
TZOFFSETTO:-0600
TZNAME:CST
DTSTART:20241103T070000
END:STANDARD
BEGIN:DAYLIGHT
TZOFFSETFROM:-0600
TZOFFSETTO:-0500
TZNAME:CDT
DTSTART:20250309T080000
END:DAYLIGHT
BEGIN:STANDARD
TZOFFSETFROM:-0500
TZOFFSETTO:-0600
TZNAME:CST
DTSTART:20251102T070000
END:STANDARD
BEGIN:DAYLIGHT
TZOFFSETFROM:-0600
TZOFFSETTO:-0500
TZNAME:CDT
DTSTART:20260308T080000
END:DAYLIGHT
BEGIN:STANDARD
TZOFFSETFROM:-0500
TZOFFSETTO:-0600
TZNAME:CST
DTSTART:20261101T070000
END:STANDARD
BEGIN:DAYLIGHT
TZOFFSETFROM:-0600
TZOFFSETTO:-0500
TZNAME:CDT
DTSTART:20270314T080000
END:DAYLIGHT
BEGIN:STANDARD
TZOFFSETFROM:-0500
TZOFFSETTO:-0600
TZNAME:CST
DTSTART:20271107T070000
END:STANDARD
END:VTIMEZONE
BEGIN:VTIMEZONE
TZID:UTC
BEGIN:STANDARD
TZOFFSETFROM:+0000
TZOFFSETTO:+0000
TZNAME:UTC
DTSTART:20240101T000000
END:STANDARD
END:VTIMEZONE
BEGIN:VEVENT
DTSTART;TZID=America/Chicago:20260131T140000
DTEND;TZID=America/Chicago:20260131T170000
DTSTAMP:20260423T181828
CREATED:20260120T174025Z
LAST-MODIFIED:20260120T174025Z
UID:29211-1769868000-1769878800@specialpals.org
SUMMARY:Big John's Chili Cook Off Adoption event
DESCRIPTION:Come meet adoptable dogs at a special mobile adoption event at Big John’s Ice House. \n  \nMake a day of it! They will be holding a chili cookoff benefitting Special Pals. We will be collecting donations from our wishlist and will have plenty of t-shirts too!
URL:https://specialpals.org/event/big-johns-chili-cook-off-adoption-event/
LOCATION:Big John’s\, 12640 Briar Forest Dr\, Houston\, Texas\, 77077
ATTACH;FMTTYPE=image/jpeg:https://specialpals.org/wp-content/uploads/Big-Johns.jpg
END:VEVENT
BEGIN:VEVENT
DTSTART;TZID=America/Chicago:20260131T110000
DTEND;TZID=America/Chicago:20260131T140000
DTSTAMP:20260423T181828
CREATED:20260120T173345Z
LAST-MODIFIED:20260120T173345Z
UID:29205-1769857200-1769868000@specialpals.org
SUMMARY:Adoption Day at Petsmart - Fry Rd
DESCRIPTION:Join us for a special mobile adoption event at Petsmart @ Fry & I-10! Meet adoptable dogs and cats from Special Pals.\n\nWe’ll also be collecting donations from our wishlist and offering plenty of t-shirts for sale.\n\nStop by to say hello and show your support for Special Pals!
URL:https://specialpals.org/event/adoption-day-at-petsmart-fry-rd-32/
LOCATION:Petsmart Fry rd\, 19945 Katy Fwy\, Houston\, Texas\, 77094
ATTACH;FMTTYPE=image/jpeg:https://specialpals.org/wp-content/uploads/Fry-Rd.jpg
END:VEVENT
BEGIN:VEVENT
DTSTART;TZID=UTC:20260130T110000
DTEND;TZID=UTC:20260130T130000
DTSTAMP:20260423T181828
CREATED:20260120T171358Z
LAST-MODIFIED:20260120T171358Z
UID:29197-1769770800-1769778000@specialpals.org
SUMMARY:Low-Cost Vaccine Clinic Jan 30th
DESCRIPTION:Walk-ins only\, no appointment needed! \nOur walk-in low-cost shot clinic offers yearly vaccines\, preventative flea and heartworm medication\, heartworm testing\, and microchipping. \nWe are not a full-service vet and have a limited number of services. Please keep your pal safe by bringing them to our facility on a leash or in a carrier. \nThank you for your support!
URL:https://specialpals.org/event/low-cost-vaccine-clinic-jan-30th/
LOCATION:Special Pals\, 3830 Greenhouse Rd.\, Houston\, 77084\, United States
ATTACH;FMTTYPE=image/png:https://specialpals.org/wp-content/uploads/WELLNESS-Clinic-Poster-1.png
END:VEVENT
BEGIN:VEVENT
DTSTART;TZID=UTC:20260123T110000
DTEND;TZID=UTC:20260123T130000
DTSTAMP:20260423T181828
CREATED:20260120T170954Z
LAST-MODIFIED:20260120T170954Z
UID:29195-1769166000-1769173200@specialpals.org
SUMMARY:Low-Cost Vaccine Clinic Jan 23rd
DESCRIPTION:Walk-ins only\, no appointment needed! \nOur walk-in low-cost shot clinic offers yearly vaccines\, preventative flea and heartworm medication\, heartworm testing\, and microchipping. \nWe are not a full-service vet and have a limited number of services. Please keep your pal safe by bringing them to our facility on a leash or in a carrier. \nThank you for your support!
URL:https://specialpals.org/event/low-cost-vaccine-clinic-jan-23rd/
LOCATION:Special Pals\, 3830 Greenhouse Rd.\, Houston\, 77084\, United States
ATTACH;FMTTYPE=image/png:https://specialpals.org/wp-content/uploads/WELLNESS-Clinic-Poster-1.png
END:VEVENT
BEGIN:VEVENT
DTSTART;TZID=America/Chicago:20260122T170000
DTEND;TZID=America/Chicago:20260122T210000
DTSTAMP:20260423T181828
CREATED:20260120T172931Z
LAST-MODIFIED:20260120T172931Z
UID:29199-1769101200-1769115600@specialpals.org
SUMMARY:Adoption Day at Kirby Icehouse
DESCRIPTION:Come meet adoptable dogs and cats at a special mobile adoption event at Kirby Ice House. \n  \nMake a day of it! This is a great spot for family fun with many shops and local restaurants nearby. We will be collecting donations from our wishlist and will have plenty of t-shirts too!
URL:https://specialpals.org/event/adoption-day-at-kirby-icehouse-4/
LOCATION:Kirby Icehouse\, 1015 Gessner\, Houston\, TX\, 77055
ATTACH;FMTTYPE=image/jpeg:https://specialpals.org/wp-content/uploads/Kirby.jpg
END:VEVENT
BEGIN:VEVENT
DTSTART;TZID=UTC:20260117T120000
DTEND;TZID=UTC:20260117T150000
DTSTAMP:20260423T181828
CREATED:20251226T214406Z
LAST-MODIFIED:20251226T214406Z
UID:29109-1768651200-1768662000@specialpals.org
SUMMARY:Adoption day at Willowbrook Mall
DESCRIPTION:Come meet adoptable dogs and cats at a special mobile adoption event at Willowbrook Mall! Find Special Pals and our adoptable dogs and cats inside the mall\, Center Court next to H&M.\n\nWe will be collecting donations from our wishlist and will have plenty of t-shirts too! Stop by and say hi\, and show your support for Special Pals!
URL:https://specialpals.org/event/adoption-day-at-willowbrook-mall-19/
LOCATION:Willowbrook\, 2000 Willowbrook Mall\, Houston\, TX\, 77070\, United States
ATTACH;FMTTYPE=image/png:https://specialpals.org/wp-content/uploads/Willowbrook-1.png
END:VEVENT
BEGIN:VEVENT
DTSTART;TZID=America/Chicago:20260111T110000
DTEND;TZID=America/Chicago:20260111T140000
DTSTAMP:20260423T181828
CREATED:20260106T194219Z
LAST-MODIFIED:20260106T194219Z
UID:29177-1768129200-1768140000@specialpals.org
SUMMARY:Adoption Event at Pet Supplies Plus - Jersey Village
DESCRIPTION:Come meet adoptable dogs and cats at a special mobile adoption event at Pet Supplies Plus’ Jersey Village location.\n\n\nWe will be collecting donations from our wishlist and will have plenty of t-shirts too!
URL:https://specialpals.org/event/adoption-event-at-pet-supplies-plus-jersey-village-6/
LOCATION:PSP Jersey Village\, 9431 Jones Rd\, Houston\, Texas\, 77065\, United States
ATTACH;FMTTYPE=image/jpeg:https://specialpals.org/wp-content/uploads/PSP-JV.jpg
END:VEVENT
BEGIN:VEVENT
DTSTART;TZID=UTC:20260110T110000
DTEND;TZID=UTC:20260110T140000
DTSTAMP:20260423T181829
CREATED:20260106T193936Z
LAST-MODIFIED:20260106T193936Z
UID:29175-1768042800-1768053600@specialpals.org
SUMMARY:Adoption day at PetSmart - Richmond
DESCRIPTION:Come meet adoptable dogs and cats at a special mobile adoption event at PetSmart.\n\nWe will be collecting donations from our wishlist and will have plenty of t-shirts too! Stop by and say hi.
URL:https://specialpals.org/event/adoption-day-at-petsmart-richmond-10/
LOCATION:PetSmart – Richmond\, 5574 W Gran Pkwy S\, Richmond\, TX\, 77406\, United States
ATTACH;FMTTYPE=image/png:https://specialpals.org/wp-content/uploads/Generic-Event-Posts.png
END:VEVENT
BEGIN:VEVENT
DTSTART;TZID=America/Chicago:20260110T110000
DTEND;TZID=America/Chicago:20260110T140000
DTSTAMP:20260423T181829
CREATED:20260106T193620Z
LAST-MODIFIED:20260106T193620Z
UID:29173-1768042800-1768053600@specialpals.org
SUMMARY:Adoption Day at Petsmart - Fry Rd
DESCRIPTION:Join us for a special mobile adoption event at Petsmart @ Fry & I-10! Meet adoptable dogs and cats from Special Pals.\n\nWe’ll also be collecting donations from our wishlist and offering plenty of t-shirts for sale.\n\nStop by to say hello and show your support for Special Pals!
URL:https://specialpals.org/event/adoption-day-at-petsmart-fry-rd-30/
LOCATION:Petsmart Fry rd\, 19945 Katy Fwy\, Houston\, Texas\, 77094
ATTACH;FMTTYPE=image/jpeg:https://specialpals.org/wp-content/uploads/Fry-Rd.jpg
END:VEVENT
BEGIN:VEVENT
DTSTART;TZID=America/Chicago:20260109T160000
DTEND;TZID=America/Chicago:20260109T190000
DTSTAMP:20260423T181829
CREATED:20260106T190822Z
LAST-MODIFIED:20260106T190822Z
UID:29171-1767974400-1767985200@specialpals.org
SUMMARY:Adopt Event Pets Supplies Plus - Memorial
DESCRIPTION:Come meet adoptable dogs and cats at a special mobile adoption event at Pet Supplies Plus’ Memorial location.\nMake a day of it! This is a great spot for family fun with many shops and local restaurants nearby.\n\nWe will be collecting donations from our wishlist and will have plenty of t-shirts too!
URL:https://specialpals.org/event/adopt-event-pets-supplies-plus-memorial-8/
LOCATION:PSP Memorial\, 14056 Memorial Dr\, Houston\, TX\, 77079
ATTACH;FMTTYPE=image/jpeg:https://specialpals.org/wp-content/uploads/PSP-Mem.jpg
END:VEVENT
BEGIN:VEVENT
DTSTART;TZID=UTC:20251230T110000
DTEND;TZID=UTC:20251230T130000
DTSTAMP:20260423T181829
CREATED:20251210T193209Z
LAST-MODIFIED:20251210T193209Z
UID:29053-1767092400-1767099600@specialpals.org
SUMMARY:Low-Cost Vaccine Clinic Dec 30th
DESCRIPTION:Walk-ins only\, no appointment needed! \nOur walk-in low-cost shot clinic offers yearly vaccines\, preventative flea and heartworm medication\, heartworm testing\, and microchipping. \nWe are not a full-service vet and have a limited number of services. Please keep your pal safe by bringing them to our facility on a leash or in a carrier. \nThank you for your support!
URL:https://specialpals.org/event/low-cost-vaccine-clinic-dec-30th/
LOCATION:Special Pals\, 3830 Greenhouse Rd.\, Houston\, 77084\, United States
ATTACH;FMTTYPE=image/png:https://specialpals.org/wp-content/uploads/WELLNESS-Clinic-Poster-1.png
END:VEVENT
BEGIN:VEVENT
DTSTART;TZID=America/Chicago:20251227T110000
DTEND;TZID=America/Chicago:20251227T140000
DTSTAMP:20260423T181829
CREATED:20251226T214316Z
LAST-MODIFIED:20251226T214316Z
UID:29107-1766833200-1766844000@specialpals.org
SUMMARY:Adoption Day at Petsmart - Fry Rd
DESCRIPTION:Join us for a special mobile adoption event at Petsmart @ Fry & I-10! Meet adoptable dogs and cats from Special Pals.\n\nWe’ll also be collecting donations from our wishlist and offering plenty of t-shirts for sale.\n\nStop by to say hello and show your support for Special Pals!
URL:https://specialpals.org/event/adoption-day-at-petsmart-fry-rd-29/
LOCATION:Petsmart Fry rd\, 19945 Katy Fwy\, Houston\, Texas\, 77094
ATTACH;FMTTYPE=image/jpeg:https://specialpals.org/wp-content/uploads/Fry-Rd.jpg
END:VEVENT
BEGIN:VEVENT
DTSTART;TZID=UTC:20251222T120000
DTEND;TZID=UTC:20251222T150000
DTSTAMP:20260423T181829
CREATED:20251217T051047Z
LAST-MODIFIED:20251217T051047Z
UID:29096-1766404800-1766415600@specialpals.org
SUMMARY:Adoption day at Willowbrook Mall
DESCRIPTION:Come meet adoptable dogs and cats at a special mobile adoption event at Willowbrook Mall! Find Special Pals and our adoptable dogs and cats inside the mall\, Center Court next to H&M.\n\nWe will be collecting donations from our wishlist and will have plenty of t-shirts too! Stop by and say hi\, and show your support for Special Pals!
URL:https://specialpals.org/event/adoption-day-at-willowbrook-mall-18/
LOCATION:Willowbrook\, 2000 Willowbrook Mall\, Houston\, TX\, 77070\, United States
ATTACH;FMTTYPE=image/png:https://specialpals.org/wp-content/uploads/Willowbrook-1.png
END:VEVENT
BEGIN:VEVENT
DTSTART;TZID=America/Chicago:20251220T130000
DTEND;TZID=America/Chicago:20251220T160000
DTSTAMP:20260423T181829
CREATED:20251217T050656Z
LAST-MODIFIED:20251217T050656Z
UID:29090-1766235600-1766246400@specialpals.org
SUMMARY:Adoption Day at Katy Mills Mall
DESCRIPTION:Join Us for a Special Mobile Adoption Event at Katy Mills Mall!\n\nCome meet our adorable adoptable dogs and cats at a special mobile adoption event inside Katy Mills Mall! You’ll find Special Pals and our furry friends next to the AMC Theater.\n\nWe’ll be collecting donations from our wishlist\, and we’ll have plenty of t-shirts available for purchase\, too!\nStop by\, say hello\, and show your support for the amazing work we do at Special Pals.
URL:https://specialpals.org/event/adoption-day-at-katy-mills-mall-4/
LOCATION:Katy Mills Mall\, 5000 Katy Mills Circle\, Katy\, TX\, 77494\, United States
ATTACH;FMTTYPE=image/jpeg:https://specialpals.org/wp-content/uploads/Katy-Mills-1.jpg
END:VEVENT
BEGIN:VEVENT
DTSTART;TZID=America/Chicago:20251220T110000
DTEND;TZID=America/Chicago:20251220T140000
DTSTAMP:20260423T181829
CREATED:20251217T050900Z
LAST-MODIFIED:20251217T050900Z
UID:29094-1766228400-1766239200@specialpals.org
SUMMARY:Adoption Day at Petsmart - Fry Rd
DESCRIPTION:Join us for a special mobile adoption event at Petsmart @ Fry & I-10! Meet adoptable dogs and cats from Special Pals.\n\nWe’ll also be collecting donations from our wishlist and offering plenty of t-shirts for sale.\n\nStop by to say hello and show your support for Special Pals!
URL:https://specialpals.org/event/adoption-day-at-petsmart-fry-rd-28/
LOCATION:Petsmart Fry rd\, 19945 Katy Fwy\, Houston\, Texas\, 77094
ATTACH;FMTTYPE=image/jpeg:https://specialpals.org/wp-content/uploads/Fry-Rd.jpg
END:VEVENT
BEGIN:VEVENT
DTSTART;TZID=UTC:20251220T110000
DTEND;TZID=UTC:20251220T140000
DTSTAMP:20260423T181829
CREATED:20251217T050810Z
LAST-MODIFIED:20251217T050810Z
UID:29092-1766228400-1766239200@specialpals.org
SUMMARY:Adoption day at PetSmart - Richmond
DESCRIPTION:Come meet adoptable dogs and cats at a special mobile adoption event at PetSmart.\n\nWe will be collecting donations from our wishlist and will have plenty of t-shirts too! Stop by and say hi.
URL:https://specialpals.org/event/adoption-day-at-petsmart-richmond-9/
LOCATION:PetSmart – Richmond\, 5574 W Gran Pkwy S\, Richmond\, TX\, 77406\, United States
ATTACH;FMTTYPE=image/png:https://specialpals.org/wp-content/uploads/Generic-Event-Posts.png
END:VEVENT
BEGIN:VEVENT
DTSTART;TZID=UTC:20251219T110000
DTEND;TZID=UTC:20251219T130000
DTSTAMP:20260423T181829
CREATED:20251210T192835Z
LAST-MODIFIED:20251210T192835Z
UID:29051-1766142000-1766149200@specialpals.org
SUMMARY:Low-Cost Vaccine Clinic Dec 19th
DESCRIPTION:Walk-ins only\, no appointment needed! \nOur walk-in low-cost shot clinic offers yearly vaccines\, preventative flea and heartworm medication\, heartworm testing\, and microchipping. \nWe are not a full-service vet and have a limited number of services. Please keep your pal safe by bringing them to our facility on a leash or in a carrier. \nThank you for your support!
URL:https://specialpals.org/event/low-cost-vaccine-clinic-dec-19th/
LOCATION:Special Pals\, 3830 Greenhouse Rd.\, Houston\, 77084\, United States
ATTACH;FMTTYPE=image/png:https://specialpals.org/wp-content/uploads/WELLNESS-Clinic-Poster-1.png
END:VEVENT
BEGIN:VEVENT
DTSTART;TZID=America/Chicago:20251213T140000
DTEND;TZID=America/Chicago:20251213T170000
DTSTAMP:20260423T181829
CREATED:20251209T153907Z
LAST-MODIFIED:20251209T153907Z
UID:29039-1765634400-1765645200@specialpals.org
SUMMARY:Adoption Day at PetSmart - Bunker Hill
DESCRIPTION:Come meet adoptable dogs and cats at a special mobile adoption event at PetSmart.\n\nWe will be collecting donations from our wishlist and will have plenty of t-shirts too! Stop by and say hi.
URL:https://specialpals.org/event/adoption-day-at-petsmart-bunker-hill-19/
LOCATION:PetSmart – Bunker Hill\, 9718 Katy Fwy\, Houston\, Texas\, 77055
ATTACH;FMTTYPE=image/jpeg:https://specialpals.org/wp-content/uploads/FB_IMG_1741416711249.jpg
END:VEVENT
BEGIN:VEVENT
DTSTART;TZID=America/Chicago:20251213T110000
DTEND;TZID=America/Chicago:20251213T140000
DTSTAMP:20260423T181829
CREATED:20251209T154012Z
LAST-MODIFIED:20251209T154012Z
UID:29041-1765623600-1765634400@specialpals.org
SUMMARY:Adoption Day at Petsmart - Fry Rd
DESCRIPTION:Join us for a special mobile adoption event at Petsmart @ Fry & I-10! Meet adoptable dogs and cats from Special Pals.\n\nWe’ll also be collecting donations from our wishlist and offering plenty of t-shirts for sale.\n\nStop by to say hello and show your support for Special Pals!
URL:https://specialpals.org/event/adoption-day-at-petsmart-fry-rd-27/
LOCATION:Petsmart Fry rd\, 19945 Katy Fwy\, Houston\, Texas\, 77094
ATTACH;FMTTYPE=image/jpeg:https://specialpals.org/wp-content/uploads/Fry-Rd.jpg
END:VEVENT
BEGIN:VEVENT
DTSTART;TZID=America/Chicago:20251213T090000
DTEND;TZID=America/Chicago:20251213T120000
DTSTAMP:20260423T181829
CREATED:20251209T154304Z
LAST-MODIFIED:20251209T154530Z
UID:29043-1765616400-1765627200@specialpals.org
SUMMARY:Adoption Day at Bad Ass Coffee - Barker Cypress
DESCRIPTION:Join us for a special mobile adoption event at Bad Ass Coffee of Hawaii for their 1 year anniversary. Meet adoptable dogs from Special Pals.\n\n\nWe’ll also be collecting donations from our wishlist and offering plenty of t-shirts for sale. Stop by to say hello and show your support for Special Pals!
URL:https://specialpals.org/event/adoption-day-at-bad-ass-coffee-barker-cypress/
LOCATION:Bad Ass Coffee\, 11930 Barker Cypress\, Cypress\, TX\, 77433
ATTACH;FMTTYPE=image/jpeg:https://specialpals.org/wp-content/uploads/coffee.jpg
END:VEVENT
BEGIN:VEVENT
DTSTART;TZID=UTC:20251212T110000
DTEND;TZID=UTC:20251212T130000
DTSTAMP:20260423T181829
CREATED:20251210T192626Z
LAST-MODIFIED:20251210T192626Z
UID:29049-1765537200-1765544400@specialpals.org
SUMMARY:Low-Cost Vaccine Clinic Dec 12th
DESCRIPTION:Walk-ins only\, no appointment needed! \nOur walk-in low-cost shot clinic offers yearly vaccines\, preventative flea and heartworm medication\, heartworm testing\, and microchipping. \nWe are not a full-service vet and have a limited number of services. Please keep your pal safe by bringing them to our facility on a leash or in a carrier. \nThank you for your support!
URL:https://specialpals.org/event/low-cost-vaccine-clinic-dec-12th/
LOCATION:Special Pals\, 3830 Greenhouse Rd.\, Houston\, 77084\, United States
ATTACH;FMTTYPE=image/png:https://specialpals.org/wp-content/uploads/WELLNESS-Clinic-Poster-1.png
END:VEVENT
BEGIN:VEVENT
DTSTART;TZID=America/Chicago:20251211T170000
DTEND;TZID=America/Chicago:20251211T200000
DTSTAMP:20260423T181829
CREATED:20251128T071258Z
LAST-MODIFIED:20251128T071258Z
UID:27821-1765472400-1765483200@specialpals.org
SUMMARY:Adoption Day at Kirby Icehouse
DESCRIPTION:Come meet adoptable dogs and cats at a special mobile adoption event at Kirby Ice House. \n  \nMake a day of it! This is a great spot for family fun with many shops and local restaurants nearby. We will be collecting donations from our wishlist and will have plenty of t-shirts too!
URL:https://specialpals.org/event/adoption-day-at-kirby-icehouse-3/
LOCATION:Kirby Icehouse\, 1015 Gessner\, Houston\, TX\, 77055
ATTACH;FMTTYPE=image/jpeg:https://specialpals.org/wp-content/uploads/Kirby.jpg
END:VEVENT
BEGIN:VEVENT
DTSTART;TZID=America/Chicago:20251207T120000
DTEND;TZID=America/Chicago:20251207T150000
DTSTAMP:20260423T181829
CREATED:20251128T071155Z
LAST-MODIFIED:20251128T071155Z
UID:27819-1765108800-1765119600@specialpals.org
SUMMARY:Adoption Day at PetSmart - Katy
DESCRIPTION:Join us for a special mobile adoption event at Petsmart! Meet adoptable dogs and cats from Special Pals.\n\n\nWe’ll also be collecting donations from our wishlist and offering plenty of t-shirts for sale. Stop by to say hello and show your support for Special Pals!
URL:https://specialpals.org/event/adoption-day-at-petsmart-katy-13/
LOCATION:PetSmart Katy\, 24600 Katy Fwy\, Katy\, TX\, 77494\, United States
ATTACH;FMTTYPE=image/jpeg:https://specialpals.org/wp-content/uploads/Petsmart-Katy.jpg
END:VEVENT
BEGIN:VEVENT
DTSTART;TZID=America/Chicago:20251206T130000
DTEND;TZID=America/Chicago:20251206T150000
DTSTAMP:20260423T181829
CREATED:20251128T071737Z
LAST-MODIFIED:20251128T071737Z
UID:27824-1765026000-1765033200@specialpals.org
SUMMARY:Photos with Santa
DESCRIPTION:Come join us for the fun on December 6th from 1pm – 3pm!\n\nWe will have:\nPhotos with Santa (Suggested Donation of $20)InflatablesAdoptionsSilent AuctionFood TrucksVendorsLive music from the ON’s
URL:https://specialpals.org/event/photos-with-santa-2/
LOCATION:Special Pals\, 3830 Greenhouse Rd.\, Houston\, 77084\, United States
ATTACH;FMTTYPE=image/jpeg:https://specialpals.org/wp-content/uploads/Santa-1.jpg
END:VEVENT
BEGIN:VEVENT
DTSTART;TZID=America/Chicago:20251206T110000
DTEND;TZID=America/Chicago:20251206T140000
DTSTAMP:20260423T181829
CREATED:20251128T071106Z
LAST-MODIFIED:20251128T071106Z
UID:27817-1765018800-1765029600@specialpals.org
SUMMARY:Adoption Day at Petsmart - Fry Rd
DESCRIPTION:Join us for a special mobile adoption event at Petsmart @ Fry & I-10! Meet adoptable dogs and cats from Special Pals.\n\nWe’ll also be collecting donations from our wishlist and offering plenty of t-shirts for sale.\n\nStop by to say hello and show your support for Special Pals!
URL:https://specialpals.org/event/adoption-day-at-petsmart-fry-rd-26/
LOCATION:Petsmart Fry rd\, 19945 Katy Fwy\, Houston\, Texas\, 77094
ATTACH;FMTTYPE=image/jpeg:https://specialpals.org/wp-content/uploads/Fry-Rd.jpg
END:VEVENT
BEGIN:VEVENT
DTSTART;TZID=UTC:20251205T110000
DTEND;TZID=UTC:20251205T130000
DTSTAMP:20260423T181829
CREATED:20251128T071013Z
LAST-MODIFIED:20251128T071013Z
UID:27815-1764932400-1764939600@specialpals.org
SUMMARY:Low-Cost Vaccine Clinic Dec 5th
DESCRIPTION:Walk-ins only\, no appointment needed! \nOur walk-in low-cost shot clinic offers yearly vaccines\, preventative flea and heartworm medication\, heartworm testing\, and microchipping. \nWe are not a full-service vet and have a limited number of services. Please keep your pal safe by bringing them to our facility on a leash or in a carrier. \nThank you for your support!
URL:https://specialpals.org/event/low-cost-vaccine-clinic-dec-5th/
LOCATION:Special Pals\, 3830 Greenhouse Rd.\, Houston\, 77084\, United States
ATTACH;FMTTYPE=image/png:https://specialpals.org/wp-content/uploads/WELLNESS-Clinic-Poster-1.png
END:VEVENT
BEGIN:VEVENT
DTSTART;TZID=UTC:20251128T110000
DTEND;TZID=UTC:20251128T130000
DTSTAMP:20260423T181829
CREATED:20251128T070933Z
LAST-MODIFIED:20251128T070933Z
UID:27813-1764327600-1764334800@specialpals.org
SUMMARY:Low-Cost Vaccine Clinic Nov 28th
DESCRIPTION:Walk-ins only\, no appointment needed! \nOur walk-in low-cost shot clinic offers yearly vaccines\, preventative flea and heartworm medication\, heartworm testing\, and microchipping. \nWe are not a full-service vet and have a limited number of services. Please keep your pal safe by bringing them to our facility on a leash or in a carrier. \nThank you for your support!
URL:https://specialpals.org/event/low-cost-vaccine-clinic-nov-28th/
LOCATION:Special Pals\, 3830 Greenhouse Rd.\, Houston\, 77084\, United States
ATTACH;FMTTYPE=image/png:https://specialpals.org/wp-content/uploads/WELLNESS-Clinic-Poster-1.png
END:VEVENT
BEGIN:VEVENT
DTSTART;TZID=UTC:20251123T120000
DTEND;TZID=UTC:20251123T150000
DTSTAMP:20260423T181829
CREATED:20251115T162936Z
LAST-MODIFIED:20251115T162936Z
UID:27776-1763899200-1763910000@specialpals.org
SUMMARY:Adoption day at PETCO - Mason Rd
DESCRIPTION:Come meet adoptable dogs and cats at a special mobile adoption event at Petco. \n\n\nWe will be collecting donations from our wishlist and will have plenty of t-shirts too! Stop by and say hi to show your support for Special Pals.
URL:https://specialpals.org/event/adoption-day-at-petco-mason-rd-9/
LOCATION:PETCO Mason\, 513 S Mason Rd\, Katy\, 77450\, United States
ATTACH;FMTTYPE=image/jpeg:https://specialpals.org/wp-content/uploads/Petco-mason.jpg
END:VEVENT
BEGIN:VEVENT
DTSTART;TZID=America/Chicago:20251123T120000
DTEND;TZID=America/Chicago:20251123T150000
DTSTAMP:20260423T181829
CREATED:20251115T162828Z
LAST-MODIFIED:20251115T162828Z
UID:27774-1763899200-1763910000@specialpals.org
SUMMARY:Adoption Day at PetSmart - Eldridge
DESCRIPTION:Join us for a special mobile adoption event at Petsmart @ 2610 Eldridge Pkwy Houston\, TX 77082. Meet adoptable dogs and cats from Special Pals.\n\nWe’ll also be collecting donations from our wishlist and offering plenty of t-shirts for sale. Stop by to say hello and show your support for Special Pals!
URL:https://specialpals.org/event/adoption-day-at-petsmart-eldridge-2/
LOCATION:Petsmart Eldrridge\, 2610 Eldridge Parkway\, Houston\, TX\, 77082
ATTACH;FMTTYPE=image/jpeg:https://specialpals.org/wp-content/uploads/eldridge.jpg
END:VEVENT
BEGIN:VEVENT
DTSTART;TZID=America/Chicago:20251122T110000
DTEND;TZID=America/Chicago:20251122T140000
DTSTAMP:20260423T181829
CREATED:20251115T162600Z
LAST-MODIFIED:20251115T162600Z
UID:27770-1763809200-1763820000@specialpals.org
SUMMARY:Adoption Day at Petsmart - Fry Rd
DESCRIPTION:Join us for a special mobile adoption event at Petsmart @ Fry & I-10! Meet adoptable dogs and cats from Special Pals.\n\nWe’ll also be collecting donations from our wishlist and offering plenty of t-shirts for sale.\n\nStop by to say hello and show your support for Special Pals!
URL:https://specialpals.org/event/adoption-day-at-petsmart-fry-rd-25/
LOCATION:Petsmart Fry rd\, 19945 Katy Fwy\, Houston\, Texas\, 77094
ATTACH;FMTTYPE=image/jpeg:https://specialpals.org/wp-content/uploads/Fry-Rd.jpg
END:VEVENT
END:VCALENDAR