BEGIN:VCALENDAR
VERSION:2.0
PRODID:-//Special Pals - ECPv6.15.20//NONSGML v1.0//EN
CALSCALE:GREGORIAN
METHOD:PUBLISH
X-ORIGINAL-URL:https://specialpals.org
X-WR-CALDESC:Events for Special Pals
REFRESH-INTERVAL;VALUE=DURATION:PT1H
X-Robots-Tag:noindex
X-PUBLISHED-TTL:PT1H
BEGIN:VTIMEZONE
TZID:America/Chicago
BEGIN:DAYLIGHT
TZOFFSETFROM:-0600
TZOFFSETTO:-0500
TZNAME:CDT
DTSTART:20250309T080000
END:DAYLIGHT
BEGIN:STANDARD
TZOFFSETFROM:-0500
TZOFFSETTO:-0600
TZNAME:CST
DTSTART:20251102T070000
END:STANDARD
BEGIN:DAYLIGHT
TZOFFSETFROM:-0600
TZOFFSETTO:-0500
TZNAME:CDT
DTSTART:20260308T080000
END:DAYLIGHT
BEGIN:STANDARD
TZOFFSETFROM:-0500
TZOFFSETTO:-0600
TZNAME:CST
DTSTART:20261101T070000
END:STANDARD
BEGIN:DAYLIGHT
TZOFFSETFROM:-0600
TZOFFSETTO:-0500
TZNAME:CDT
DTSTART:20270314T080000
END:DAYLIGHT
BEGIN:STANDARD
TZOFFSETFROM:-0500
TZOFFSETTO:-0600
TZNAME:CST
DTSTART:20271107T070000
END:STANDARD
END:VTIMEZONE
BEGIN:VTIMEZONE
TZID:UTC
BEGIN:STANDARD
TZOFFSETFROM:+0000
TZOFFSETTO:+0000
TZNAME:UTC
DTSTART:20250101T000000
END:STANDARD
END:VTIMEZONE
BEGIN:VEVENT
DTSTART;TZID=America/Chicago:20260418T110000
DTEND;TZID=America/Chicago:20260418T140000
DTSTAMP:20260423T125624
CREATED:20260406T185536Z
LAST-MODIFIED:20260406T185536Z
UID:29454-1776510000-1776520800@specialpals.org
SUMMARY:Adoption Day at PetSmart - Katy
DESCRIPTION:Join us for a special mobile adoption event at Petsmart! Meet adoptable dogs and cats from Special Pals.\n\n\nWe’ll also be collecting donations from our wishlist and offering plenty of t-shirts for sale. Stop by to say hello and show your support for Special Pals!
URL:https://specialpals.org/event/adoption-day-at-petsmart-katy-18/
LOCATION:PetSmart Katy\, 24600 Katy Fwy\, Katy\, TX\, 77494\, United States
ATTACH;FMTTYPE=image/jpeg:https://specialpals.org/wp-content/uploads/Petsmart-Katy.jpg
END:VEVENT
BEGIN:VEVENT
DTSTART;TZID=America/Chicago:20260418T110000
DTEND;TZID=America/Chicago:20260418T140000
DTSTAMP:20260423T125624
CREATED:20260406T185829Z
LAST-MODIFIED:20260406T185829Z
UID:29458-1776510000-1776520800@specialpals.org
SUMMARY:Adopt Event Pets Supplies Plus - Memorial
DESCRIPTION:Come meet adoptable dogs and cats at a special mobile adoption event at Pet Supplies Plus’ Memorial location.\nMake a day of it! This is a great spot for family fun with many shops and local restaurants nearby.\n\nWe will be collecting donations from our wishlist and will have plenty of t-shirts too!
URL:https://specialpals.org/event/adopt-event-pets-supplies-plus-memorial-9/
LOCATION:PSP Memorial\, 14056 Memorial Dr\, Houston\, TX\, 77079
ATTACH;FMTTYPE=image/jpeg:https://specialpals.org/wp-content/uploads/PSP-Mem.jpg
END:VEVENT
BEGIN:VEVENT
DTSTART;TZID=America/Chicago:20260418T120000
DTEND;TZID=America/Chicago:20260418T150000
DTSTAMP:20260423T125624
CREATED:20260406T185448Z
LAST-MODIFIED:20260406T185448Z
UID:29452-1776513600-1776524400@specialpals.org
SUMMARY:Adoption Day at PetSmart - Eldridge
DESCRIPTION:Join us for a special mobile adoption event at Petsmart @ 2610 Eldridge Pkwy Houston\, TX 77082. Meet adoptable dogs and cats from Special Pals.\n\nWe’ll also be collecting donations from our wishlist and offering plenty of t-shirts for sale. Stop by to say hello and show your support for Special Pals!
URL:https://specialpals.org/event/adoption-day-at-petsmart-eldridge-10/
LOCATION:Petsmart Eldrridge\, 2610 Eldridge Parkway\, Houston\, TX\, 77082
ATTACH;FMTTYPE=image/jpeg:https://specialpals.org/wp-content/uploads/eldridge.jpg
END:VEVENT
BEGIN:VEVENT
DTSTART;TZID=UTC:20260418T120000
DTEND;TZID=UTC:20260418T150000
DTSTAMP:20260423T125624
CREATED:20260406T185726Z
LAST-MODIFIED:20260406T185726Z
UID:29456-1776513600-1776524400@specialpals.org
SUMMARY:Adoption day at Willowbrook Mall
DESCRIPTION:Come meet adoptable dogs and cats at a special mobile adoption event at Willowbrook Mall! Find Special Pals and our adoptable dogs and cats inside the mall\, Center Court next to H&M.\n\nWe will be collecting donations from our wishlist and will have plenty of t-shirts too! Stop by and say hi\, and show your support for Special Pals!
URL:https://specialpals.org/event/adoption-day-at-willowbrook-mall-22/
LOCATION:Willowbrook\, 2000 Willowbrook Mall\, Houston\, TX\, 77070\, United States
ATTACH;FMTTYPE=image/png:https://specialpals.org/wp-content/uploads/Willowbrook-1.png
END:VEVENT
END:VCALENDAR