BEGIN:VCALENDAR
VERSION:2.0
PRODID:-//Special Pals - ECPv6.15.20//NONSGML v1.0//EN
CALSCALE:GREGORIAN
METHOD:PUBLISH
X-WR-CALNAME:Special Pals
X-ORIGINAL-URL:https://specialpals.org
X-WR-CALDESC:Events for Special Pals
REFRESH-INTERVAL;VALUE=DURATION:PT1H
X-Robots-Tag:noindex
X-PUBLISHED-TTL:PT1H
BEGIN:VTIMEZONE
TZID:America/Chicago
BEGIN:DAYLIGHT
TZOFFSETFROM:-0600
TZOFFSETTO:-0500
TZNAME:CDT
DTSTART:20250309T080000
END:DAYLIGHT
BEGIN:STANDARD
TZOFFSETFROM:-0500
TZOFFSETTO:-0600
TZNAME:CST
DTSTART:20251102T070000
END:STANDARD
BEGIN:DAYLIGHT
TZOFFSETFROM:-0600
TZOFFSETTO:-0500
TZNAME:CDT
DTSTART:20260308T080000
END:DAYLIGHT
BEGIN:STANDARD
TZOFFSETFROM:-0500
TZOFFSETTO:-0600
TZNAME:CST
DTSTART:20261101T070000
END:STANDARD
BEGIN:DAYLIGHT
TZOFFSETFROM:-0600
TZOFFSETTO:-0500
TZNAME:CDT
DTSTART:20270314T080000
END:DAYLIGHT
BEGIN:STANDARD
TZOFFSETFROM:-0500
TZOFFSETTO:-0600
TZNAME:CST
DTSTART:20271107T070000
END:STANDARD
END:VTIMEZONE
BEGIN:VEVENT
DTSTART;TZID=America/Chicago:20260328T110000
DTEND;TZID=America/Chicago:20260328T140000
DTSTAMP:20260423T143832
CREATED:20260324T030810Z
LAST-MODIFIED:20260324T030810Z
UID:29411-1774695600-1774706400@specialpals.org
SUMMARY:Adoption Day at Petsmart - Fry Rd
DESCRIPTION:Join us for a special mobile adoption event at Petsmart @ Fry & I-10! Meet adoptable dogs and cats from Special Pals.\n\nWe’ll also be collecting donations from our wishlist and offering plenty of t-shirts for sale.\n\nStop by to say hello and show your support for Special Pals!
URL:https://specialpals.org/event/adoption-day-at-petsmart-fry-rd-37/
LOCATION:Petsmart Fry rd\, 19945 Katy Fwy\, Houston\, Texas\, 77094
ATTACH;FMTTYPE=image/jpeg:https://specialpals.org/wp-content/uploads/Fry-Rd.jpg
END:VEVENT
BEGIN:VEVENT
DTSTART;TZID=America/Chicago:20260328T110000
DTEND;TZID=America/Chicago:20260328T140000
DTSTAMP:20260423T143832
CREATED:20260324T030904Z
LAST-MODIFIED:20260324T030904Z
UID:29413-1774695600-1774706400@specialpals.org
SUMMARY:Adoption Day at PetSmart - Katy
DESCRIPTION:Join us for a special mobile adoption event at Petsmart! Meet adoptable dogs and cats from Special Pals.\n\n\nWe’ll also be collecting donations from our wishlist and offering plenty of t-shirts for sale. Stop by to say hello and show your support for Special Pals!
URL:https://specialpals.org/event/adoption-day-at-petsmart-katy-16/
LOCATION:PetSmart Katy\, 24600 Katy Fwy\, Katy\, TX\, 77494\, United States
ATTACH;FMTTYPE=image/jpeg:https://specialpals.org/wp-content/uploads/Petsmart-Katy.jpg
END:VEVENT
BEGIN:VEVENT
DTSTART;TZID=America/Chicago:20260328T110000
DTEND;TZID=America/Chicago:20260328T140000
DTSTAMP:20260423T143832
CREATED:20260324T031010Z
LAST-MODIFIED:20260324T031010Z
UID:29415-1774695600-1774706400@specialpals.org
SUMMARY:Adoption Dat at PetSmart - Fulshear
DESCRIPTION:Come meet adoptable dogs at a special mobile adoption event at PetSmart.\n\nWe will be collecting donations from our wishlist and will have plenty of t-shirts too! Stop by and say hi.
URL:https://specialpals.org/event/adoption-dat-at-petsmart-fulshear-2/
LOCATION:PetSmart Fulshear\, 26960 FM 1093\, Richmond\, Texas\, 774906
ATTACH;FMTTYPE=image/jpeg:https://specialpals.org/wp-content/uploads/Petsmart.jpg
END:VEVENT
BEGIN:VEVENT
DTSTART;TZID=America/Chicago:20260328T130000
DTEND;TZID=America/Chicago:20260328T160000
DTSTAMP:20260423T143832
CREATED:20260324T030713Z
LAST-MODIFIED:20260324T030713Z
UID:29409-1774702800-1774713600@specialpals.org
SUMMARY:Adoption Day at Katy Mills Mall
DESCRIPTION:Join Us for a Special Mobile Adoption Event at Katy Mills Mall!\n\nCome meet our adorable adoptable dogs and cats at a special mobile adoption event inside Katy Mills Mall! You’ll find Special Pals and our furry friends next to the AMC Theater.\n\nWe’ll be collecting donations from our wishlist\, and we’ll have plenty of t-shirts available for purchase\, too!\nStop by\, say hello\, and show your support for the amazing work we do at Special Pals.
URL:https://specialpals.org/event/adoption-day-at-katy-mills-mall-5/
LOCATION:Katy Mills Mall\, 5000 Katy Mills Circle\, Katy\, TX\, 77494\, United States
ATTACH;FMTTYPE=image/jpeg:https://specialpals.org/wp-content/uploads/Katy-Mills-1.jpg
END:VEVENT
END:VCALENDAR