BEGIN:VCALENDAR
VERSION:2.0
PRODID:-//Special Pals - ECPv6.15.20//NONSGML v1.0//EN
CALSCALE:GREGORIAN
METHOD:PUBLISH
X-WR-CALNAME:Special Pals
X-ORIGINAL-URL:https://specialpals.org
X-WR-CALDESC:Events for Special Pals
REFRESH-INTERVAL;VALUE=DURATION:PT1H
X-Robots-Tag:noindex
X-PUBLISHED-TTL:PT1H
BEGIN:VTIMEZONE
TZID:America/Chicago
BEGIN:DAYLIGHT
TZOFFSETFROM:-0600
TZOFFSETTO:-0500
TZNAME:CDT
DTSTART:20250309T080000
END:DAYLIGHT
BEGIN:STANDARD
TZOFFSETFROM:-0500
TZOFFSETTO:-0600
TZNAME:CST
DTSTART:20251102T070000
END:STANDARD
BEGIN:DAYLIGHT
TZOFFSETFROM:-0600
TZOFFSETTO:-0500
TZNAME:CDT
DTSTART:20260308T080000
END:DAYLIGHT
BEGIN:STANDARD
TZOFFSETFROM:-0500
TZOFFSETTO:-0600
TZNAME:CST
DTSTART:20261101T070000
END:STANDARD
BEGIN:DAYLIGHT
TZOFFSETFROM:-0600
TZOFFSETTO:-0500
TZNAME:CDT
DTSTART:20270314T080000
END:DAYLIGHT
BEGIN:STANDARD
TZOFFSETFROM:-0500
TZOFFSETTO:-0600
TZNAME:CST
DTSTART:20271107T070000
END:STANDARD
END:VTIMEZONE
BEGIN:VEVENT
DTSTART;TZID=America/Chicago:20260312T170000
DTEND;TZID=America/Chicago:20260312T210000
DTSTAMP:20260423T143828
CREATED:20260310T072510Z
LAST-MODIFIED:20260310T072510Z
UID:29383-1773334800-1773349200@specialpals.org
SUMMARY:Adoption Day at Kirby Icehouse - Gessner
DESCRIPTION:Come meet adoptable dogs and cats at a special mobile adoption event at Kirby Ice House. \n  \nMake a day of it! This is a great spot for family fun with many shops and local restaurants nearby. We will be collecting donations from our wishlist and will have plenty of t-shirts too!
URL:https://specialpals.org/event/adoption-day-at-kirby-icehouse-gessner/
LOCATION:Kirby Icehouse\, 1015 Gessner\, Houston\, TX\, 77055
ATTACH;FMTTYPE=image/jpeg:https://specialpals.org/wp-content/uploads/Kirby.jpg
END:VEVENT
END:VCALENDAR