BEGIN:VCALENDAR
VERSION:2.0
PRODID:-//Special Pals - ECPv6.15.20//NONSGML v1.0//EN
CALSCALE:GREGORIAN
METHOD:PUBLISH
X-WR-CALNAME:Special Pals
X-ORIGINAL-URL:https://specialpals.org
X-WR-CALDESC:Events for Special Pals
REFRESH-INTERVAL;VALUE=DURATION:PT1H
X-Robots-Tag:noindex
X-PUBLISHED-TTL:PT1H
BEGIN:VTIMEZONE
TZID:UTC
BEGIN:STANDARD
TZOFFSETFROM:+0000
TZOFFSETTO:+0000
TZNAME:UTC
DTSTART:20250101T000000
END:STANDARD
END:VTIMEZONE
BEGIN:VTIMEZONE
TZID:America/Chicago
BEGIN:DAYLIGHT
TZOFFSETFROM:-0600
TZOFFSETTO:-0500
TZNAME:CDT
DTSTART:20250309T080000
END:DAYLIGHT
BEGIN:STANDARD
TZOFFSETFROM:-0500
TZOFFSETTO:-0600
TZNAME:CST
DTSTART:20251102T070000
END:STANDARD
BEGIN:DAYLIGHT
TZOFFSETFROM:-0600
TZOFFSETTO:-0500
TZNAME:CDT
DTSTART:20260308T080000
END:DAYLIGHT
BEGIN:STANDARD
TZOFFSETFROM:-0500
TZOFFSETTO:-0600
TZNAME:CST
DTSTART:20261101T070000
END:STANDARD
BEGIN:DAYLIGHT
TZOFFSETFROM:-0600
TZOFFSETTO:-0500
TZNAME:CDT
DTSTART:20270314T080000
END:DAYLIGHT
BEGIN:STANDARD
TZOFFSETFROM:-0500
TZOFFSETTO:-0600
TZNAME:CST
DTSTART:20271107T070000
END:STANDARD
END:VTIMEZONE
BEGIN:VEVENT
DTSTART;TZID=UTC:20260220T110000
DTEND;TZID=UTC:20260220T130000
DTSTAMP:20260423T162238
CREATED:20260216T210646Z
LAST-MODIFIED:20260216T230104Z
UID:29299-1771585200-1771592400@specialpals.org
SUMMARY:Low-Cost Vaccine Clinic Feb 20th
DESCRIPTION:Walk-ins only\, no appointment needed! \nOur walk-in low-cost shot clinic offers yearly vaccines\, preventative flea and heartworm medication\, heartworm testing\, and microchipping. \nWe are not a full-service vet and have a limited number of services. Please keep your pal safe by bringing them to our facility on a leash or in a carrier. \nThank you for your support!
URL:https://specialpals.org/event/low-cost-vaccine-clinic-feb-6th-2/
LOCATION:Special Pals\, 3830 Greenhouse Rd.\, Houston\, 77084\, United States
ATTACH;FMTTYPE=image/png:https://specialpals.org/wp-content/uploads/WELLNESS-Clinic-Poster-1.png
END:VEVENT
BEGIN:VEVENT
DTSTART;TZID=America/Chicago:20260220T170000
DTEND;TZID=America/Chicago:20260220T210000
DTSTAMP:20260423T162238
CREATED:20260216T172004Z
LAST-MODIFIED:20260216T172004Z
UID:29295-1771606800-1771621200@specialpals.org
SUMMARY:Adoption Day at Kirby Icehouse - Heights
DESCRIPTION:Come meet adoptable dogs at a special mobile adoption event at Kirby Ice House!\n\nMake an evening of it! This is a great spot for fun after work. We will be collecting donations from our wishlist and will have plenty of t-shirts too!
URL:https://specialpals.org/event/adoption-day-at-kirby-icehouse-heights/
LOCATION:Kirby Icehouse – Heights\, 1421 North Loop W\, Houston\, Texas\, 77008
ATTACH;FMTTYPE=image/jpeg:https://specialpals.org/wp-content/uploads/Kirby-Heights.jpg
END:VEVENT
END:VCALENDAR