BEGIN:VCALENDAR
VERSION:2.0
PRODID:-//Special Pals - ECPv6.15.20//NONSGML v1.0//EN
CALSCALE:GREGORIAN
METHOD:PUBLISH
X-ORIGINAL-URL:https://specialpals.org
X-WR-CALDESC:Events for Special Pals
REFRESH-INTERVAL;VALUE=DURATION:PT1H
X-Robots-Tag:noindex
X-PUBLISHED-TTL:PT1H
BEGIN:VTIMEZONE
TZID:America/Chicago
BEGIN:DAYLIGHT
TZOFFSETFROM:-0600
TZOFFSETTO:-0500
TZNAME:CDT
DTSTART:20250309T080000
END:DAYLIGHT
BEGIN:STANDARD
TZOFFSETFROM:-0500
TZOFFSETTO:-0600
TZNAME:CST
DTSTART:20251102T070000
END:STANDARD
BEGIN:DAYLIGHT
TZOFFSETFROM:-0600
TZOFFSETTO:-0500
TZNAME:CDT
DTSTART:20260308T080000
END:DAYLIGHT
BEGIN:STANDARD
TZOFFSETFROM:-0500
TZOFFSETTO:-0600
TZNAME:CST
DTSTART:20261101T070000
END:STANDARD
BEGIN:DAYLIGHT
TZOFFSETFROM:-0600
TZOFFSETTO:-0500
TZNAME:CDT
DTSTART:20270314T080000
END:DAYLIGHT
BEGIN:STANDARD
TZOFFSETFROM:-0500
TZOFFSETTO:-0600
TZNAME:CST
DTSTART:20271107T070000
END:STANDARD
END:VTIMEZONE
BEGIN:VEVENT
DTSTART;TZID=America/Chicago:20260214T110000
DTEND;TZID=America/Chicago:20260214T140000
DTSTAMP:20260423T162402
CREATED:20260205T170348Z
LAST-MODIFIED:20260205T170348Z
UID:29255-1771066800-1771077600@specialpals.org
SUMMARY:Adoption Day at PetSmart - Eldridge
DESCRIPTION:Join us for a special mobile adoption event at Petsmart @ 2610 Eldridge Pkwy Houston\, TX 77082. Meet adoptable dogs and cats from Special Pals.\n\nWe’ll also be collecting donations from our wishlist and offering plenty of t-shirts for sale. Stop by to say hello and show your support for Special Pals!
URL:https://specialpals.org/event/adoption-day-at-petsmart-eldridge-3/
LOCATION:Petsmart Eldrridge\, 2610 Eldridge Parkway\, Houston\, TX\, 77082
ATTACH;FMTTYPE=image/jpeg:https://specialpals.org/wp-content/uploads/eldridge.jpg
END:VEVENT
BEGIN:VEVENT
DTSTART;TZID=America/Chicago:20260214T110000
DTEND;TZID=America/Chicago:20260214T140000
DTSTAMP:20260423T162402
CREATED:20260205T170437Z
LAST-MODIFIED:20260205T170437Z
UID:29257-1771066800-1771077600@specialpals.org
SUMMARY:Adoption Day at Petsmart - Fry Rd
DESCRIPTION:Join us for a special mobile adoption event at Petsmart @ Fry & I-10! Meet adoptable dogs and cats from Special Pals.\n\nWe’ll also be collecting donations from our wishlist and offering plenty of t-shirts for sale.\n\nStop by to say hello and show your support for Special Pals!
URL:https://specialpals.org/event/adoption-day-at-petsmart-fry-rd-31/
LOCATION:Petsmart Fry rd\, 19945 Katy Fwy\, Houston\, Texas\, 77094
ATTACH;FMTTYPE=image/jpeg:https://specialpals.org/wp-content/uploads/Fry-Rd.jpg
END:VEVENT
BEGIN:VEVENT
DTSTART;TZID=America/Chicago:20260214T110000
DTEND;TZID=America/Chicago:20260214T140000
DTSTAMP:20260423T162402
CREATED:20260205T231424Z
LAST-MODIFIED:20260205T231424Z
UID:29274-1771066800-1771077600@specialpals.org
SUMMARY:Adoption Dat at PetSmart - Fulshear
DESCRIPTION:Come meet adoptable dogs at a special mobile adoption event at PetSmart.\n\nWe will be collecting donations from our wishlist and will have plenty of t-shirts too! Stop by and say hi.
URL:https://specialpals.org/event/adoption-dat-at-petsmart-fulshear/
LOCATION:PetSmart Fulshear\, 26960 FM 1093\, Richmond\, Texas\, 774906
ATTACH;FMTTYPE=image/jpeg:https://specialpals.org/wp-content/uploads/Petsmart.jpg
END:VEVENT
BEGIN:VEVENT
DTSTART;TZID=America/Chicago:20260214T120000
DTEND;TZID=America/Chicago:20260214T130000
DTSTAMP:20260423T162402
CREATED:20260205T171709Z
LAST-MODIFIED:20260205T171709Z
UID:29270-1771070400-1771074000@specialpals.org
SUMMARY:Foster Class - Learn more about fostering!
DESCRIPTION:Have you ever wanted to learn how to foster? Now is the perfect time with our foster class! Play with some puppies while learning all the ins and outs of fostering! RSVP at foster@specialpals.org and join us at Special Pals\, 3830 Greenhouse Rd.\, Houston\, TX 77084.
URL:https://specialpals.org/event/foster-class-learn-more-about-fostering-2/
LOCATION:Special Pals\, 3830 Greenhouse Rd.\, Houston\, 77084\, United States
ATTACH;FMTTYPE=image/jpeg:https://specialpals.org/wp-content/uploads/Foster-class-1.jpg
END:VEVENT
END:VCALENDAR