BEGIN:VCALENDAR
VERSION:2.0
PRODID:-//Special Pals - ECPv6.15.20//NONSGML v1.0//EN
CALSCALE:GREGORIAN
METHOD:PUBLISH
X-WR-CALNAME:Special Pals
X-ORIGINAL-URL:https://specialpals.org
X-WR-CALDESC:Events for Special Pals
REFRESH-INTERVAL;VALUE=DURATION:PT1H
X-Robots-Tag:noindex
X-PUBLISHED-TTL:PT1H
BEGIN:VTIMEZONE
TZID:America/Chicago
BEGIN:DAYLIGHT
TZOFFSETFROM:-0600
TZOFFSETTO:-0500
TZNAME:CDT
DTSTART:20250309T080000
END:DAYLIGHT
BEGIN:STANDARD
TZOFFSETFROM:-0500
TZOFFSETTO:-0600
TZNAME:CST
DTSTART:20251102T070000
END:STANDARD
BEGIN:DAYLIGHT
TZOFFSETFROM:-0600
TZOFFSETTO:-0500
TZNAME:CDT
DTSTART:20260308T080000
END:DAYLIGHT
BEGIN:STANDARD
TZOFFSETFROM:-0500
TZOFFSETTO:-0600
TZNAME:CST
DTSTART:20261101T070000
END:STANDARD
BEGIN:DAYLIGHT
TZOFFSETFROM:-0600
TZOFFSETTO:-0500
TZNAME:CDT
DTSTART:20270314T080000
END:DAYLIGHT
BEGIN:STANDARD
TZOFFSETFROM:-0500
TZOFFSETTO:-0600
TZNAME:CST
DTSTART:20271107T070000
END:STANDARD
END:VTIMEZONE
BEGIN:VEVENT
DTSTART;TZID=America/Chicago:20260208T110000
DTEND;TZID=America/Chicago:20260208T140000
DTSTAMP:20260423T162239
CREATED:20260205T170818Z
LAST-MODIFIED:20260205T170818Z
UID:29264-1770548400-1770559200@specialpals.org
SUMMARY:Adoption Day at PetSmart - Katy
DESCRIPTION:Join us for a special mobile adoption event at Petsmart! Meet adoptable dogs and cats from Special Pals.\n\n\nWe’ll also be collecting donations from our wishlist and offering plenty of t-shirts for sale. Stop by to say hello and show your support for Special Pals!
URL:https://specialpals.org/event/adoption-day-at-petsmart-katy-14/
LOCATION:PetSmart Katy\, 24600 Katy Fwy\, Katy\, TX\, 77494\, United States
ATTACH;FMTTYPE=image/jpeg:https://specialpals.org/wp-content/uploads/Petsmart-Katy.jpg
END:VEVENT
BEGIN:VEVENT
DTSTART;TZID=America/Chicago:20260208T110000
DTEND;TZID=America/Chicago:20260208T140000
DTSTAMP:20260423T162239
CREATED:20260205T170920Z
LAST-MODIFIED:20260205T170920Z
UID:29263-1770548400-1770559200@specialpals.org
SUMMARY:Adoption Day at PetSmart - Bunker Hill
DESCRIPTION:Come meet adoptable dogs and cats at a special mobile adoption event at PetSmart.\n\nWe will be collecting donations from our wishlist and will have plenty of t-shirts too! Stop by and say hi.
URL:https://specialpals.org/event/adoption-day-at-petsmart-bunker-hill-20/
LOCATION:PetSmart – Bunker Hill\, 9718 Katy Fwy\, Houston\, Texas\, 77055
ATTACH;FMTTYPE=image/jpeg:https://specialpals.org/wp-content/uploads/FB_IMG_1741416711249.jpg
END:VEVENT
BEGIN:VEVENT
DTSTART;TZID=America/Chicago:20260208T160000
DTEND;TZID=America/Chicago:20260208T210000
DTSTAMP:20260423T162239
CREATED:20260205T171226Z
LAST-MODIFIED:20260205T171226Z
UID:29267-1770566400-1770584400@specialpals.org
SUMMARY:Adoption Day at Kirby Icehouse for the Big Game
DESCRIPTION:Come meet adoptable dogs and cats at a special mobile adoption event at Kirby Ice House. \nSpecial Pals will be watching the Seahawks and Patriots in the Super Bowl with everyone at Kirby Icehouse. Come see us! Good food\, drinks\, and fun times!
URL:https://specialpals.org/event/adoption-day-at-kirby-icehouse-for-the-big-game/
LOCATION:Kirby Icehouse\, 1015 Gessner\, Houston\, TX\, 77055
ATTACH;FMTTYPE=image/jpeg:https://specialpals.org/wp-content/uploads/1000108743-1.jpg
END:VEVENT
END:VCALENDAR