BEGIN:VCALENDAR
VERSION:2.0
PRODID:-//Special Pals - ECPv6.15.20//NONSGML v1.0//EN
CALSCALE:GREGORIAN
METHOD:PUBLISH
X-WR-CALNAME:Special Pals
X-ORIGINAL-URL:https://specialpals.org
X-WR-CALDESC:Events for Special Pals
REFRESH-INTERVAL;VALUE=DURATION:PT1H
X-Robots-Tag:noindex
X-PUBLISHED-TTL:PT1H
BEGIN:VTIMEZONE
TZID:America/Chicago
BEGIN:DAYLIGHT
TZOFFSETFROM:-0600
TZOFFSETTO:-0500
TZNAME:CDT
DTSTART:20240310T080000
END:DAYLIGHT
BEGIN:STANDARD
TZOFFSETFROM:-0500
TZOFFSETTO:-0600
TZNAME:CST
DTSTART:20241103T070000
END:STANDARD
BEGIN:DAYLIGHT
TZOFFSETFROM:-0600
TZOFFSETTO:-0500
TZNAME:CDT
DTSTART:20250309T080000
END:DAYLIGHT
BEGIN:STANDARD
TZOFFSETFROM:-0500
TZOFFSETTO:-0600
TZNAME:CST
DTSTART:20251102T070000
END:STANDARD
BEGIN:DAYLIGHT
TZOFFSETFROM:-0600
TZOFFSETTO:-0500
TZNAME:CDT
DTSTART:20260308T080000
END:DAYLIGHT
BEGIN:STANDARD
TZOFFSETFROM:-0500
TZOFFSETTO:-0600
TZNAME:CST
DTSTART:20261101T070000
END:STANDARD
END:VTIMEZONE
BEGIN:VEVENT
DTSTART;TZID=America/Chicago:20251022T173000
DTEND;TZID=America/Chicago:20251022T193000
DTSTAMP:20260423T234943
CREATED:20251015T051059Z
LAST-MODIFIED:20251015T051059Z
UID:27666-1761154200-1761161400@specialpals.org
SUMMARY:Bubba's 33 Adoption Event & Spirit Night Trunk or Treat
DESCRIPTION:Find Your New Best Friend at Bubba’s 33!\n\nJoin us at Bubba’s 33 Trunk or Treat on Wednesday\, October 22nd\, from 5:30-7:30 PM for our adoption event. Enjoy great food and come home with a pooch that is sure to be a treat.\n\nEnjoy a fun-filled evening with Halloween festivities\, delicious food\, and community cheer. Dress up in your best costume and bring along friends and family for a memorable night!  Don’t miss out on the fun—see you there!
URL:https://specialpals.org/event/bubbas-33-adoption-event-spirit-night-trunk-or-treat/
LOCATION:Bubba’s 33\, 2704 W Grand Parkway N\, Katy\, TX\, 77449\, United States
ATTACH;FMTTYPE=image/jpeg:https://specialpals.org/wp-content/uploads/Bubba-2.jpg
END:VEVENT
END:VCALENDAR