BEGIN:VCALENDAR
VERSION:2.0
PRODID:-//Special Pals - ECPv6.15.20//NONSGML v1.0//EN
CALSCALE:GREGORIAN
METHOD:PUBLISH
X-ORIGINAL-URL:https://specialpals.org
X-WR-CALDESC:Events for Special Pals
REFRESH-INTERVAL;VALUE=DURATION:PT1H
X-Robots-Tag:noindex
X-PUBLISHED-TTL:PT1H
BEGIN:VTIMEZONE
TZID:UTC
BEGIN:STANDARD
TZOFFSETFROM:+0000
TZOFFSETTO:+0000
TZNAME:UTC
DTSTART:20240101T000000
END:STANDARD
END:VTIMEZONE
BEGIN:VTIMEZONE
TZID:America/Chicago
BEGIN:DAYLIGHT
TZOFFSETFROM:-0600
TZOFFSETTO:-0500
TZNAME:CDT
DTSTART:20240310T080000
END:DAYLIGHT
BEGIN:STANDARD
TZOFFSETFROM:-0500
TZOFFSETTO:-0600
TZNAME:CST
DTSTART:20241103T070000
END:STANDARD
BEGIN:DAYLIGHT
TZOFFSETFROM:-0600
TZOFFSETTO:-0500
TZNAME:CDT
DTSTART:20250309T080000
END:DAYLIGHT
BEGIN:STANDARD
TZOFFSETFROM:-0500
TZOFFSETTO:-0600
TZNAME:CST
DTSTART:20251102T070000
END:STANDARD
BEGIN:DAYLIGHT
TZOFFSETFROM:-0600
TZOFFSETTO:-0500
TZNAME:CDT
DTSTART:20260308T080000
END:DAYLIGHT
BEGIN:STANDARD
TZOFFSETFROM:-0500
TZOFFSETTO:-0600
TZNAME:CST
DTSTART:20261101T070000
END:STANDARD
END:VTIMEZONE
BEGIN:VEVENT
DTSTART;TZID=UTC:20250503T110000
DTEND;TZID=UTC:20250503T140000
DTSTAMP:20260424T095651
CREATED:20250424T201926Z
LAST-MODIFIED:20250424T201926Z
UID:26784-1746270000-1746280800@specialpals.org
SUMMARY:Adoption day at PETCO - Morton Ranch
DESCRIPTION:Come meet adoptable dogs and cats at a special mobile adoption event at Petco. \n\n\nWe will be collecting donations from our wishlist and will have plenty of t-shirts too! Stop by and say hi to show your support for Special Pals.
URL:https://specialpals.org/event/adoption-day-at-petco-morton-ranch-6/
LOCATION:PETCO\, 2844 W Grand Pkwy N\, Katy\, TX\, 77449\, United States
ATTACH;FMTTYPE=image/png:https://specialpals.org/wp-content/uploads/Petco.png
END:VEVENT
BEGIN:VEVENT
DTSTART;TZID=UTC:20250503T110000
DTEND;TZID=UTC:20250503T140000
DTSTAMP:20260424T095651
CREATED:20250424T201957Z
LAST-MODIFIED:20250424T201957Z
UID:26783-1746270000-1746280800@specialpals.org
SUMMARY:Adoption day at PETCO - Mason Rd
DESCRIPTION:Come meet adoptable dogs and cats at a special mobile adoption event at Petco. \n\n\nWe will be collecting donations from our wishlist and will have plenty of t-shirts too! Stop by and say hi to show your support for Special Pals.
URL:https://specialpals.org/event/adoption-day-at-petco-mason-rd-5/
LOCATION:PETCO Mason\, 513 S Mason Rd\, Katy\, 77450\, United States
ATTACH;FMTTYPE=image/png:https://specialpals.org/wp-content/uploads/Petco.png
END:VEVENT
BEGIN:VEVENT
DTSTART;TZID=America/Chicago:20250503T160000
DTEND;TZID=America/Chicago:20250503T170000
DTSTAMP:20260424T095651
CREATED:20250421T211639Z
LAST-MODIFIED:20250421T211639Z
UID:26771-1746288000-1746291600@specialpals.org
SUMMARY:Foster Class - Learn more about fostering!
DESCRIPTION:Have you ever wanted to learn how to foster? Now is the perfect time with our foster class! Play with some puppies while learning all the ins and outs of fostering! RSVP at foster@specialpals.org and join us May 3 from 4 – 5pm at Special Pals\, 3830 Greenhouse Rd.\, Houston\, TX 77084
URL:https://specialpals.org/event/foster-class-learn-more-about-fostering/
LOCATION:Special Pals\, 3830 Greenhouse Rd.\, Houston\, 77084\, United States
ATTACH;FMTTYPE=image/jpeg:https://specialpals.org/wp-content/uploads/Foster-class.jpg
END:VEVENT
END:VCALENDAR