BEGIN:VCALENDAR
VERSION:2.0
PRODID:-//Special Pals - ECPv6.15.20//NONSGML v1.0//EN
CALSCALE:GREGORIAN
METHOD:PUBLISH
X-ORIGINAL-URL:https://specialpals.org
X-WR-CALDESC:Events for Special Pals
REFRESH-INTERVAL;VALUE=DURATION:PT1H
X-Robots-Tag:noindex
X-PUBLISHED-TTL:PT1H
BEGIN:VTIMEZONE
TZID:UTC
BEGIN:STANDARD
TZOFFSETFROM:+0000
TZOFFSETTO:+0000
TZNAME:UTC
DTSTART:20240101T000000
END:STANDARD
END:VTIMEZONE
BEGIN:VTIMEZONE
TZID:America/Chicago
BEGIN:DAYLIGHT
TZOFFSETFROM:-0600
TZOFFSETTO:-0500
TZNAME:CDT
DTSTART:20240310T080000
END:DAYLIGHT
BEGIN:STANDARD
TZOFFSETFROM:-0500
TZOFFSETTO:-0600
TZNAME:CST
DTSTART:20241103T070000
END:STANDARD
BEGIN:DAYLIGHT
TZOFFSETFROM:-0600
TZOFFSETTO:-0500
TZNAME:CDT
DTSTART:20250309T080000
END:DAYLIGHT
BEGIN:STANDARD
TZOFFSETFROM:-0500
TZOFFSETTO:-0600
TZNAME:CST
DTSTART:20251102T070000
END:STANDARD
BEGIN:DAYLIGHT
TZOFFSETFROM:-0600
TZOFFSETTO:-0500
TZNAME:CDT
DTSTART:20260308T080000
END:DAYLIGHT
BEGIN:STANDARD
TZOFFSETFROM:-0500
TZOFFSETTO:-0600
TZNAME:CST
DTSTART:20261101T070000
END:STANDARD
END:VTIMEZONE
BEGIN:VEVENT
DTSTART;TZID=UTC:20250425T110000
DTEND;TZID=UTC:20250425T130000
DTSTAMP:20260424T114003
CREATED:20250405T231646Z
LAST-MODIFIED:20250405T231646Z
UID:26744-1745578800-1745586000@specialpals.org
SUMMARY:Low-Cost Shot Clinic April 25th
DESCRIPTION:Walk-ins only\, no appointment needed! \nOur walk-in low-cost shot clinic offers yearly vaccines\, preventative flea and heartworm medication\, heartworm testing\, and microchipping. \nWe are not a full-service vet and have a limited number of services. Please keep your pal safe by bringing them to our facility on a leash or in a carrier. \nThank you for your support!
URL:https://specialpals.org/event/low-cost-shot-clinic-april-25th/
LOCATION:Special Pals\, 3830 Greenhouse Rd.\, Houston\, 77084\, United States
ATTACH;FMTTYPE=image/png:https://specialpals.org/wp-content/uploads/7-e1706489058461.png
END:VEVENT
BEGIN:VEVENT
DTSTART;TZID=America/Chicago:20250425T150000
DTEND;TZID=America/Chicago:20250425T190000
DTSTAMP:20260424T114003
CREATED:20250424T201531Z
LAST-MODIFIED:20250424T201531Z
UID:26779-1745593200-1745607600@specialpals.org
SUMMARY:Pets Supplies Plus - Memorial
DESCRIPTION:Come meet adoptable dogs and cats at a special mobile adoption event at Pet Supplies Plus’ Memorial location.\nMake a day of it! This is a great spot for family fun with many shops and local restaurants nearby.\n\nWe will be collecting donations from our wishlist and will have plenty of t-shirts too!
URL:https://specialpals.org/event/pets-supplies-plus-memorial/
LOCATION:PSP Memorial\, 14056 Memorial Dr\, Houston\, TX\, 77079
ATTACH;FMTTYPE=image/jpeg:https://specialpals.org/wp-content/uploads/PSP-Mem.jpg
END:VEVENT
BEGIN:VEVENT
DTSTART;TZID=America/Chicago:20250425T170000
DTEND;TZID=America/Chicago:20250425T190000
DTSTAMP:20260424T114003
CREATED:20250421T211927Z
LAST-MODIFIED:20250421T211927Z
UID:26774-1745600400-1745607600@specialpals.org
SUMMARY:Orientations for Volunteer & Mobile Adoption Crew
DESCRIPTION:2 Orientations\, 1 Night\n\nInterested in volunteering for Special Pals? Join us for our Volunteer Orientation starting at 5:00. You’re also invited to join us for the Mobile Adoption Crew Orientation which will be immediately following.\nAlready a volunteer and want to help at our Adoption Events? Join us for our Mobile Adoption Crew Orientation at 6:00.\nLet’s join together to get these babies adopted and provide the love and care they need while they wait for their forever homes!
URL:https://specialpals.org/event/orientations-for-volunteer-mobile-adoption-crew/
LOCATION:Special Pals\, 3830 Greenhouse Rd.\, Houston\, 77084\, United States
ATTACH;FMTTYPE=image/jpeg:https://specialpals.org/wp-content/uploads/Mobile.jpg
END:VEVENT
BEGIN:VEVENT
DTSTART;TZID=America/Chicago:20250425T170000
DTEND;TZID=America/Chicago:20250425T200000
DTSTAMP:20260424T114003
CREATED:20250421T211449Z
LAST-MODIFIED:20250421T211449Z
UID:26768-1745600400-1745611200@specialpals.org
SUMMARY:We're Open Late Adoption Event!
DESCRIPTION:Don’t miss this exclusive opportunity to adopt your pup while we’re open late. We know that not everyone can make it during our normal hours\, so for ONE NIGHT ONLY\, we’re staying open late to give everyone a chance to find their furry best friend!
URL:https://specialpals.org/event/were-open-late-adoption-event/
LOCATION:Special Pals\, 3830 Greenhouse Rd.\, Houston\, 77084\, United States
ATTACH;FMTTYPE=image/jpeg:https://specialpals.org/wp-content/uploads/open-late.jpg
END:VEVENT
END:VCALENDAR