BEGIN:VCALENDAR
VERSION:2.0
PRODID:-//Special Pals - ECPv6.15.20//NONSGML v1.0//EN
CALSCALE:GREGORIAN
METHOD:PUBLISH
X-WR-CALNAME:Special Pals
X-ORIGINAL-URL:https://specialpals.org
X-WR-CALDESC:Events for Special Pals
REFRESH-INTERVAL;VALUE=DURATION:PT1H
X-Robots-Tag:noindex
X-PUBLISHED-TTL:PT1H
BEGIN:VTIMEZONE
TZID:UTC
BEGIN:STANDARD
TZOFFSETFROM:+0000
TZOFFSETTO:+0000
TZNAME:UTC
DTSTART:20230101T000000
END:STANDARD
END:VTIMEZONE
BEGIN:VEVENT
DTSTART;TZID=UTC:20240421T110000
DTEND;TZID=UTC:20240421T140000
DTSTAMP:20260425T094544
CREATED:20240411T100612Z
LAST-MODIFIED:20240411T100612Z
UID:20247-1713697200-1713708000@specialpals.org
SUMMARY:Adoption day at PetSmart
DESCRIPTION:Come meet adoptable dogs and cats at a special mobile adoption event at PetSmart. This is our first time having an event at this location so we would love your support.\n\nWe will be collecting donations from our wishlist and will have plenty of t-shirts too! Stop by and say hi.
URL:https://specialpals.org/event/adoption-day-at-petsmart-2/
LOCATION:PetSmart – Richmond\, 5574 W Gran Pkwy S\, Richmond\, TX\, 77406\, United States
ATTACH;FMTTYPE=image/png:https://specialpals.org/wp-content/uploads/Generic-Event-Posts.png
END:VEVENT
END:VCALENDAR