BEGIN:VCALENDAR
VERSION:2.0
PRODID:-//Special Pals - ECPv6.15.20//NONSGML v1.0//EN
CALSCALE:GREGORIAN
METHOD:PUBLISH
X-ORIGINAL-URL:https://specialpals.org
X-WR-CALDESC:Events for Special Pals
REFRESH-INTERVAL;VALUE=DURATION:PT1H
X-Robots-Tag:noindex
X-PUBLISHED-TTL:PT1H
BEGIN:VTIMEZONE
TZID:UTC
BEGIN:STANDARD
TZOFFSETFROM:+0000
TZOFFSETTO:+0000
TZNAME:UTC
DTSTART:20230101T000000
END:STANDARD
END:VTIMEZONE
BEGIN:VEVENT
DTSTART;TZID=UTC:20240413T110000
DTEND;TZID=UTC:20240413T140000
DTSTAMP:20260425T094557
CREATED:20240411T100240Z
LAST-MODIFIED:20240411T100240Z
UID:20239-1713006000-1713016800@specialpals.org
SUMMARY:Adoption Day at Nelson Water Gardens & Nursery
DESCRIPTION:Come meet adoptable dogs at a special mobile adoption event at Nelson Water Gardens & Nursery.\n\nWe will be collecting donations from our wishlist and will have plenty of t-shirts too! Stop by and say hi\, and show your support for Special Pals!
URL:https://specialpals.org/event/adoption-day-at-nelson-water-gardens-nursery/
LOCATION:Nelson\, 1502 Katy Fort Bend Rd\, Katy\, TX\, 77493\, United States
ATTACH;FMTTYPE=image/png:https://specialpals.org/wp-content/uploads/April-2024-Event-Posts.png
END:VEVENT
END:VCALENDAR